BEGIN:VCALENDAR
VERSION:2.0
PRODID:-//WBEC NY DMV - ECPv6.15.18//NONSGML v1.0//EN
CALSCALE:GREGORIAN
METHOD:PUBLISH
X-ORIGINAL-URL:https://wbecnydmv.org
X-WR-CALDESC:Events for WBEC NY DMV
REFRESH-INTERVAL;VALUE=DURATION:PT1H
X-Robots-Tag:noindex
X-PUBLISHED-TTL:PT1H
BEGIN:VTIMEZONE
TZID:America/New_York
BEGIN:DAYLIGHT
TZOFFSETFROM:-0500
TZOFFSETTO:-0400
TZNAME:EDT
DTSTART:20250309T070000
END:DAYLIGHT
BEGIN:STANDARD
TZOFFSETFROM:-0400
TZOFFSETTO:-0500
TZNAME:EST
DTSTART:20251102T060000
END:STANDARD
BEGIN:DAYLIGHT
TZOFFSETFROM:-0500
TZOFFSETTO:-0400
TZNAME:EDT
DTSTART:20260308T070000
END:DAYLIGHT
BEGIN:STANDARD
TZOFFSETFROM:-0400
TZOFFSETTO:-0500
TZNAME:EST
DTSTART:20261101T060000
END:STANDARD
BEGIN:DAYLIGHT
TZOFFSETFROM:-0500
TZOFFSETTO:-0400
TZNAME:EDT
DTSTART:20270314T070000
END:DAYLIGHT
BEGIN:STANDARD
TZOFFSETFROM:-0400
TZOFFSETTO:-0500
TZNAME:EST
DTSTART:20271107T060000
END:STANDARD
END:VTIMEZONE
BEGIN:VEVENT
DTSTART;TZID=America/New_York:20260604T130000
DTEND;TZID=America/New_York:20260604T140000
DTSTAMP:20260419T170436
CREATED:20260116T151026Z
LAST-MODIFIED:20260122T213113Z
UID:10001282-1780578000-1780581600@wbecnydmv.org
SUMMARY:I'm Certified\, Now What?
DESCRIPTION:Maximizing Your WBENC Certification\nJune 4th\, 2026 | 1pm to 2pm EST | Virtual Session\nIf you’re a newly certified WBE or would like to maximize your certification\, you don’t want to miss this!\nLearn more about the WBENC and WBEC Metro NY and Greater DMV network and opportunities.\nLearn how best to use and navigate WBENCLink2.0.\nMeet the WBEC Metro NY and Greater DMV Certification Team! \nReserve your spot today!\nClick here to register.
URL:https://wbecnydmv.org/event/im-certified-now-what-june2026/
LOCATION:Virtual
CATEGORIES:WBEC Metro NY and Greater DMV Events
END:VEVENT
BEGIN:VEVENT
DTSTART;VALUE=DATE:20260615
DTEND;VALUE=DATE:20260619
DTSTAMP:20260419T170436
CREATED:20260304T161412Z
LAST-MODIFIED:20260304T161412Z
UID:10001293-1781481600-1781827199@wbecnydmv.org
SUMMARY:2026 WBENC National Conference
DESCRIPTION:WBENC National Conference\nJoin us for the 2026 WBENC National Conference! \nJune 15 – 18\, 2026 | Salt Lake City\, Utah \nThe WBENC National Conference is a powerful gathering point for connection\, collaboration\, and growth across the network. Each year\, the WBENC National Conference creates opportunities to forge new relationships\, strengthen existing ones\, and share unforgettable experiences that drive impact and innovation. Join WBENC as it celebrates and carries out its mission. \nJoin Forces. Succeed Together. \nRegister Now!
URL:https://wbecnydmv.org/event/2026-wbenc-national-conference/
CATEGORIES:Partner Event
END:VEVENT
BEGIN:VEVENT
DTSTART;TZID=America/New_York:20260623T130000
DTEND;TZID=America/New_York:20260623T140000
DTSTAMP:20260419T170436
CREATED:20260318T165226Z
LAST-MODIFIED:20260318T165944Z
UID:10001297-1782219600-1782223200@wbecnydmv.org
SUMMARY:Why and How to Get Certified
DESCRIPTION:Why and How to Get Certified\nJune 23 | 1 to 2 pm EST | Virtual Session\nIf you’re a 51% women-owned or operated company\, you’re just a few steps away from becoming a WBENC-Certified women’s business enterprise (WBE)!  \nAt WBEC Metro NY & Greater DMV\, fueling local economic growth through the empowerment of women business owners is our primary mission. We provide WBENC certification—the gold standard in diversity certification—at the regional level and serve as an advocate for certified women-owned businesses by providing our WBEs with resources\, programming\, network opportunities\, and recognition.  \nDo you want access to supplier diversity and procurement opportunities\, networking events with like-minded women entrepreneurs\, leadership development programs\, and exclusive resources to grow and scale your business?  \nJoin us for a 1-hour webinar and learn why the benefits of Certification go far beyond a Certification seal and the steps you can take to start your Certification process right away.  \nIn this session\, you will gain a comprehensive understanding of WBENC Certification\, including its benefits\, eligibility criteria\, the application process\, and local opportunities within your region and the larger ecosystem.  \nYou’ll also have the opportunity to address your specific questions with our WBEC Metro NY and Greater DMV staff. Reserve your spot today! \n  \nClick Here to Register
URL:https://wbecnydmv.org/event/why-and-how-to-get-certified-27/
CATEGORIES:WBEC Metro NY and Greater DMV Events
END:VEVENT
END:VCALENDAR