BEGIN:VCALENDAR
VERSION:2.0
PRODID:-//WBEC NY DMV - ECPv6.15.18//NONSGML v1.0//EN
CALSCALE:GREGORIAN
METHOD:PUBLISH
X-WR-CALNAME:WBEC NY DMV
X-ORIGINAL-URL:https://wbecnydmv.org
X-WR-CALDESC:Events for WBEC NY DMV
REFRESH-INTERVAL;VALUE=DURATION:PT1H
X-Robots-Tag:noindex
X-PUBLISHED-TTL:PT1H
BEGIN:VTIMEZONE
TZID:America/New_York
BEGIN:DAYLIGHT
TZOFFSETFROM:-0500
TZOFFSETTO:-0400
TZNAME:EDT
DTSTART:20240310T070000
END:DAYLIGHT
BEGIN:STANDARD
TZOFFSETFROM:-0400
TZOFFSETTO:-0500
TZNAME:EST
DTSTART:20241103T060000
END:STANDARD
BEGIN:DAYLIGHT
TZOFFSETFROM:-0500
TZOFFSETTO:-0400
TZNAME:EDT
DTSTART:20250309T070000
END:DAYLIGHT
BEGIN:STANDARD
TZOFFSETFROM:-0400
TZOFFSETTO:-0500
TZNAME:EST
DTSTART:20251102T060000
END:STANDARD
BEGIN:DAYLIGHT
TZOFFSETFROM:-0500
TZOFFSETTO:-0400
TZNAME:EDT
DTSTART:20260308T070000
END:DAYLIGHT
BEGIN:STANDARD
TZOFFSETFROM:-0400
TZOFFSETTO:-0500
TZNAME:EST
DTSTART:20261101T060000
END:STANDARD
END:VTIMEZONE
BEGIN:VEVENT
DTSTART;TZID=America/New_York:20250206T130000
DTEND;TZID=America/New_York:20250206T140000
DTSTAMP:20260421T100449
CREATED:20250121T174559Z
LAST-MODIFIED:20250121T174700Z
UID:10001154-1738846800-1738850400@wbecnydmv.org
SUMMARY:Why and How to Get Certified
DESCRIPTION:Why and How to Get Certified \nFebruary 6th\, 2025 | 1pm EST | Virtual Session\n  \nIf you’re a 51% women-owned or operated company\, you’re just a few steps away from becoming a WBENC-Certified women’s business enterprise (WBE)! \nAt WBEC Metro NY & Greater DMV\, fueling local economic growth through the empowerment of women business owners is our primary mission. We provide WBENC certification—the gold standard in diversity certification—at the regional level and serve as an advocate for certified women-owned businesses by providing our WBEs with resources\, programming\, network opportunities\, and recognition. \nDo you want access to supplier diversity and procurement opportunities\, networking events with like-minded women entrepreneurs\, leadership development programs\, and exclusive resources to grow and scale your business? \nJoin us for a 1-hour webinar and learn why the benefits of Certification go far beyond a Certification seal and the steps you can take to start your Certification process right away. \nIn this session\, you will gain a comprehensive understanding of WBENC Certification\, including its benefits\, eligibility criteria\, the application process\, and local opportunities within your region and the larger ecosystem. \nYou’ll also have the opportunity to address your specific questions with our WBEC Metro NY and Greater DMV staff. \nReserve your spot today! \nClick here to register.\nThe Women’s Business Enterprise National Council’s (WBENC) mission is to fuel economic growth globally by identifying\, certifying\, and facilitating the development of women-owned businesses. They work to accomplish this by focusing on their CORE platform — Certification\, Opportunities\, Resources\, and Engagement.
URL:https://wbecnydmv.org/event/why-and-how-to-get-certified-14/
CATEGORIES:WBEC Metro NY and Greater DMV Events
END:VEVENT
BEGIN:VEVENT
DTSTART;TZID=America/New_York:20250211T080000
DTEND;TZID=America/New_York:20250213T170000
DTSTAMP:20260421T100449
CREATED:20250117T164548Z
LAST-MODIFIED:20250117T164548Z
UID:10001153-1739260800-1739466000@wbecnydmv.org
SUMMARY:America’s Seed Fund Week – 2025 Virtual Road Tour
DESCRIPTION:America’s Seed Fund Week – 2025 Virtual Road Tour\n \nThe U.S. Small Business Administration is thrilled to announce that America’s Seed Fund Week 2025 will take place February 11-13\, 2025\, and serves as the official kick off for the 2025 SBIR/STTR Road Tour Program. This free online event connects entrepreneurs across the nation working on advanced technologies and the organizations that support them to America’s Seed Fund\, the country’s largest source of early-stage funding through the Small Business Innovation Research (SBIR) and Small Business Technology Transfer (STTR) programs. \nClick to register!
URL:https://wbecnydmv.org/event/americas-seed-fund-week-2025-virtual-road-tour/
CATEGORIES:Partner Event
END:VEVENT
BEGIN:VEVENT
DTSTART;TZID=America/New_York:20250211T100000
DTEND;TZID=America/New_York:20250211T160000
DTSTAMP:20260421T100449
CREATED:20250127T171502Z
LAST-MODIFIED:20250127T171502Z
UID:10001162-1739268000-1739289600@wbecnydmv.org
SUMMARY:DC Water-Collaborative Delivery Workshop
DESCRIPTION:DC Water-Collaborative Delivery Workshop\n \nClick to register!
URL:https://wbecnydmv.org/event/dc-water-collaborative-delivery-workshop/
CATEGORIES:Partner Event
END:VEVENT
BEGIN:VEVENT
DTSTART;TZID=America/New_York:20250211T120000
DTEND;TZID=America/New_York:20250211T130000
DTSTAMP:20260421T100449
CREATED:20250116T172819Z
LAST-MODIFIED:20250116T173009Z
UID:10001152-1739275200-1739278800@wbecnydmv.org
SUMMARY:Lunch With the Experts: Building a Marketing Strategy for Small Businesses
DESCRIPTION:Lunch with the Experts: Building a Marketing Strategy for Small Businesses\nTuesday February 11th\, 2025 | 12pm to 1pm ET | Virtual Session\n\n   \nJoin WBEC Metro NY and SMB Media Consulting for a Lunch With the Experts session that will empower small businesses to navigate the digital landscape and achieve their marketing goals. Participants willearn how to define your target audience\, set clear objectives\, and leverage various digital channels like social media\, email marketing\, and paid advertising. \nMaster website optimization\, content creation\, and analytics to drive growth and success in the digital age. \n \n \nStefanie Beach\, Founder & CEO \nStefanie Beach\, a digital marketing expert\, founded SMB Media Consulting in 2018 with the mission to provide simple media solutions and services that alleviate the stressors of a marketer’s job. After a 12-year digital media career managing programmatic account teams\, Stefanie desired to work outside the confined structure of a standard 9-5 job to be a more present parent to her daughter. Unable to source this opportunity led to the creation of SMB Media Consulting\, which provides flexible employment to experienced digital marketers and digital media talent solutions that seamlessly integrate within brands\, agencies\, and publishers. As an award-winning founder and CEO of SMB Media Consulting\, Stefanie focuses on building strong client partnerships and managing all business operations. In 2022\, Stevie® Awards for Women in Business named Stefanie Beach winner of the Bronze Female Executive of the Year in the Business Services category\, the Village of Pelham named SMB Media Consulting “Best of” in the category of Media Consultant\, and SMB Media was WBENC certified as a woman-owned business. In 2023\, SMB Media ranked 377 on the Inc. 5000 award list for the fastest-growing private companies in America. In 2024\, Stefanie won an Enterprising Women of the Year Award for her company’s growth\, involvement in the community and volunteering time as an industry mentor. \nBefore SMB Media Consulting\, Stefanie held leadership positions at PubMatic\, MediaMath\, Conversant\, House of Kaizen\, and Initiative. Stefanie regularly speaks at events and continues to train and mentor others about the evolving ad tech industry. Outside of SMB Media Consulting\, the best part of her day is when she is making memories with her daughter and husband\, whether that be traveling\, being active\, or exploring new recipes to cook. \nClick to register!
URL:https://wbecnydmv.org/event/lunch-with-the-experts-building-a-marketing-strategy-for-small-businesses/
CATEGORIES:Lunch with the Experts,WBEC Metro NY Events
END:VEVENT
BEGIN:VEVENT
DTSTART;TZID=America/New_York:20250212T093000
DTEND;TZID=America/New_York:20250212T113000
DTSTAMP:20260421T100449
CREATED:20250129T191546Z
LAST-MODIFIED:20250129T191746Z
UID:10001164-1739352600-1739359800@wbecnydmv.org
SUMMARY:Unlock New Business Opportunities at IAD Concourse E – Tier 2 East
DESCRIPTION:Unlock New Business Opportunities at IAD Concourse E – Tier 2 East\n \nHosted by Fraport Washington Partnership and the Metropolitan Washington Airports Authority \nUnlock New Business Opportunities at IAD Concourse E – Tier 2 East\n???? Date: February 12\, 2025\n⏰ Time: 9:30 AM – 11:30 AM\n???? Location: Washington Dulles International Airport (IAD)\nMain Terminal – East Ground Transportation Center \nJoin us to explore 15 exceptional food\, beverage\, and retail leasing opportunities in the state-of-the-art Concourse E – Tier 2 East at Washington Dulles International Airport. \nWho Should Attend:\nRetail business owners\nLocal entrepreneurs\nExisting airport tenants\nPotential leasing partners \nDon’t miss this exclusive chance to expand your business in a dynamic and high-traffic environment. We look forward to welcoming you! \n 
URL:https://wbecnydmv.org/event/unlock-new-business-opportunities-at-iad-concourse-e-tier-2-east/
CATEGORIES:Partner Event
END:VEVENT
BEGIN:VEVENT
DTSTART;TZID=America/New_York:20250218T120000
DTEND;TZID=America/New_York:20250218T130000
DTSTAMP:20260421T100449
CREATED:20250107T220619Z
LAST-MODIFIED:20250107T221047Z
UID:10001149-1739880000-1739883600@wbecnydmv.org
SUMMARY:Lunch with the Experts: Established to Known®
DESCRIPTION:  \nLunch with the Experts: Established to Known®\nTuesday\, February 18th 2025\n12:00pm–1:00pm ET \n \n  \nDo you feel like your business is the world’s best-kept secret? This session is designed to help you go from established to well-known by leveraging the power of media. Join renowned PR Strategist Christina Daves as she shares her proven techniques to increase your visibility\, build authority\, and gain the credibility you deserve within your industry.\nDuring this session\, Christina will guide you through her signature Get PR Famous® formula—a framework that has helped thousands of entrepreneurs secure over 1 billion media views and generate more than $100 million in sales through free publicity. You’ll learn how to craft the perfect pitch for what the media is looking for\, when they need it\, and how to ensure your pitch reaches the right person for maximum impact. \n \nChristina Daves\, Owner of PR for Anyone® \nChristina will also uncover the common mistakes people make when pitching to media and show you exactly why you might not be getting that “yes.” Whether you’re just starting out or are seasoned business owner\, Christina will dispel the myths about media readiness and prove that media exposure is accessible at any stage of your business. Christina’s expertise comes from firsthand experience\, as she initially taught herself how to generate media exposure for her product\, Heal in Style. Her efforts have led to appearances in over 1\,000 media outlets including The Steve Harvey Show\, The TODAY Show\, Dr. Oz\, and major networks such as NBC\, ABC\, CBS\, and FOX\, as well as in Forbes\, Success\, Entrepreneur Magazine\, and many more. She regularly contributes to Good Day DC\, has served as a host on Good Morning Washington\, and even appears as a guest host on QVC while running her podcast\, Living Ageless and Bold. Her passion for empowering small business owners inspired her to create PR for Anyone®\, a platform dedicated to helping others achieve the same success. \n\nClick to register!
URL:https://wbecnydmv.org/event/lunch-with-the-experts-established-to-known/
CATEGORIES:Lunch with the Experts,WBEC Greater DMV Events
END:VEVENT
BEGIN:VEVENT
DTSTART;TZID=America/New_York:20250220T130000
DTEND;TZID=America/New_York:20250220T140000
DTSTAMP:20260421T100449
CREATED:20250121T175541Z
LAST-MODIFIED:20250207T164257Z
UID:10001158-1740056400-1740060000@wbecnydmv.org
SUMMARY:I'm Certified\, Now What?
DESCRIPTION:Maximizing Your WBENC Certification\nFebruary 20th\, 2025 | 1pm to 2pm EST | Virtual Session\n  \nWBENC Certification can be an amazing tool to help open doors and uncover business opportunities to take you from where you are to where you want to be. To fully unlock the extensive benefits of the WBENC network\, we highly encourage you to take advantage of the opportunities and resources available to you – both locally and nationally. Attend this session to learn more about the core components of our network and the steps you can take today to make the most out of your certification. Participation is recommended for all newly certified and recertified WBEs\, as well as WBEs who wants to stay up to date on what’s happening in the network. \nAfter registering\, you will receive a confirmation email containing information about joining the meeting. \nReserve your spot today!\nClick here to register.
URL:https://wbecnydmv.org/event/wbec-metro-ny-and-greater-dmv-im-certified-now-what-16/
CATEGORIES:WBEC Metro NY and Greater DMV Events
END:VEVENT
END:VCALENDAR