BEGIN:VCALENDAR
VERSION:2.0
PRODID:-//WBEC NY DMV - ECPv6.15.18//NONSGML v1.0//EN
CALSCALE:GREGORIAN
METHOD:PUBLISH
X-ORIGINAL-URL:https://wbecnydmv.org
X-WR-CALDESC:Events for WBEC NY DMV
REFRESH-INTERVAL;VALUE=DURATION:PT1H
X-Robots-Tag:noindex
X-PUBLISHED-TTL:PT1H
BEGIN:VTIMEZONE
TZID:America/New_York
BEGIN:DAYLIGHT
TZOFFSETFROM:-0500
TZOFFSETTO:-0400
TZNAME:EDT
DTSTART:20220313T070000
END:DAYLIGHT
BEGIN:STANDARD
TZOFFSETFROM:-0400
TZOFFSETTO:-0500
TZNAME:EST
DTSTART:20221106T060000
END:STANDARD
BEGIN:DAYLIGHT
TZOFFSETFROM:-0500
TZOFFSETTO:-0400
TZNAME:EDT
DTSTART:20230312T070000
END:DAYLIGHT
BEGIN:STANDARD
TZOFFSETFROM:-0400
TZOFFSETTO:-0500
TZNAME:EST
DTSTART:20231105T060000
END:STANDARD
BEGIN:DAYLIGHT
TZOFFSETFROM:-0500
TZOFFSETTO:-0400
TZNAME:EDT
DTSTART:20240310T070000
END:DAYLIGHT
BEGIN:STANDARD
TZOFFSETFROM:-0400
TZOFFSETTO:-0500
TZNAME:EST
DTSTART:20241103T060000
END:STANDARD
END:VTIMEZONE
BEGIN:VEVENT
DTSTART;TZID=America/New_York:20230905T120000
DTEND;TZID=America/New_York:20230905T130000
DTSTAMP:20260425T084724
CREATED:20230405T140431Z
LAST-MODIFIED:20230906T141035Z
UID:10000869-1693915200-1693918800@wbecnydmv.org
SUMMARY:I’m Certified\, Now What?
DESCRIPTION:“I’m Certified\, Now What?”\nMaximizing Your WBENC Certification\nIf you’re a newly certified WBE or would like to maximize your certification\, you don’t want to miss this!\nLearn more about the WBENC and WBEC Metro NY network and opportunities\nLearn how best to use and navigate WBENCLink2.0\nMeet the WBEC Metro NY Certification Team \nRegister in advance for this meeting:\nhttps://us02web.zoom.us/meeting/register/tZIsdeugqDwqGdc53D8ixnWEVlRiUSrFQjh3\nAfter registering\, you will receive a confirmation email containing information about joining the meeting.
URL:https://wbecnydmv.org/event/im-certified-now-what/2023-09-05/
CATEGORIES:WBEC Metro NY and Greater DMV Events
END:VEVENT
BEGIN:VEVENT
DTSTART;TZID=America/New_York:20230911T143000
DTEND;TZID=America/New_York:20230911T143000
DTSTAMP:20260425T084724
CREATED:20230405T135027Z
LAST-MODIFIED:20230906T140749Z
UID:10000924-1694442600-1694442600@wbecnydmv.org
SUMMARY:Why Get WBENC Certified
DESCRIPTION:Do you want: Access to supplier diversity and procurement executives?\nAccess to networking events\, mentoring\, executive education\, capacity development programs\, and other business tools and resources?\nIf you are wondering about the benefits of becoming a certified women-owned business\, wonder no more – start today in learning about the process\, requirements and how the benefits go far beyond a certification seal.\nJoin us for Part One of our How and Why to Get WBENC Certified webinar series to learn about WBENC certification and the many benefits of being part of this ecosystem. \nRegister in advance for this meeting:\nhttps://us02web.zoom.us/meeting/register/tZcud–uqDsiGNdtfSic922mS2WVMlT51jRB \nThe Women’s Business Enterprise National Council’s (WBENC) mission is to fuel economic growth globally by identifying\, certifying\, and facilitating the development of women-owned businesses. They work to accomplish this by focusing on their CORE platform — Certification\, Opportunities\, Resources\, and Engagement.
URL:https://wbecnydmv.org/event/why-get-wbenc-certified/2023-09-11/
CATEGORIES:WBEC Metro NY and Greater DMV Events
END:VEVENT
BEGIN:VEVENT
DTSTART;TZID=America/New_York:20230914T180000
DTEND;TZID=America/New_York:20230914T200000
DTSTAMP:20260425T084724
CREATED:20230621T142944Z
LAST-MODIFIED:20230807T200206Z
UID:10000902-1694714400-1694721600@wbecnydmv.org
SUMMARY:Metro NY Celebrating Our Partners Reception
DESCRIPTION:Our 2023 Celebrating Our Partners Reception is a special evening held in honor and recognition of our Corporate Partners and their Supplier Diversity Teams\, and WBEC Metro NY’s incredible WBEs. \nIt’s an opportunity for us to get together to network and acknowledge the extraordinary contributions and achievements you’ve all made throughout the year\, as well as enjoy delicious food and drinks. \nWe can’t wait to celebrate with you! Registration is open now.\nTicket Prices\nAnnual Awards Breakfast\n\nWBE Certified: $150\nCorp/Non-WBE: $175\n\nAnnual Awards Breakfast and Celebrating Our Partners Reception\n\nWBE Certified: $190\nCorp/Non-WBE: $240\n\nTickets are nonrefundable.
URL:https://wbecnydmv.org/event/metro-ny-celebrating-our-partners-reception-2023/
LOCATION:The Mandarin Oriental Hotel\, 80 Columbus Circle\, New York\, 10023
CATEGORIES:WBEC Metro NY Events
END:VEVENT
BEGIN:VEVENT
DTSTART;TZID=America/New_York:20230915T080000
DTEND;TZID=America/New_York:20230915T123000
DTSTAMP:20260425T084724
CREATED:20230621T144350Z
LAST-MODIFIED:20230807T200204Z
UID:10000903-1694764800-1694781000@wbecnydmv.org
SUMMARY:Metro NY Annual Awards and Breakthrough Breakfast
DESCRIPTION:Our 2023 Annual Awards Breakthrough Breakfast is our premier gathering where we bring together our Corporate Partners\, Supplier Diversity Teams\, and WBEs for an informative\, energizing\, and celebratory morning of programming and networking\, culminating with the presentation of our WBEC Metro NY Outstanding Partner and Done Deals™ Awards. \nRegistration is open now. It’s an event you don’t want to miss!\nTicket Prices\nAnnual Awards Breakfast\n\nWBE Certified: $150\nCorp/Non-WBE: $175\n\nAnnual Awards Breakfast and Celebrating Our Partners Reception\n\nWBE Certified: $190\nCorp/Non-WBE: $240\n\nTickets are nonrefundable.
URL:https://wbecnydmv.org/event/metro-ny-annual-awards-and-breakthrough-breakfast-2023/
LOCATION:The Plaza Hotel\, 5th Ave @ Central Park South\, New York\, NY\, 10019\, United States
CATEGORIES:WBEC Metro NY Events
END:VEVENT
BEGIN:VEVENT
DTSTART;TZID=America/New_York:20230919T130000
DTEND;TZID=America/New_York:20230919T130000
DTSTAMP:20260425T084724
CREATED:20230804T165830Z
LAST-MODIFIED:20230914T141958Z
UID:10000923-1695128400-1695128400@wbecnydmv.org
SUMMARY:Lunch With the Experts: Is Your Website and Digital Content Accessible to Everyone including People with Disabilities? Why It Matters and What Everyone Needs to Know
DESCRIPTION:Lunch with the Experts: Is Your Website and Digital Content Accessible to Everyone including People with Disabilities? Why It Matters and What Everyone Needs to Know\nTuesday\, September 19th\, 2023\n1pm ET \n  \n \n  \nHow do you stay compliant with Accessibility Law? How can you increase the reach of your business to underserved communities? Please join WBEC Metro New York and WBE\, Results One LLC\, for an in-depth workshop to understand why website accessibility matters\, assistive technologies\, and accessibility law. Kimberley Alfonso Green\, co-founder and Chief Executive Officer\, will be offering a free automated website audit to learn if it is accessible to people with disabilities and free thirty minute consultation for attendees. \nDue to COVID-19\, many people have come to rely on digital services for everyday activities\, including shopping\, remote work\, education\, healthcare\, and banking. Roughly 1 out of 4 people (27%)  in the U.S. (over 90 million) live with a disability\, making people with a disability our nation’s  largest minority population. Technology is now more relevant and important to people with disabilities for information\, education\, resources\, products\, services and employment\, etc. We have seen an exponential growth in web accessibility lawsuits (300% every year for the past couple of years) which has had a widespread effect across industries\, with small and medium businesses in the center of the storm. \nTitle III of the Americans with Disabilities Act (ADA) requires that every owner\, lessor\, or operator of place of public accommodation” provide equal access to users who meet ADA standards for disability.  An increasing number of courts have been ruling that websites are “places of public accommodation” and that owners and operators of websites are liable for failing to provide equal access to them .Website accessibility should be top of mind for all businesses across the United States face lawsuits that cost\, on average\, more than- $20\,000 to settle. \nYes\, website ADA compliance is required by law\, but like stopping at a stop sign or buckling your seatbelt\, it’s also the right and responsible  thing to do. It will also increase your reach\, expand your market\, increase your SEO and improve your brand reputation \n  \nKim Greenfield Alfonso\, MBA\, is a co-founder and Chief Executive Officer of Results One LLC\, a certified minority and women-owned small business located in Washington\, DC. Results One works with organizations to assist them in creating an environment that embodies Diversity\, Equity\, Inclusion\, and Accessibility. Results One provides DEI Training\, Disability Inclusion consulting and training\, Mediation Services\, and Digital Accessibility testing and training tailored to the specific workplace and industry. Kim brings over 30 years of experience and knowledge in working with public\, private\, state\, local and federal governments in the Washington\, DC Region. After a successful career in the nonprofit and corporate arena\, Kim is passionate about and committed to working with nonprofits\, corporations\, and state\, local and federal governments to create a work environment that embraces diversity\, equity\, inclusion\, and accessibility.  Kim knows that a diverse workforce is critical to the success of all organizations\, and inclusion and accessibility are the cornerstones of a productive environment. Her advice is sought out as an expert in disability and accessibility as she brings over 30 years of professional and personal experiences and knowledge to the table. She is a fierce advocate for people with disabilities\, especially since her daughter is visually impaired\, and has served on numerous boards and committees nationally and locally advocating for people with disabilities. Kim obtained both a bachelor’s in economics from the Wharton School of the University of Pennsylvania and a master’s degree in Business Administration (MBA) from Northwestern University’s J.L. Kellogg Graduate School of Management. A strong proponent of women’s rights and the disability community\, she was selected as one of the “Women Who Mean Business” by the Washington Business Journal in 2014 and received the Mayor’s Washington Women of Excellence Award in Leadership in 2015. She was also provided the Humanitarian Award by the Metro DC Hispanic Contractors Association for her work as Founder of the “Closing the Gap Food Insecurity Program for Undocumented Immigrants”.  \n  \nRegister in advance for this meeting: \nhttps://us02web.zoom.us/meeting/register/tZMoceuhrzssHtXcYCIKT00M-rdS261vHKmf
URL:https://wbecnydmv.org/event/lunch-with-the-experts-is-your-website-and-digital-content-accessible-to-everyone-including-people-with-disabilities-why-it-matters-and-what-everyone-needs-to-know/
CATEGORIES:Lunch with the Experts,WBEC Metro NY Events
END:VEVENT
BEGIN:VEVENT
DTSTART;TZID=America/New_York:20230928T143000
DTEND;TZID=America/New_York:20230928T143000
DTSTAMP:20260425T084724
CREATED:20230601T141714Z
LAST-MODIFIED:20230922T202418Z
UID:10000929-1695911400-1695911400@wbecnydmv.org
SUMMARY:How to Get WBENC Certified
DESCRIPTION:If you’re a 51% women-owned or operated company\, you’re just a few steps away from becoming a WBENC-Certified women’s business enterprise (WBE)!\nDon’t let concerns about the process deter you! Tens of thousands of WBENC-Certified WBEs shout from the rooftops that the process is incredibly worth unlocking all of the benefits. And don’t you want a certification that PROVES you are open for business and truly 51% women owned\, managed and operated? We bet you do!\nJoin us for Part Two of our How and Why to Get WBENC Certified webinar series to learn about the certification application process and documentation needed to get WBENC certified. \nRegister in Advance for this meeting:\nhttps://us02web.zoom.us/meeting/register/tZ0rde2orDosE9STClIrfLovYTqZkzu9iH_G \nThe Women’s Business Enterprise National Council’s (WBENC) mission is to fuel economic growth globally by identifying\, certifying\, and facilitating the development of women-owned businesses. They work to accomplish this by focusing on their CORE platform — Certification\, Opportunities\, Resources\, and Engagement.
URL:https://wbecnydmv.org/event/how-to-get-wbenc-certified-2/2023-09-28/
CATEGORIES:WBEC Metro NY and Greater DMV Events
END:VEVENT
END:VCALENDAR