BEGIN:VCALENDAR
VERSION:2.0
PRODID:-//WBEC NY DMV - ECPv6.15.18//NONSGML v1.0//EN
CALSCALE:GREGORIAN
METHOD:PUBLISH
X-ORIGINAL-URL:https://wbecnydmv.org
X-WR-CALDESC:Events for WBEC NY DMV
REFRESH-INTERVAL;VALUE=DURATION:PT1H
X-Robots-Tag:noindex
X-PUBLISHED-TTL:PT1H
BEGIN:VTIMEZONE
TZID:America/New_York
BEGIN:DAYLIGHT
TZOFFSETFROM:-0500
TZOFFSETTO:-0400
TZNAME:EDT
DTSTART:20220313T070000
END:DAYLIGHT
BEGIN:STANDARD
TZOFFSETFROM:-0400
TZOFFSETTO:-0500
TZNAME:EST
DTSTART:20221106T060000
END:STANDARD
BEGIN:DAYLIGHT
TZOFFSETFROM:-0500
TZOFFSETTO:-0400
TZNAME:EDT
DTSTART:20230312T070000
END:DAYLIGHT
BEGIN:STANDARD
TZOFFSETFROM:-0400
TZOFFSETTO:-0500
TZNAME:EST
DTSTART:20231105T060000
END:STANDARD
BEGIN:DAYLIGHT
TZOFFSETFROM:-0500
TZOFFSETTO:-0400
TZNAME:EDT
DTSTART:20240310T070000
END:DAYLIGHT
BEGIN:STANDARD
TZOFFSETFROM:-0400
TZOFFSETTO:-0500
TZNAME:EST
DTSTART:20241103T060000
END:STANDARD
END:VTIMEZONE
BEGIN:VEVENT
DTSTART;TZID=America/New_York:20230302T140000
DTEND;TZID=America/New_York:20230302T150000
DTSTAMP:20260425T211042
CREATED:20230227T143859Z
LAST-MODIFIED:20230227T143859Z
UID:10000843-1677765600-1677769200@wbecnydmv.org
SUMMARY:Preparing for the WBENC National Conference
DESCRIPTION:Preparing for the WBENC National Conference\nThursday March 2\, 2023\n2:00pm – 3:00pm ET\nPitching\, Matchmaking and Networking experts will share and answer your questions to help you maximize and leverage opportunities to get the most out of your national conference experience. \nThe panel will inform WBEs on what to expect at the conference and how to prepare. Darlene Fuller\, Senior Director of Supplier Diversity at Sodexo will discuss how best to interact with corporate members. Our 2023 Greater DMV WBENC Star Liz Whitehead\, CEO and Founder of 12PointFive will share how to update your business materials and prepare for the conference. Savannah Mitchell\, Owner of Sunday Morning Roast\, will discuss tips for first time WBENC conference attendees. \nPlease join us for this community and knowledge building time. \nRegister in advance for this Meeting \n  \nPanel\nDarlene Fuller\, Senior Director of Supplier Diversity at Sodexo \n2023 Greater DMV WBENC Star Liz Whitehead\, CEO and Founder of 12PointFive \nSavannah Mitchell\, Owner of Sunday Morning Roast
URL:https://wbecnydmv.org/event/preparing-for-the-wbenc-national-conference/
CATEGORIES:WBEC Metro NY and Greater DMV Events
END:VEVENT
BEGIN:VEVENT
DTSTART;TZID=America/New_York:20230314T090000
DTEND;TZID=America/New_York:20230314T140000
DTSTAMP:20260425T211042
CREATED:20230221T155624Z
LAST-MODIFIED:20230221T155624Z
UID:10000842-1678784400-1678802400@wbecnydmv.org
SUMMARY:2023 Small Business Symposium
DESCRIPTION:Come join us for a free\, half day conference to include educational sessions to help grow your business \nOpening remarks from Mayor Rick West \nFor more information\, please view our informational flyer \nTuesday\, March 14th\n9:00 am – 2:00 pm\nLocation: \nChesapeake Conference Center \n700 Conference Center Drive \nChesapeake\, VA 23320 \nSpeakers and vendors will include: \nVirginia Department of Small Business and Supplier Diversity \nCity of Chesapeake \nDollar Bank \nVirginia Procurement Technical Center \neVA \n& more \nFor additional information\, please contact Kerstin Plarr \n(757) 382-8040 \nkplarr@cityofchesapeake.net \nRSVP Here
URL:https://wbecnydmv.org/event/2023-small-business-symposium/
LOCATION:Chesapeake Conference Center\, 700 Conference Center Drive\, Chesapeake\, VA\, 23320\, United States
CATEGORIES:WBEC Greater DMV Events
END:VEVENT
BEGIN:VEVENT
DTSTART;TZID=America/New_York:20230315T140000
DTEND;TZID=America/New_York:20230315T150000
DTSTAMP:20260425T211042
CREATED:20230227T144636Z
LAST-MODIFIED:20230227T145250Z
UID:10000844-1678888800-1678892400@wbecnydmv.org
SUMMARY:Why and How to Get WBENC Certified
DESCRIPTION:Join\n \nWhy and How to Get WBENC Certified\nWednesday\, March 15\, 2023\n2:00pm – 3:00pm ET\nLearn about the benefits of joining the largest national network of women owned businesses. Get an inside look at the WBENC certification process. \nThe Women’s Business Enterprise National Council’s (WBENC) mission is to fuel economic growth globally by identifying\, certifying\, and facilitating the development of women-owned businesses. They work to accomplish this by focusing on their CORE platform — Certification\, Opportunities\, Resources\, and Engagement. \nRegister in advance for this Meeting\nAfter registering\, you will receive a confirmation email containing information about joining the meeting.
URL:https://wbecnydmv.org/event/why-and-how-to-get-wbenc-certified/
CATEGORIES:WBEC Metro NY and Greater DMV Events
END:VEVENT
BEGIN:VEVENT
DTSTART;VALUE=DATE:20230320
DTEND;VALUE=DATE:20230324
DTSTAMP:20260425T211042
CREATED:20221028T142911Z
LAST-MODIFIED:20230221T155637Z
UID:10000840-1679270400-1679615999@wbecnydmv.org
SUMMARY:2023 WBENC National Conference
DESCRIPTION:Join us in Nashville\, TN\, for the 2023 WBENC National Conference taking place March 20-23\, 2023\, at the Gaylord Opryland Resort & Convention Center. WBENC and WBEC Metro NY & Greater DMV\, along with our 2023 National Conference Co-Chairs\, Bristol Myers Squibb\, DuPont\, EY\, Nissan Group of the Americas\, Inc.\, Ampcus Inc.\, The ActOne Group\, CSS Building Services\, and M. Davis & Sons\, Inc.\, look forward to connecting again in person\, continuing to build momentum in the network\, identifying innovative best practices\, learning industry trends and celebrating accomplishments by our WBEs and Corporate Members that further a diverse supply chain and grow business opportunities for women entrepreneurs. \n\nWBENC Site Registration page: https://www.wbenc.org/conference/about/\n2023 National Conference & Business Fair website: https://www.wbenc.org/conference/\n\nWhat is the WBENC National Conference?\nThe Women’s Business Enterprise National Council (WBENC) provides the gold standard certification for women-owned businesses\, and the professional development\, tools and resources to help them succeed. \nEach year\, our dynamic and diverse network comes together to fuel opportunities for women entrepreneurs. The WBENC National Conference is the largest event of its kind for women business owners\, welcoming thousands of women entrepreneurs and corporate executives ready to make connections and do business. \nThe 2023 National Conference will feature: \n\nAn unrivaled Industry-Organized Expo\nProcurement-Oriented Meet & Greets\nIndustry-Focused Workshops\nEngaging General Sessions\nEntertaining Evening Receptions\nCelebrations & fun\nCOUNTLESS networking opportunities
URL:https://wbecnydmv.org/event/2023-wbenc-national-conference/
LOCATION:Gaylord Opryland Resort & Convention Center\, 2800 Opryland Drive\, Nashville\, TN\, 37214\, United States
CATEGORIES:WBEC Metro NY and Greater DMV Events
END:VEVENT
BEGIN:VEVENT
DTSTART;TZID=America/New_York:20230329T140000
DTEND;TZID=America/New_York:20230329T150000
DTSTAMP:20260425T211042
CREATED:20230227T145126Z
LAST-MODIFIED:20230227T145403Z
UID:10000845-1680098400-1680102000@wbecnydmv.org
SUMMARY:Why and How to Get WBENC Certified
DESCRIPTION:Join\n \nWhy and How to Get WBENC Certified\nWednesday\, March 29\, 2023\n2:00pm – 3:00pm ET\nLearn about the benefits of joining the largest national network of women owned businesses. Get an inside look at the WBENC certification process. \nThe Women’s Business Enterprise National Council’s (WBENC) mission is to fuel economic growth globally by identifying\, certifying\, and facilitating the development of women-owned businesses. They work to accomplish this by focusing on their CORE platform — Certification\, Opportunities\, Resources\, and Engagement. \nRegister in advance for this Meeting\nAfter registering\, you will receive a confirmation email containing information about joining the meeting.
URL:https://wbecnydmv.org/event/why-and-how-to-get-wbenc-certified-2/
CATEGORIES:WBEC Metro NY and Greater DMV Events
END:VEVENT
BEGIN:VEVENT
DTSTART;TZID=America/New_York:20230330T140000
DTEND;TZID=America/New_York:20230330T150000
DTSTAMP:20260425T211042
CREATED:20230307T153904Z
LAST-MODIFIED:20230307T153904Z
UID:10000846-1680184800-1680188400@wbecnydmv.org
SUMMARY:ChallengeHER Webinar: State of the WOSB Set Aside Program
DESCRIPTION:State of the WOSB Set Aside Program\nThursday\, March 30\, 2023\n2pmET | 1pmCT | 11amPT\nIn honor of Women’s History\, this ChallengeHER Webinar features a conversation with:  \nAlisa Sheard \nWOSB Federal Contract Program Director \nDeputy Director\, Office of Government Contracting \nU.S. Small Business Administration \nTo discuss the state of the WOSB Set Aside program and to answer any questions you might have.  \nThis conversation is moderated by Candace Waterman\, President / CEO\, Women Impacting Public Policy.  \nIf you have questions you would like to have answered on this chat\, please email ChallengeHER@wipp.org! \nRegister
URL:https://wbecnydmv.org/event/challengeher-webinar-state-of-the-wosb-set-aside-program/
CATEGORIES:WBEC Metro NY and Greater DMV Events
END:VEVENT
END:VCALENDAR