BEGIN:VCALENDAR
VERSION:2.0
PRODID:-//WBEC NY DMV - ECPv6.15.18//NONSGML v1.0//EN
CALSCALE:GREGORIAN
METHOD:PUBLISH
X-ORIGINAL-URL:https://wbecnydmv.org
X-WR-CALDESC:Events for WBEC NY DMV
REFRESH-INTERVAL;VALUE=DURATION:PT1H
X-Robots-Tag:noindex
X-PUBLISHED-TTL:PT1H
BEGIN:VTIMEZONE
TZID:America/New_York
BEGIN:DAYLIGHT
TZOFFSETFROM:-0500
TZOFFSETTO:-0400
TZNAME:EDT
DTSTART:20240310T070000
END:DAYLIGHT
BEGIN:STANDARD
TZOFFSETFROM:-0400
TZOFFSETTO:-0500
TZNAME:EST
DTSTART:20241103T060000
END:STANDARD
BEGIN:DAYLIGHT
TZOFFSETFROM:-0500
TZOFFSETTO:-0400
TZNAME:EDT
DTSTART:20250309T070000
END:DAYLIGHT
BEGIN:STANDARD
TZOFFSETFROM:-0400
TZOFFSETTO:-0500
TZNAME:EST
DTSTART:20251102T060000
END:STANDARD
BEGIN:DAYLIGHT
TZOFFSETFROM:-0500
TZOFFSETTO:-0400
TZNAME:EDT
DTSTART:20260308T070000
END:DAYLIGHT
BEGIN:STANDARD
TZOFFSETFROM:-0400
TZOFFSETTO:-0500
TZNAME:EST
DTSTART:20261101T060000
END:STANDARD
BEGIN:DAYLIGHT
TZOFFSETFROM:-0500
TZOFFSETTO:-0400
TZNAME:EDT
DTSTART:20270314T070000
END:DAYLIGHT
BEGIN:STANDARD
TZOFFSETFROM:-0400
TZOFFSETTO:-0500
TZNAME:EST
DTSTART:20271107T060000
END:STANDARD
END:VTIMEZONE
BEGIN:VEVENT
DTSTART;TZID=America/New_York:20251014T150000
DTEND;TZID=America/New_York:20251014T160000
DTSTAMP:20260421T190628
CREATED:20251006T193009Z
LAST-MODIFIED:20251014T173506Z
UID:10001270-1760454000-1760457600@wbecnydmv.org
SUMMARY:2025 Supplier Diversity Webinar Series: AI & Your Small Business
DESCRIPTION:Register now!
URL:https://wbecnydmv.org/event/2025-supplier-diversity-webinar-series-ai-your-small-business/
LOCATION:NY
CATEGORIES:Partner Event
END:VEVENT
BEGIN:VEVENT
DTSTART;TZID=America/New_York:20251015T080000
DTEND;TZID=America/New_York:20251015T163000
DTSTAMP:20260421T190628
CREATED:20250207T170802Z
LAST-MODIFIED:20251014T171838Z
UID:10001199-1760515200-1760545800@wbecnydmv.org
SUMMARY:WBEC Metro NY SAGE Advice Day 1
DESCRIPTION:Register now!
URL:https://wbecnydmv.org/event/wbec-metro-ny-sage-advice-day-1-9/
LOCATION:Virtual
CATEGORIES:WBEC Metro NY Events
END:VEVENT
BEGIN:VEVENT
DTSTART;TZID=America/New_York:20251015T100000
DTEND;TZID=America/New_York:20251015T130000
DTSTAMP:20260421T190628
CREATED:20250827T163629Z
LAST-MODIFIED:20251014T171916Z
UID:10001261-1760522400-1760533200@wbecnydmv.org
SUMMARY:One Page Business Plan: Strategic Marketing
DESCRIPTION:Register now!
URL:https://wbecnydmv.org/event/one-page-business-plan-strategic-marketing-2/
LOCATION:Virtual
CATEGORIES:WBEC Metro NY and Greater DMV Events
END:VEVENT
BEGIN:VEVENT
DTSTART;TZID=America/New_York:20251016T080000
DTEND;TZID=America/New_York:20251016T163000
DTSTAMP:20260421T190628
CREATED:20250207T171445Z
LAST-MODIFIED:20251014T171802Z
UID:10001203-1760601600-1760632200@wbecnydmv.org
SUMMARY:WBEC Metro NY SAGE Advice Day 2
DESCRIPTION:Register now!
URL:https://wbecnydmv.org/event/wbec-metro-ny-sage-advice-day-2-8/
LOCATION:Virtual
CATEGORIES:WBEC Metro NY Events
END:VEVENT
BEGIN:VEVENT
DTSTART;TZID=America/New_York:20251016T083000
DTEND;TZID=America/New_York:20251016T153000
DTSTAMP:20260421T190628
CREATED:20251002T200326Z
LAST-MODIFIED:20251002T200326Z
UID:10001268-1760603400-1760628600@wbecnydmv.org
SUMMARY:27th Annual SDDC Conference
DESCRIPTION:Register now!
URL:https://wbecnydmv.org/event/27th-annual-sddc-conference/
LOCATION:NY
CATEGORIES:Partner Event
END:VEVENT
BEGIN:VEVENT
DTSTART;TZID=America/New_York:20251017T100000
DTEND;TZID=America/New_York:20251017T103000
DTSTAMP:20260421T190628
CREATED:20250827T162343Z
LAST-MODIFIED:20250904T135548Z
UID:10001257-1760695200-1760697000@wbecnydmv.org
SUMMARY:One Page Business Plan: Office Hours
DESCRIPTION:Register now!
URL:https://wbecnydmv.org/event/one-page-business-plan-office-hours-8/
LOCATION:Virtual
CATEGORIES:WBEC Metro NY and Greater DMV Events
END:VEVENT
BEGIN:VEVENT
DTSTART;TZID=America/New_York:20251021T130000
DTEND;TZID=America/New_York:20251021T150000
DTSTAMP:20260421T190628
CREATED:20250219T221503Z
LAST-MODIFIED:20250904T141041Z
UID:10001214-1761051600-1761058800@wbecnydmv.org
SUMMARY:Sustainability Accelerator Module 3 Workshop 2
DESCRIPTION:Register now!
URL:https://wbecnydmv.org/event/sustainability-accelerator-module-3-workshop-2-2/
LOCATION:Virtual
CATEGORIES:WBEC Metro NY and Greater DMV Events
END:VEVENT
BEGIN:VEVENT
DTSTART;TZID=America/New_York:20251021T150000
DTEND;TZID=America/New_York:20251021T160000
DTSTAMP:20260421T190628
CREATED:20251006T193702Z
LAST-MODIFIED:20251006T193702Z
UID:10001271-1761058800-1761062400@wbecnydmv.org
SUMMARY:2025 Supplier Diversity Webinar Series: Essential Tech for Running Your Small Business
DESCRIPTION:Register now!
URL:https://wbecnydmv.org/event/2025-supplier-diversity-webinar-series-essential-tech-for-running-your-small-business/
LOCATION:NY
CATEGORIES:Partner Event
END:VEVENT
BEGIN:VEVENT
DTSTART;TZID=America/New_York:20251022T100000
DTEND;TZID=America/New_York:20251022T130000
DTSTAMP:20260421T190628
CREATED:20250827T163908Z
LAST-MODIFIED:20250904T141054Z
UID:10001263-1761127200-1761138000@wbecnydmv.org
SUMMARY:One Page Business Plan: Business Model and Financial Fluency
DESCRIPTION:Register now!
URL:https://wbecnydmv.org/event/one-page-business-plan-business-model-and-financial-fluency-2/
LOCATION:Virtual
CATEGORIES:WBEC Metro NY and Greater DMV Events
END:VEVENT
BEGIN:VEVENT
DTSTART;TZID=America/New_York:20251024T103000
DTEND;TZID=America/New_York:20251024T140000
DTSTAMP:20260421T190628
CREATED:20250811T200202Z
LAST-MODIFIED:20251024T205229Z
UID:10001247-1761301800-1761314400@wbecnydmv.org
SUMMARY:WBEC Metro NY Impact Awards Luncheon
DESCRIPTION:Register now!
URL:https://wbecnydmv.org/event/wbec-metro-ny-impact-awards-luncheon/
LOCATION:The Plaza Hotel\, 5th Ave @ Central Park South\, New York\, NY\, 10019\, United States
CATEGORIES:WBEC Metro NY Events
END:VEVENT
BEGIN:VEVENT
DTSTART;TZID=America/New_York:20251028T120000
DTEND;TZID=America/New_York:20251028T133000
DTSTAMP:20260421T190628
CREATED:20251009T135250Z
LAST-MODIFIED:20251014T170957Z
UID:10001273-1761652800-1761658200@wbecnydmv.org
SUMMARY:Power of Capital: Your Path to Financial Strength with CHASE for Business
DESCRIPTION:Register now!
URL:https://wbecnydmv.org/event/power-of-capital-your-path-to-financial-strength-with-chase-for-business/
LOCATION:Virtual
CATEGORIES:WBEC Metro NY and Greater DMV Events
END:VEVENT
BEGIN:VEVENT
DTSTART;TZID=America/New_York:20251028T150000
DTEND;TZID=America/New_York:20251028T160000
DTSTAMP:20260421T190628
CREATED:20251006T194235Z
LAST-MODIFIED:20251006T194235Z
UID:10001272-1761663600-1761667200@wbecnydmv.org
SUMMARY:2025 Supplier Diversity Webinar Series: Digital Payments & Your Small Business
DESCRIPTION:Register now!
URL:https://wbecnydmv.org/event/2025-supplier-diversity-webinar-series-online-digital-payments-your-small-business/
LOCATION:NY
CATEGORIES:Partner Event
END:VEVENT
BEGIN:VEVENT
DTSTART;TZID=America/New_York:20251029T100000
DTEND;TZID=America/New_York:20251029T130000
DTSTAMP:20260421T190628
CREATED:20250827T163950Z
LAST-MODIFIED:20250904T135125Z
UID:10001264-1761732000-1761742800@wbecnydmv.org
SUMMARY:One Page Business Plan: Simple Systems Blueprint
DESCRIPTION:Register now!
URL:https://wbecnydmv.org/event/one-page-business-plan-simple-systems-blueprint/
LOCATION:Virtual
CATEGORIES:WBEC Metro NY and Greater DMV Events
END:VEVENT
BEGIN:VEVENT
DTSTART;TZID=America/New_York:20251030T130000
DTEND;TZID=America/New_York:20251030T140000
DTSTAMP:20260421T190628
CREATED:20250207T163643Z
LAST-MODIFIED:20251014T171110Z
UID:10001194-1761829200-1761832800@wbecnydmv.org
SUMMARY:I'm Certified\, Now What?
DESCRIPTION:Register now!
URL:https://wbecnydmv.org/event/im-certified-now-what-5/
LOCATION:Virtual
CATEGORIES:WBEC Metro NY and Greater DMV Events
END:VEVENT
BEGIN:VEVENT
DTSTART;TZID=America/New_York:20251031T100000
DTEND;TZID=America/New_York:20251031T103000
DTSTAMP:20260421T190628
CREATED:20250827T162436Z
LAST-MODIFIED:20250904T135502Z
UID:10001258-1761904800-1761906600@wbecnydmv.org
SUMMARY:One Page Business Plan: Office Hours
DESCRIPTION:Register now!
URL:https://wbecnydmv.org/event/one-page-business-plan-office-hours-9/
LOCATION:Virtual
CATEGORIES:WBEC Metro NY and Greater DMV Events
END:VEVENT
BEGIN:VEVENT
DTSTART;TZID=America/New_York:20251104T120000
DTEND;TZID=America/New_York:20251104T130000
DTSTAMP:20260421T190628
CREATED:20250131T210056Z
LAST-MODIFIED:20251017T134751Z
UID:10001181-1762257600-1762261200@wbecnydmv.org
SUMMARY:Lunch With the Experts: Filling the Funnel and Sealing the Deal
DESCRIPTION:Register now!
URL:https://wbecnydmv.org/event/lunch-with-the-experts-filling-the-funnel-and-sealing-the-deal/
LOCATION:Virtual
CATEGORIES:Lunch with the Experts,WBEC Metro NY Events
END:VEVENT
BEGIN:VEVENT
DTSTART;TZID=America/New_York:20251105T100000
DTEND;TZID=America/New_York:20251105T130000
DTSTAMP:20260421T190628
CREATED:20250827T164159Z
LAST-MODIFIED:20251014T171156Z
UID:10001265-1762336800-1762347600@wbecnydmv.org
SUMMARY:One Page Business Plan: Strategies and Business Plan Framework
DESCRIPTION:Register now!
URL:https://wbecnydmv.org/event/one-page-business-plan-strategies-and-business-plan-framework-2/
LOCATION:Virtual
CATEGORIES:WBEC Metro NY and Greater DMV Events
END:VEVENT
BEGIN:VEVENT
DTSTART;TZID=America/New_York:20251106T120000
DTEND;TZID=America/New_York:20251106T130000
DTSTAMP:20260421T190628
CREATED:20250207T160900Z
LAST-MODIFIED:20251003T161201Z
UID:10001188-1762430400-1762434000@wbecnydmv.org
SUMMARY:Why and How to Get Certified
DESCRIPTION:Register now!
URL:https://wbecnydmv.org/event/why-and-how-to-get-certified-22/
LOCATION:NY
CATEGORIES:WBEC Metro NY and Greater DMV Events
END:VEVENT
BEGIN:VEVENT
DTSTART;TZID=America/New_York:20251113T130000
DTEND;TZID=America/New_York:20251113T140000
DTSTAMP:20260421T190628
CREATED:20250207T163819Z
LAST-MODIFIED:20251014T171320Z
UID:10001195-1763038800-1763042400@wbecnydmv.org
SUMMARY:I'm Certified\, Now What?
DESCRIPTION:Register now!
URL:https://wbecnydmv.org/event/im-certified-now-what-6/
LOCATION:Virtual
CATEGORIES:WBEC Metro NY and Greater DMV Events
END:VEVENT
BEGIN:VEVENT
DTSTART;TZID=America/New_York:20251118T130000
DTEND;TZID=America/New_York:20251118T150000
DTSTAMP:20260421T190628
CREATED:20250219T221845Z
LAST-MODIFIED:20251118T164235Z
UID:10001215-1763470800-1763478000@wbecnydmv.org
SUMMARY:Sustainability Accelerator Module 3 Workshop 3
DESCRIPTION:Register now!
URL:https://wbecnydmv.org/event/sustainability-accelerator-module-3-workshop-3-2/
LOCATION:Virtual
CATEGORIES:WBEC Metro NY and Greater DMV Events
END:VEVENT
BEGIN:VEVENT
DTSTART;TZID=America/New_York:20251120T103000
DTEND;TZID=America/New_York:20251120T140000
DTSTAMP:20260421T190628
CREATED:20250811T200442Z
LAST-MODIFIED:20251118T164542Z
UID:10001248-1763634600-1763647200@wbecnydmv.org
SUMMARY:WBEC Greater DMV Impact Awards Luncheon
DESCRIPTION:Register now!
URL:https://wbecnydmv.org/event/wbec-greater-dmv-impact-awards-luncheon/
LOCATION:Fairmount Washington DC\, 2401 M Street\, NW\, Washington\, DC\, 20037
CATEGORIES:WBEC Greater DMV Events
END:VEVENT
BEGIN:VEVENT
DTSTART;TZID=America/New_York:20251203T080000
DTEND;TZID=America/New_York:20251203T163000
DTSTAMP:20260421T190628
CREATED:20250207T171118Z
LAST-MODIFIED:20251118T184827Z
UID:10001200-1764748800-1764779400@wbecnydmv.org
SUMMARY:WBEC Metro NY SAGE Advice Day 1
DESCRIPTION:Register now!
URL:https://wbecnydmv.org/event/wbec-metro-ny-sage-advice-day-1-10/
LOCATION:Virtual
CATEGORIES:WBEC Metro NY Events
END:VEVENT
BEGIN:VEVENT
DTSTART;TZID=America/New_York:20251204T080000
DTEND;TZID=America/New_York:20251204T163000
DTSTAMP:20260421T190628
CREATED:20250207T171514Z
LAST-MODIFIED:20251118T164634Z
UID:10001204-1764835200-1764865800@wbecnydmv.org
SUMMARY:WBEC Metro NY SAGE Advice Day 2
DESCRIPTION:Register now!
URL:https://wbecnydmv.org/event/wbec-metro-ny-sage-advice-day-2-9/
LOCATION:Virtual
CATEGORIES:WBEC Metro NY Events
END:VEVENT
BEGIN:VEVENT
DTSTART;TZID=America/New_York:20251209T110000
DTEND;TZID=America/New_York:20251209T120000
DTSTAMP:20260421T190628
CREATED:20250207T161224Z
LAST-MODIFIED:20251118T162205Z
UID:10001189-1765278000-1765281600@wbecnydmv.org
SUMMARY:Why and How to Get Certified
DESCRIPTION:Register now!
URL:https://wbecnydmv.org/event/why-and-how-to-get-certified-23/
LOCATION:Virtual
CATEGORIES:WBEC Metro NY and Greater DMV Events
END:VEVENT
BEGIN:VEVENT
DTSTART;TZID=America/New_York:20251218T130000
DTEND;TZID=America/New_York:20251218T140000
DTSTAMP:20260421T190628
CREATED:20250207T163942Z
LAST-MODIFIED:20251210T155521Z
UID:10001196-1766062800-1766066400@wbecnydmv.org
SUMMARY:I'm Certified\, Now What?
DESCRIPTION:Register now!
URL:https://wbecnydmv.org/event/im-certified-now-what-7/
LOCATION:Virtual
CATEGORIES:WBEC Metro NY and Greater DMV Events
END:VEVENT
BEGIN:VEVENT
DTSTART;TZID=America/New_York:20260108T103000
DTEND;TZID=America/New_York:20260108T103000
DTSTAMP:20260421T190628
CREATED:20251218T160057Z
LAST-MODIFIED:20251218T160959Z
UID:10001275-1767868200-1767868200@wbecnydmv.org
SUMMARY:Your Gateway to Growth: Info Session on the 2026 SAGE Advice Program
DESCRIPTION:Register now!
URL:https://wbecnydmv.org/event/your-gateway-to-growth-info-session-on-the-2026-sage-advice-program/
LOCATION:NY
CATEGORIES:WBEC Metro NY and Greater DMV Events
END:VEVENT
BEGIN:VEVENT
DTSTART;TZID=America/New_York:20260212T130000
DTEND;TZID=America/New_York:20260212T140000
DTSTAMP:20260421T190628
CREATED:20260116T145223Z
LAST-MODIFIED:20260122T212831Z
UID:10001278-1770901200-1770904800@wbecnydmv.org
SUMMARY:I'm Certified\, Now What?
DESCRIPTION:Register now!
URL:https://wbecnydmv.org/event/im-certified-now-what-feb2026/
LOCATION:Virtual
CATEGORIES:WBEC Metro NY and Greater DMV Events
END:VEVENT
BEGIN:VEVENT
DTSTART;TZID=America/New_York:20260226T083000
DTEND;TZID=America/New_York:20260226T093000
DTSTAMP:20260421T190628
CREATED:20260203T045049Z
LAST-MODIFIED:20260203T045049Z
UID:10001289-1772094600-1772098200@wbecnydmv.org
SUMMARY:
DESCRIPTION:Register now!
URL:https://wbecnydmv.org/event/12994/
LOCATION:Hart Senate Office Building\, 120 Constitution Avenue\, RoomSH-902\, Washingon\, DC\, 20002\, United States
CATEGORIES:Partner Event,WBEC Greater DMV Events
END:VEVENT
BEGIN:VEVENT
DTSTART;TZID=America/New_York:20260306T090000
DTEND;TZID=America/New_York:20260306T170000
DTSTAMP:20260421T190628
CREATED:20260107T173020Z
LAST-MODIFIED:20260115T200612Z
UID:10001276-1772787600-1772816400@wbecnydmv.org
SUMMARY:2026 WBEC Metro NY Women Mean Business Summit
DESCRIPTION:Register now!
URL:https://wbecnydmv.org/event/2026-wbec-metro-ny-women-mean-business-summit/
LOCATION:NY
CATEGORIES:WBEC Metro NY and Greater DMV Events
END:VEVENT
BEGIN:VEVENT
DTSTART;TZID=America/New_York:20260312T140000
DTEND;TZID=America/New_York:20260312T150000
DTSTAMP:20260421T190628
CREATED:20260116T145451Z
LAST-MODIFIED:20260122T212918Z
UID:10001279-1773324000-1773327600@wbecnydmv.org
SUMMARY:I'm Certified\, Now What?
DESCRIPTION:Register now!
URL:https://wbecnydmv.org/event/im-certified-now-what-march2026/
LOCATION:Virtual
CATEGORIES:WBEC Metro NY and Greater DMV Events
END:VEVENT
END:VCALENDAR