BEGIN:VCALENDAR
VERSION:2.0
PRODID:-//WBEC NY DMV - ECPv6.15.18//NONSGML v1.0//EN
CALSCALE:GREGORIAN
METHOD:PUBLISH
X-WR-CALNAME:WBEC NY DMV
X-ORIGINAL-URL:https://wbecnydmv.org
X-WR-CALDESC:Events for WBEC NY DMV
REFRESH-INTERVAL;VALUE=DURATION:PT1H
X-Robots-Tag:noindex
X-PUBLISHED-TTL:PT1H
BEGIN:VTIMEZONE
TZID:America/New_York
BEGIN:DAYLIGHT
TZOFFSETFROM:-0500
TZOFFSETTO:-0400
TZNAME:EDT
DTSTART:20230312T070000
END:DAYLIGHT
BEGIN:STANDARD
TZOFFSETFROM:-0400
TZOFFSETTO:-0500
TZNAME:EST
DTSTART:20231105T060000
END:STANDARD
BEGIN:DAYLIGHT
TZOFFSETFROM:-0500
TZOFFSETTO:-0400
TZNAME:EDT
DTSTART:20240310T070000
END:DAYLIGHT
BEGIN:STANDARD
TZOFFSETFROM:-0400
TZOFFSETTO:-0500
TZNAME:EST
DTSTART:20241103T060000
END:STANDARD
BEGIN:DAYLIGHT
TZOFFSETFROM:-0500
TZOFFSETTO:-0400
TZNAME:EDT
DTSTART:20250309T070000
END:DAYLIGHT
BEGIN:STANDARD
TZOFFSETFROM:-0400
TZOFFSETTO:-0500
TZNAME:EST
DTSTART:20251102T060000
END:STANDARD
BEGIN:DAYLIGHT
TZOFFSETFROM:-0500
TZOFFSETTO:-0400
TZNAME:EDT
DTSTART:20260308T070000
END:DAYLIGHT
BEGIN:STANDARD
TZOFFSETFROM:-0400
TZOFFSETTO:-0500
TZNAME:EST
DTSTART:20261101T060000
END:STANDARD
END:VTIMEZONE
BEGIN:VEVENT
DTSTART;TZID=America/New_York:20250318T120000
DTEND;TZID=America/New_York:20250318T130000
DTSTAMP:20260421T061959
CREATED:20250110T182856Z
LAST-MODIFIED:20250110T182856Z
UID:10001150-1742299200-1742302800@wbecnydmv.org
SUMMARY:Lunch with the Experts: Access to Funding for Health and Biotech Founders
DESCRIPTION:Register now!
URL:https://wbecnydmv.org/event/lunch-with-the-experts-access-to-funding-for-health-and-biotech-founders/
LOCATION:NY
CATEGORIES:Lunch with the Experts,WBEC Greater DMV Events
END:VEVENT
BEGIN:VEVENT
DTSTART;TZID=America/New_York:20250312T090000
DTEND;TZID=America/New_York:20250312T160000
DTSTAMP:20260421T061959
CREATED:20250131T171437Z
LAST-MODIFIED:20250307T165200Z
UID:10001165-1741770000-1741795200@wbecnydmv.org
SUMMARY:Metro NY Women MEAN Business Summit
DESCRIPTION:Register now!
URL:https://wbecnydmv.org/event/metro-ny-women-mean-business-summit/
LOCATION:NY
CATEGORIES:WBEC Metro NY Events
END:VEVENT
BEGIN:VEVENT
DTSTART;TZID=America/New_York:20250311T120000
DTEND;TZID=America/New_York:20250311T130000
DTSTAMP:20260421T061959
CREATED:20250206T181912Z
LAST-MODIFIED:20250206T182157Z
UID:10001183-1741694400-1741698000@wbecnydmv.org
SUMMARY:Lunch With the Experts: Drive Growth with the Power of SEO & SEM
DESCRIPTION:Register now!
URL:https://wbecnydmv.org/event/lunch-with-the-experts-drive-growth-with-the-power-of-seo-sem/
LOCATION:NY
CATEGORIES:Lunch with the Experts,WBEC Metro NY Events
END:VEVENT
BEGIN:VEVENT
DTSTART;TZID=America/New_York:20250306T130000
DTEND;TZID=America/New_York:20250306T140000
DTSTAMP:20260421T061959
CREATED:20250121T174815Z
LAST-MODIFIED:20250121T174917Z
UID:10001155-1741266000-1741269600@wbecnydmv.org
SUMMARY:Why and How to Get Certified
DESCRIPTION:Register now!
URL:https://wbecnydmv.org/event/why-and-how-to-get-certified-15/
LOCATION:NY
CATEGORIES:WBEC Metro NY and Greater DMV Events
END:VEVENT
BEGIN:VEVENT
DTSTART;TZID=America/New_York:20250220T130000
DTEND;TZID=America/New_York:20250220T140000
DTSTAMP:20260421T061959
CREATED:20250121T175541Z
LAST-MODIFIED:20250207T164257Z
UID:10001158-1740056400-1740060000@wbecnydmv.org
SUMMARY:I'm Certified\, Now What?
DESCRIPTION:Register now!
URL:https://wbecnydmv.org/event/wbec-metro-ny-and-greater-dmv-im-certified-now-what-16/
LOCATION:NY
CATEGORIES:WBEC Metro NY and Greater DMV Events
END:VEVENT
BEGIN:VEVENT
DTSTART;TZID=America/New_York:20250218T120000
DTEND;TZID=America/New_York:20250218T130000
DTSTAMP:20260421T061959
CREATED:20250107T220619Z
LAST-MODIFIED:20250107T221047Z
UID:10001149-1739880000-1739883600@wbecnydmv.org
SUMMARY:Lunch with the Experts: Established to Known®
DESCRIPTION:Register now!
URL:https://wbecnydmv.org/event/lunch-with-the-experts-established-to-known/
LOCATION:NY
CATEGORIES:Lunch with the Experts,WBEC Greater DMV Events
END:VEVENT
BEGIN:VEVENT
DTSTART;TZID=America/New_York:20250212T093000
DTEND;TZID=America/New_York:20250212T113000
DTSTAMP:20260421T061959
CREATED:20250129T191546Z
LAST-MODIFIED:20250129T191746Z
UID:10001164-1739352600-1739359800@wbecnydmv.org
SUMMARY:Unlock New Business Opportunities at IAD Concourse E – Tier 2 East
DESCRIPTION:Register now!
URL:https://wbecnydmv.org/event/unlock-new-business-opportunities-at-iad-concourse-e-tier-2-east/
LOCATION:NY
CATEGORIES:Partner Event
END:VEVENT
BEGIN:VEVENT
DTSTART;TZID=America/New_York:20250211T120000
DTEND;TZID=America/New_York:20250211T130000
DTSTAMP:20260421T061959
CREATED:20250116T172819Z
LAST-MODIFIED:20250116T173009Z
UID:10001152-1739275200-1739278800@wbecnydmv.org
SUMMARY:Lunch With the Experts: Building a Marketing Strategy for Small Businesses
DESCRIPTION:Register now!
URL:https://wbecnydmv.org/event/lunch-with-the-experts-building-a-marketing-strategy-for-small-businesses/
LOCATION:NY
CATEGORIES:Lunch with the Experts,WBEC Metro NY Events
END:VEVENT
BEGIN:VEVENT
DTSTART;TZID=America/New_York:20250211T100000
DTEND;TZID=America/New_York:20250211T160000
DTSTAMP:20260421T061959
CREATED:20250127T171502Z
LAST-MODIFIED:20250127T171502Z
UID:10001162-1739268000-1739289600@wbecnydmv.org
SUMMARY:DC Water-Collaborative Delivery Workshop
DESCRIPTION:Register now!
URL:https://wbecnydmv.org/event/dc-water-collaborative-delivery-workshop/
LOCATION:NY
CATEGORIES:Partner Event
END:VEVENT
BEGIN:VEVENT
DTSTART;TZID=America/New_York:20250211T080000
DTEND;TZID=America/New_York:20250213T170000
DTSTAMP:20260421T061959
CREATED:20250117T164548Z
LAST-MODIFIED:20250117T164548Z
UID:10001153-1739260800-1739466000@wbecnydmv.org
SUMMARY:America’s Seed Fund Week – 2025 Virtual Road Tour
DESCRIPTION:Register now!
URL:https://wbecnydmv.org/event/americas-seed-fund-week-2025-virtual-road-tour/
LOCATION:NY
CATEGORIES:Partner Event
END:VEVENT
BEGIN:VEVENT
DTSTART;TZID=America/New_York:20250206T130000
DTEND;TZID=America/New_York:20250206T140000
DTSTAMP:20260421T061959
CREATED:20250121T174559Z
LAST-MODIFIED:20250121T174700Z
UID:10001154-1738846800-1738850400@wbecnydmv.org
SUMMARY:Why and How to Get Certified
DESCRIPTION:Register now!
URL:https://wbecnydmv.org/event/why-and-how-to-get-certified-14/
LOCATION:NY
CATEGORIES:WBEC Metro NY and Greater DMV Events
END:VEVENT
BEGIN:VEVENT
DTSTART;TZID=America/New_York:20250131T090000
DTEND;TZID=America/New_York:20250131T140000
DTSTAMP:20260421T061959
CREATED:20250128T154455Z
LAST-MODIFIED:20250128T154930Z
UID:10001163-1738314000-1738332000@wbecnydmv.org
SUMMARY:Jump Start Your Business
DESCRIPTION:Register now!
URL:https://wbecnydmv.org/event/jump-start-your-business/
LOCATION:NY
CATEGORIES:Partner Event
END:VEVENT
BEGIN:VEVENT
DTSTART;TZID=America/New_York:20250121T120000
DTEND;TZID=America/New_York:20250121T130000
DTSTAMP:20260421T061959
CREATED:20250106T222918Z
LAST-MODIFIED:20250106T223041Z
UID:10001148-1737460800-1737464400@wbecnydmv.org
SUMMARY:Lunch with the Experts: Founder Finance Business Models\, Pricing and Paying Yourself
DESCRIPTION:Register now!
URL:https://wbecnydmv.org/event/lunch-with-the-experts-founder-finance-business-models-pricing-and-paying-yourself/
LOCATION:NY
CATEGORIES:Lunch with the Experts,WBEC Greater DMV Events
END:VEVENT
BEGIN:VEVENT
DTSTART;TZID=America/New_York:20250116T130000
DTEND;TZID=America/New_York:20250116T140000
DTSTAMP:20260421T061959
CREATED:20241219T170322Z
LAST-MODIFIED:20250207T164152Z
UID:10001145-1737032400-1737036000@wbecnydmv.org
SUMMARY:I'm Certified\, Now What?
DESCRIPTION:Register now!
URL:https://wbecnydmv.org/event/wbec-metro-ny-and-greater-dmv-im-certified-now-what-15/
LOCATION:NY
CATEGORIES:WBEC Metro NY and Greater DMV Events
END:VEVENT
BEGIN:VEVENT
DTSTART;TZID=America/New_York:20250116T100000
DTEND;TZID=America/New_York:20250116T100000
DTSTAMP:20260421T061959
CREATED:20241219T171045Z
LAST-MODIFIED:20250103T154019Z
UID:10001146-1737021600-1737021600@wbecnydmv.org
SUMMARY:Why and How to Get Certified
DESCRIPTION:Register now!
URL:https://wbecnydmv.org/event/why-and-how-to-get-certified-13/
LOCATION:NY
CATEGORIES:WBEC Metro NY and Greater DMV Events
END:VEVENT
BEGIN:VEVENT
DTSTART;TZID=America/New_York:20250114T090000
DTEND;TZID=America/New_York:20250114T160000
DTSTAMP:20260421T061959
CREATED:20241114T223344Z
LAST-MODIFIED:20250103T153058Z
UID:10001144-1736845200-1736870400@wbecnydmv.org
SUMMARY:2025 Upstate New York Supplier Diversity Summit
DESCRIPTION:Register now!
URL:https://wbecnydmv.org/event/2025-upstate-new-york-supplier-diversity-summit/
LOCATION:NY
CATEGORIES:Partner Event
END:VEVENT
BEGIN:VEVENT
DTSTART;TZID=America/New_York:20241212T130000
DTEND;TZID=America/New_York:20241212T140000
DTSTAMP:20260421T061959
CREATED:20240129T210355Z
LAST-MODIFIED:20241122T191218Z
UID:10001003-1734008400-1734012000@wbecnydmv.org
SUMMARY:WBEC Metro NY And Greater DMV: I'm Certified\, Now What?
DESCRIPTION:Register now!
URL:https://wbecnydmv.org/event/wbec-metro-ny-and-greater-dmv-im-certified-now-what-14/
LOCATION:NY
CATEGORIES:WBEC Metro NY and Greater DMV Events
END:VEVENT
BEGIN:VEVENT
DTSTART;TZID=America/New_York:20241210T130000
DTEND;TZID=America/New_York:20241210T150000
DTSTAMP:20260421T061959
CREATED:20240208T200529Z
LAST-MODIFIED:20241122T192144Z
UID:10001032-1733835600-1733842800@wbecnydmv.org
SUMMARY:Sustainability Accelerator Module 3 Workshop 4
DESCRIPTION:Register now!
URL:https://wbecnydmv.org/event/sustainability-accelerator-module-3-workshop-4/
LOCATION:NY
CATEGORIES:WBEC Metro NY and Greater DMV Events
END:VEVENT
BEGIN:VEVENT
DTSTART;TZID=America/New_York:20241205T130000
DTEND;TZID=America/New_York:20241205T140000
DTSTAMP:20260421T061959
CREATED:20240129T210710Z
LAST-MODIFIED:20241122T191814Z
UID:10001006-1733403600-1733407200@wbecnydmv.org
SUMMARY:Why and How to Get Certified
DESCRIPTION:Register now!
URL:https://wbecnydmv.org/event/why-and-how-to-get-certified-12/
LOCATION:NY
CATEGORIES:WBEC Metro NY and Greater DMV Events
END:VEVENT
BEGIN:VEVENT
DTSTART;TZID=America/New_York:20241204T120000
DTEND;TZID=America/New_York:20241204T130000
DTSTAMP:20260421T061959
CREATED:20241105T180031Z
LAST-MODIFIED:20241203T171549Z
UID:10001143-1733313600-1733317200@wbecnydmv.org
SUMMARY:Lunch with the Experts: Introduction to Style Wellness
DESCRIPTION:Register now!
URL:https://wbecnydmv.org/event/lunch-with-the-experts_lunch-with-the-experts-introduction-to-style-wellness-how-to-feel-joyful-and-empowered/
LOCATION:NY
CATEGORIES:Lunch with the Experts,WBEC Greater DMV Events
END:VEVENT
BEGIN:VEVENT
DTSTART;TZID=America/New_York:20241121T103000
DTEND;TZID=America/New_York:20241121T140000
DTSTAMP:20260421T061959
CREATED:20240328T185452Z
LAST-MODIFIED:20241122T192201Z
UID:10001061-1732185000-1732197600@wbecnydmv.org
SUMMARY:WBEC Greater DMV 25th Anniversary Grand GALA-xy Luncheon
DESCRIPTION:Register now!
URL:https://wbecnydmv.org/event/wbec-greater-dmv-25th-anniversary-grand-gala-xy-luncheon/
LOCATION:NY
CATEGORIES:WBEC Greater DMV Events
END:VEVENT
BEGIN:VEVENT
DTSTART;TZID=America/New_York:20241114T130000
DTEND;TZID=America/New_York:20241114T140000
DTSTAMP:20260421T061959
CREATED:20240129T210246Z
LAST-MODIFIED:20240129T210246Z
UID:10001002-1731589200-1731592800@wbecnydmv.org
SUMMARY:WBEC Metro NY And Greater DMV: I'm Certified\, Now What?
DESCRIPTION:Register now!
URL:https://wbecnydmv.org/event/wbec-metro-ny-and-greater-dmv-im-certified-now-what-13/
LOCATION:NY
CATEGORIES:WBEC Metro NY and Greater DMV Events
END:VEVENT
BEGIN:VEVENT
DTSTART;TZID=America/New_York:20241114T100000
DTEND;TZID=America/New_York:20241114T140000
DTSTAMP:20260421T061959
CREATED:20241029T202457Z
LAST-MODIFIED:20241029T202621Z
UID:10001141-1731578400-1731592800@wbecnydmv.org
SUMMARY:Jersey City Wants to Do Business With You
DESCRIPTION:Register now!
URL:https://wbecnydmv.org/event/jersey-city-wants-to-do-business-with-you/
LOCATION:NY
CATEGORIES:Partner Event
END:VEVENT
BEGIN:VEVENT
DTSTART;TZID=America/New_York:20241112T130000
DTEND;TZID=America/New_York:20241112T150000
DTSTAMP:20260421T061959
CREATED:20240208T200259Z
LAST-MODIFIED:20240213T181617Z
UID:10001031-1731416400-1731423600@wbecnydmv.org
SUMMARY:Sustainability Accelerator Module 3 Workshop 3
DESCRIPTION:Register now!
URL:https://wbecnydmv.org/event/sustainability-accelerator-module-3-workshop-3/
LOCATION:NY
CATEGORIES:WBEC Metro NY and Greater DMV Events
END:VEVENT
BEGIN:VEVENT
DTSTART;TZID=America/New_York:20241112T080000
DTEND;TZID=America/New_York:20241114T170000
DTSTAMP:20260421T061959
CREATED:20240814T171805Z
LAST-MODIFIED:20240814T171842Z
UID:10001110-1731398400-1731603600@wbecnydmv.org
SUMMARY:2024 WIPP Business Summit
DESCRIPTION:Register now!
URL:https://wbecnydmv.org/event/2024-wipp-business-summit/
LOCATION:NY
CATEGORIES:Partner Event
END:VEVENT
BEGIN:VEVENT
DTSTART;TZID=America/New_York:20241108T080000
DTEND;TZID=America/New_York:20241108T080000
DTSTAMP:20260421T061959
CREATED:20241029T174515Z
LAST-MODIFIED:20241029T174515Z
UID:10001138-1731052800-1731052800@wbecnydmv.org
SUMMARY:The POWER Breakfast
DESCRIPTION:Register now!
URL:https://wbecnydmv.org/event/the-power-breakfast/
LOCATION:NY
CATEGORIES:Partner Event
END:VEVENT
BEGIN:VEVENT
DTSTART;TZID=America/New_York:20241107T173000
DTEND;TZID=America/New_York:20241107T203000
DTSTAMP:20260421T061959
CREATED:20241029T174143Z
LAST-MODIFIED:20241029T174143Z
UID:10001137-1731000600-1731011400@wbecnydmv.org
SUMMARY:The POWER Network Event
DESCRIPTION:Register now!
URL:https://wbecnydmv.org/event/the-power-network-event/
LOCATION:NY
CATEGORIES:Partner Event
END:VEVENT
BEGIN:VEVENT
DTSTART;TZID=America/New_York:20241107T150000
DTEND;TZID=America/New_York:20241107T150000
DTSTAMP:20260421T061959
CREATED:20241021T163256Z
LAST-MODIFIED:20241024T171259Z
UID:10001135-1730991600-1730991600@wbecnydmv.org
SUMMARY:2025 SAGE Advice Informational Session
DESCRIPTION:Register now!
URL:https://wbecnydmv.org/event/2025-sage-advice-informational-session/
LOCATION:NY
CATEGORIES:WBEC Metro NY and Greater DMV Events
END:VEVENT
BEGIN:VEVENT
DTSTART;TZID=America/New_York:20241107T130000
DTEND;TZID=America/New_York:20241107T140000
DTSTAMP:20260421T061959
CREATED:20240129T210604Z
LAST-MODIFIED:20240129T210604Z
UID:10001005-1730984400-1730988000@wbecnydmv.org
SUMMARY:Why and How to Get Certified
DESCRIPTION:Register now!
URL:https://wbecnydmv.org/event/why-and-how-to-get-certified-11/
LOCATION:NY
CATEGORIES:WBEC Metro NY and Greater DMV Events
END:VEVENT
BEGIN:VEVENT
DTSTART;TZID=America/New_York:20241106T100000
DTEND;TZID=America/New_York:20241106T130000
DTSTAMP:20260421T061959
CREATED:20240514T163145Z
LAST-MODIFIED:20240514T163145Z
UID:10001084-1730887200-1730898000@wbecnydmv.org
SUMMARY:One Page Business Plan: Strategies and Business Plan Framework
DESCRIPTION:Register now!
URL:https://wbecnydmv.org/event/one-page-business-plan-strategies-and-business-plan-framework/
LOCATION:NY
CATEGORIES:WBEC Metro NY and Greater DMV Events
END:VEVENT
END:VCALENDAR