BEGIN:VCALENDAR
VERSION:2.0
PRODID:-//WBEC NY DMV - ECPv6.15.18//NONSGML v1.0//EN
CALSCALE:GREGORIAN
METHOD:PUBLISH
X-WR-CALNAME:WBEC NY DMV
X-ORIGINAL-URL:https://wbecnydmv.org
X-WR-CALDESC:Events for WBEC NY DMV
REFRESH-INTERVAL;VALUE=DURATION:PT1H
X-Robots-Tag:noindex
X-PUBLISHED-TTL:PT1H
BEGIN:VTIMEZONE
TZID:America/New_York
BEGIN:DAYLIGHT
TZOFFSETFROM:-0500
TZOFFSETTO:-0400
TZNAME:EDT
DTSTART:20230312T070000
END:DAYLIGHT
BEGIN:STANDARD
TZOFFSETFROM:-0400
TZOFFSETTO:-0500
TZNAME:EST
DTSTART:20231105T060000
END:STANDARD
BEGIN:DAYLIGHT
TZOFFSETFROM:-0500
TZOFFSETTO:-0400
TZNAME:EDT
DTSTART:20240310T070000
END:DAYLIGHT
BEGIN:STANDARD
TZOFFSETFROM:-0400
TZOFFSETTO:-0500
TZNAME:EST
DTSTART:20241103T060000
END:STANDARD
BEGIN:DAYLIGHT
TZOFFSETFROM:-0500
TZOFFSETTO:-0400
TZNAME:EDT
DTSTART:20250309T070000
END:DAYLIGHT
BEGIN:STANDARD
TZOFFSETFROM:-0400
TZOFFSETTO:-0500
TZNAME:EST
DTSTART:20251102T060000
END:STANDARD
END:VTIMEZONE
BEGIN:VEVENT
DTSTART;TZID=America/New_York:20241101T100000
DTEND;TZID=America/New_York:20241101T103000
DTSTAMP:20260421T215110
CREATED:20240514T163648Z
LAST-MODIFIED:20240514T163648Z
UID:10001089-1730455200-1730457000@wbecnydmv.org
SUMMARY:One Page Business Plan: Office Hours
DESCRIPTION:Register now!
URL:https://wbecnydmv.org/event/one-page-business-plan-office-hours-5/
LOCATION:NY
CATEGORIES:WBEC Metro NY and Greater DMV Events
END:VEVENT
BEGIN:VEVENT
DTSTART;TZID=America/New_York:20241031T130000
DTEND;TZID=America/New_York:20241031T140000
DTSTAMP:20260421T215110
CREATED:20240129T170023Z
LAST-MODIFIED:20241030T155138Z
UID:10001001-1730379600-1730383200@wbecnydmv.org
SUMMARY:WBEC Metro NY And Greater DMV: I'm Certified\, Now What?
DESCRIPTION:Register now!
URL:https://wbecnydmv.org/event/wbec-metro-ny-and-greater-dmv-im-certified-now-what-12/
LOCATION:NY
CATEGORIES:WBEC Metro NY and Greater DMV Events
END:VEVENT
BEGIN:VEVENT
DTSTART;TZID=America/New_York:20241031T130000
DTEND;TZID=America/New_York:20241031T130000
DTSTAMP:20260421T215110
CREATED:20241029T201828Z
LAST-MODIFIED:20241030T161357Z
UID:10001140-1730379600-1730379600@wbecnydmv.org
SUMMARY:AARP Supplier Diversity's October Certification Webinar Series: How to Leverage Your Certification
DESCRIPTION:Register now!
URL:https://wbecnydmv.org/event/aarp-supplier-diversitys-october-certification-webinar-series-how-to-leverage-your-certification/
LOCATION:NY
CATEGORIES:Partner Event
END:VEVENT
BEGIN:VEVENT
DTSTART;TZID=America/New_York:20241031T100000
DTEND;TZID=America/New_York:20241031T120000
DTSTAMP:20260421T215110
CREATED:20240826T193103Z
LAST-MODIFIED:20241029T200536Z
UID:10001118-1730368800-1730376000@wbecnydmv.org
SUMMARY:Cybersecurity: Workshop 3
DESCRIPTION:Register now!
URL:https://wbecnydmv.org/event/cybersecurity-workshop-3/
LOCATION:NY
CATEGORIES:WBEC Metro NY and Greater DMV Events
END:VEVENT
BEGIN:VEVENT
DTSTART;TZID=America/New_York:20241030T100000
DTEND;TZID=America/New_York:20241030T130000
DTSTAMP:20260421T215110
CREATED:20240514T162958Z
LAST-MODIFIED:20241029T203113Z
UID:10001083-1730282400-1730293200@wbecnydmv.org
SUMMARY:One Page Business Plan: Simple Systems Blueprint
DESCRIPTION:Register now!
URL:https://wbecnydmv.org/event/one-page-business-plan-business-simple-systems-blueprint/
LOCATION:NY
CATEGORIES:WBEC Metro NY and Greater DMV Events
END:VEVENT
BEGIN:VEVENT
DTSTART;TZID=America/New_York:20241029T130000
DTEND;TZID=America/New_York:20241029T130000
DTSTAMP:20260421T215110
CREATED:20241029T201549Z
LAST-MODIFIED:20241029T201647Z
UID:10001139-1730206800-1730206800@wbecnydmv.org
SUMMARY:AARP Supplier Diversity's October Certification Webinar Series: Supplier Diversity 101
DESCRIPTION:Register now!
URL:https://wbecnydmv.org/event/aarp-supplier-diversitys-october-certification-webinar-series/
LOCATION:NY
CATEGORIES:Partner Event
END:VEVENT
BEGIN:VEVENT
DTSTART;TZID=America/New_York:20241029T120000
DTEND;TZID=America/New_York:20241029T130000
DTSTAMP:20260421T215110
CREATED:20240827T135455Z
LAST-MODIFIED:20241029T202515Z
UID:10001120-1730203200-1730206800@wbecnydmv.org
SUMMARY:Lunch With the Experts: Intellectual Property Fundamentals
DESCRIPTION:Register now!
URL:https://wbecnydmv.org/event/lunch-with-the-experts-intellectual-property-fundamentals/
LOCATION:NY
CATEGORIES:Lunch with the Experts,WBEC Metro NY and Greater DMV Events
END:VEVENT
BEGIN:VEVENT
DTSTART;TZID=America/New_York:20241028T130000
DTEND;TZID=America/New_York:20241028T160000
DTSTAMP:20260421T215110
CREATED:20241023T204539Z
LAST-MODIFIED:20241029T202229Z
UID:10001136-1730120400-1730131200@wbecnydmv.org
SUMMARY:GLDD Beach Nourishment Dredging Projects : Vendor Open-House
DESCRIPTION:Register now!
URL:https://wbecnydmv.org/event/gldd-beach-nourishment-dredging-projects-vendor-open-house/
LOCATION:NY
CATEGORIES:Partner Event
END:VEVENT
BEGIN:VEVENT
DTSTART;TZID=America/New_York:20241025T100000
DTEND;TZID=America/New_York:20241025T103000
DTSTAMP:20260421T215110
CREATED:20240514T163603Z
LAST-MODIFIED:20240514T163603Z
UID:10001088-1729850400-1729852200@wbecnydmv.org
SUMMARY:One Page Business Plan: Office Hours
DESCRIPTION:Register now!
URL:https://wbecnydmv.org/event/one-page-business-plan-office-hours-4/
LOCATION:NY
CATEGORIES:WBEC Metro NY and Greater DMV Events
END:VEVENT
BEGIN:VEVENT
DTSTART;TZID=America/New_York:20241024T100000
DTEND;TZID=America/New_York:20241024T120000
DTSTAMP:20260421T215110
CREATED:20240826T192759Z
LAST-MODIFIED:20240910T135956Z
UID:10001117-1729764000-1729771200@wbecnydmv.org
SUMMARY:Cybersecurity: Workshop 2
DESCRIPTION:Register now!
URL:https://wbecnydmv.org/event/cybersecurity-workshop-2/
LOCATION:NY
CATEGORIES:WBEC Metro NY and Greater DMV Events
END:VEVENT
BEGIN:VEVENT
DTSTART;TZID=America/New_York:20241023T100000
DTEND;TZID=America/New_York:20241023T130000
DTSTAMP:20260421T215110
CREATED:20240514T162809Z
LAST-MODIFIED:20240514T162809Z
UID:10001082-1729677600-1729688400@wbecnydmv.org
SUMMARY:One Page Business Plan: Business Model and Financial Fluency
DESCRIPTION:Register now!
URL:https://wbecnydmv.org/event/one-page-business-plan-business-model-and-financial-fluency/
LOCATION:NY
CATEGORIES:WBEC Metro NY and Greater DMV Events
END:VEVENT
BEGIN:VEVENT
DTSTART;TZID=America/New_York:20241022T130000
DTEND;TZID=America/New_York:20241022T150000
DTSTAMP:20260421T215110
CREATED:20240208T200012Z
LAST-MODIFIED:20240213T181554Z
UID:10001030-1729602000-1729609200@wbecnydmv.org
SUMMARY:Sustainability Accelerator Module 3 Workshop 2
DESCRIPTION:Register now!
URL:https://wbecnydmv.org/event/sustainability-accelerator-module-3-workshop-2/
LOCATION:NY
CATEGORIES:WBEC Metro NY and Greater DMV Events
END:VEVENT
BEGIN:VEVENT
DTSTART;VALUE=DATE:20241019
DTEND;VALUE=DATE:20241020
DTSTAMP:20260421T215110
CREATED:20241007T192747Z
LAST-MODIFIED:20241007T192949Z
UID:10001134-1729296000-1729382399@wbecnydmv.org
SUMMARY:Fusion Festival 2024
DESCRIPTION:Register now!
URL:https://wbecnydmv.org/event/fusion-festival-2024/
LOCATION:NY
CATEGORIES:Partner Event
END:VEVENT
BEGIN:VEVENT
DTSTART;TZID=America/New_York:20241018T150000
DTEND;TZID=America/New_York:20241018T160000
DTSTAMP:20260421T215110
CREATED:20240917T162501Z
LAST-MODIFIED:20240917T162501Z
UID:10001132-1729263600-1729267200@wbecnydmv.org
SUMMARY:AARP: Digital Storytelling
DESCRIPTION:Register now!
URL:https://wbecnydmv.org/event/digital-storytelling/
LOCATION:NY
CATEGORIES:Partner Event
END:VEVENT
BEGIN:VEVENT
DTSTART;TZID=America/New_York:20241018T100000
DTEND;TZID=America/New_York:20241018T103000
DTSTAMP:20260421T215110
CREATED:20240514T163529Z
LAST-MODIFIED:20240514T163529Z
UID:10001087-1729245600-1729247400@wbecnydmv.org
SUMMARY:One Page Business Plan: Office Hours
DESCRIPTION:Register now!
URL:https://wbecnydmv.org/event/one-page-business-plan-office-hours-3/
LOCATION:NY
CATEGORIES:WBEC Metro NY and Greater DMV Events
END:VEVENT
BEGIN:VEVENT
DTSTART;TZID=America/New_York:20241017T100000
DTEND;TZID=America/New_York:20241017T120000
DTSTAMP:20260421T215110
CREATED:20240826T192519Z
LAST-MODIFIED:20240910T135745Z
UID:10001116-1729159200-1729166400@wbecnydmv.org
SUMMARY:Cybersecurity: Workshop 1
DESCRIPTION:Register now!
URL:https://wbecnydmv.org/event/cybersecurity-workshop-1/
LOCATION:NY
CATEGORIES:WBEC Metro NY and Greater DMV Events
END:VEVENT
BEGIN:VEVENT
DTSTART;TZID=America/New_York:20241016T180000
DTEND;TZID=America/New_York:20241016T210000
DTSTAMP:20260421T215110
CREATED:20240916T195244Z
LAST-MODIFIED:20240916T195412Z
UID:10001128-1729101600-1729112400@wbecnydmv.org
SUMMARY:Boots & Bling Fundraiser For Dress for Success!
DESCRIPTION:Register now!
URL:https://wbecnydmv.org/event/boots-bling-fundraiser-for-dress-for-success/
LOCATION:NY
CATEGORIES:Partner Event
END:VEVENT
BEGIN:VEVENT
DTSTART;TZID=America/New_York:20241016T100000
DTEND;TZID=America/New_York:20241016T130000
DTSTAMP:20260421T215110
CREATED:20240514T162015Z
LAST-MODIFIED:20240514T162015Z
UID:10001081-1729072800-1729083600@wbecnydmv.org
SUMMARY:One Page Business Plan: Strategic Marketing
DESCRIPTION:Register now!
URL:https://wbecnydmv.org/event/one-page-business-plan-strategic-marketing/
LOCATION:NY
CATEGORIES:WBEC Metro NY and Greater DMV Events
END:VEVENT
BEGIN:VEVENT
DTSTART;TZID=America/New_York:20241015T120000
DTEND;TZID=America/New_York:20241015T130000
DTSTAMP:20260421T215110
CREATED:20240610T205642Z
LAST-MODIFIED:20240923T144759Z
UID:10001099-1728993600-1728997200@wbecnydmv.org
SUMMARY:Lunch with the Experts: AARP Presents Protecting yourself\, your devices\, and your business
DESCRIPTION:Register now!
URL:https://wbecnydmv.org/event/lunch-with-the-experts-aarp-presents-protecting-yourself-your-devices-and-your-business/
LOCATION:NY
CATEGORIES:Lunch with the Experts,WBEC Greater DMV Events
END:VEVENT
BEGIN:VEVENT
DTSTART;TZID=America/New_York:20241011T150000
DTEND;TZID=America/New_York:20241011T160000
DTSTAMP:20260421T215110
CREATED:20240917T162214Z
LAST-MODIFIED:20240917T162214Z
UID:10001131-1728658800-1728662400@wbecnydmv.org
SUMMARY:AARP: Crowdfunding for Entrepreneurs
DESCRIPTION:Register now!
URL:https://wbecnydmv.org/event/crowdfunding-for-entrepreneurs/
LOCATION:NY
CATEGORIES:Partner Event
END:VEVENT
BEGIN:VEVENT
DTSTART;TZID=America/New_York:20241011T100000
DTEND;TZID=America/New_York:20241011T103000
DTSTAMP:20260421T215110
CREATED:20240514T163456Z
LAST-MODIFIED:20240514T163456Z
UID:10001086-1728640800-1728642600@wbecnydmv.org
SUMMARY:One Page Business Plan: Office Hours
DESCRIPTION:Register now!
URL:https://wbecnydmv.org/event/one-page-business-plan-office-hours-2/
LOCATION:NY
CATEGORIES:WBEC Metro NY and Greater DMV Events
END:VEVENT
BEGIN:VEVENT
DTSTART;TZID=America/New_York:20241010T173000
DTEND;TZID=America/New_York:20241010T200000
DTSTAMP:20260421T215110
CREATED:20240606T194303Z
LAST-MODIFIED:20240730T142741Z
UID:10001095-1728581400-1728590400@wbecnydmv.org
SUMMARY:MGM National Harbor Business Expo and Procurement Networking Opportunity
DESCRIPTION:Register now!
URL:https://wbecnydmv.org/event/mgm-national-harbor-business-expo-and-procurement-networking-opportunity/
LOCATION:NY
CATEGORIES:Partner Event
END:VEVENT
BEGIN:VEVENT
DTSTART;TZID=America/New_York:20241010T130000
DTEND;TZID=America/New_York:20241010T140000
DTSTAMP:20260421T215110
CREATED:20240129T210458Z
LAST-MODIFIED:20240129T210458Z
UID:10001004-1728565200-1728568800@wbecnydmv.org
SUMMARY:Why and How to Get Certified
DESCRIPTION:Register now!
URL:https://wbecnydmv.org/event/why-and-how-to-get-certified-10/
LOCATION:NY
CATEGORIES:WBEC Metro NY and Greater DMV Events
END:VEVENT
BEGIN:VEVENT
DTSTART;TZID=America/New_York:20241010T080000
DTEND;TZID=America/New_York:20241010T160000
DTSTAMP:20260421T215110
CREATED:20240827T221106Z
LAST-MODIFIED:20240827T221106Z
UID:10001123-1728547200-1728576000@wbecnydmv.org
SUMMARY:ChallengeHER® DMV
DESCRIPTION:Register now!
URL:https://wbecnydmv.org/event/challengeher-dmv/
LOCATION:NY
CATEGORIES:Partner Event
END:VEVENT
BEGIN:VEVENT
DTSTART;TZID=America/New_York:20241009T140000
DTEND;TZID=America/New_York:20241009T140000
DTSTAMP:20260421T215110
CREATED:20241003T205950Z
LAST-MODIFIED:20241003T210058Z
UID:10001133-1728482400-1728482400@wbecnydmv.org
SUMMARY:WIPP Procurement Center of Excellence
DESCRIPTION:Register now!
URL:https://wbecnydmv.org/event/wipp-procurement-center-of-excellence/
LOCATION:NY
CATEGORIES:Partner Event
END:VEVENT
BEGIN:VEVENT
DTSTART;TZID=America/New_York:20241009T100000
DTEND;TZID=America/New_York:20241009T130000
DTSTAMP:20260421T215110
CREATED:20240514T161612Z
LAST-MODIFIED:20240514T161612Z
UID:10001080-1728468000-1728478800@wbecnydmv.org
SUMMARY:One Page Business Plan: Finance and Pricing
DESCRIPTION:Register now!
URL:https://wbecnydmv.org/event/one-page-business-plan-finance-and-pricing/
LOCATION:NY
CATEGORIES:WBEC Metro NY and Greater DMV Events
END:VEVENT
BEGIN:VEVENT
DTSTART;TZID=America/New_York:20241008T120000
DTEND;TZID=America/New_York:20241008T130000
DTSTAMP:20260421T215110
CREATED:20240830T144658Z
LAST-MODIFIED:20240830T145230Z
UID:10001125-1728388800-1728392400@wbecnydmv.org
SUMMARY:Lunch With the Experts: Port Authority of NY/NJ Corporate Connections
DESCRIPTION:Register now!
URL:https://wbecnydmv.org/event/lunch-with-the-experts-port-authority-of-ny-nj-corporate-connections/
LOCATION:NY
CATEGORIES:Lunch with the Experts,WBEC Metro NY Events
END:VEVENT
BEGIN:VEVENT
DTSTART;TZID=America/New_York:20241006T080000
DTEND;TZID=America/New_York:20241008T170000
DTSTAMP:20260421T215110
CREATED:20240827T220216Z
LAST-MODIFIED:20240827T220216Z
UID:10001122-1728201600-1728406800@wbecnydmv.org
SUMMARY:USHCC National Conference
DESCRIPTION:Register now!
URL:https://wbecnydmv.org/event/ushcc-national-conference/
LOCATION:NY
CATEGORIES:Partner Event
END:VEVENT
BEGIN:VEVENT
DTSTART;TZID=America/New_York:20241004T150000
DTEND;TZID=America/New_York:20241004T160000
DTSTAMP:20260421T215111
CREATED:20240917T161813Z
LAST-MODIFIED:20240917T161917Z
UID:10001130-1728054000-1728057600@wbecnydmv.org
SUMMARY:AARP: Intro to Estate Planning Resources & Tools
DESCRIPTION:Register now!
URL:https://wbecnydmv.org/event/aarp-intro-to-estate-planning-resources-tools/
LOCATION:NY
CATEGORIES:Partner Event
END:VEVENT
BEGIN:VEVENT
DTSTART;TZID=America/New_York:20241004T100000
DTEND;TZID=America/New_York:20241004T103000
DTSTAMP:20260421T215111
CREATED:20240514T163406Z
LAST-MODIFIED:20240514T163406Z
UID:10001085-1728036000-1728037800@wbecnydmv.org
SUMMARY:One Page Business Plan: Office Hours
DESCRIPTION:Register now!
URL:https://wbecnydmv.org/event/one-page-business-plan-office-hours/
LOCATION:NY
CATEGORIES:WBEC Metro NY and Greater DMV Events
END:VEVENT
END:VCALENDAR