BEGIN:VCALENDAR
VERSION:2.0
PRODID:-//WBEC NY DMV - ECPv6.15.18//NONSGML v1.0//EN
CALSCALE:GREGORIAN
METHOD:PUBLISH
X-WR-CALNAME:WBEC NY DMV
X-ORIGINAL-URL:https://wbecnydmv.org
X-WR-CALDESC:Events for WBEC NY DMV
REFRESH-INTERVAL;VALUE=DURATION:PT1H
X-Robots-Tag:noindex
X-PUBLISHED-TTL:PT1H
BEGIN:VTIMEZONE
TZID:America/New_York
BEGIN:DAYLIGHT
TZOFFSETFROM:-0500
TZOFFSETTO:-0400
TZNAME:EDT
DTSTART:20230312T070000
END:DAYLIGHT
BEGIN:STANDARD
TZOFFSETFROM:-0400
TZOFFSETTO:-0500
TZNAME:EST
DTSTART:20231105T060000
END:STANDARD
BEGIN:DAYLIGHT
TZOFFSETFROM:-0500
TZOFFSETTO:-0400
TZNAME:EDT
DTSTART:20240310T070000
END:DAYLIGHT
BEGIN:STANDARD
TZOFFSETFROM:-0400
TZOFFSETTO:-0500
TZNAME:EST
DTSTART:20241103T060000
END:STANDARD
BEGIN:DAYLIGHT
TZOFFSETFROM:-0500
TZOFFSETTO:-0400
TZNAME:EDT
DTSTART:20250309T070000
END:DAYLIGHT
BEGIN:STANDARD
TZOFFSETFROM:-0400
TZOFFSETTO:-0500
TZNAME:EST
DTSTART:20251102T060000
END:STANDARD
END:VTIMEZONE
BEGIN:VEVENT
DTSTART;TZID=America/New_York:20240924T083000
DTEND;TZID=America/New_York:20240924T160000
DTSTAMP:20260422T191105
CREATED:20240916T200148Z
LAST-MODIFIED:20240924T163831Z
UID:10001129-1727166600-1727193600@wbecnydmv.org
SUMMARY:50 States Initiative Small Business Summit
DESCRIPTION:Register now!
URL:https://wbecnydmv.org/event/50-states-initiative-small-business-summit/
LOCATION:NY
CATEGORIES:Partner Event
END:VEVENT
BEGIN:VEVENT
DTSTART;TZID=America/New_York:20240920T100000
DTEND;TZID=America/New_York:20240920T140000
DTSTAMP:20260422T191105
CREATED:20240328T185055Z
LAST-MODIFIED:20240917T145948Z
UID:10001060-1726826400-1726840800@wbecnydmv.org
SUMMARY:WBEC Metro NY 25th Anniversary Grand GALA-xy Luncheon
DESCRIPTION:Register now!
URL:https://wbecnydmv.org/event/wbec-metro-ny-25th-anniversary-grand-gala-xy-luncheon/
LOCATION:NY
CATEGORIES:WBEC Metro NY Events
END:VEVENT
BEGIN:VEVENT
DTSTART;TZID=America/New_York:20240918T080000
DTEND;TZID=America/New_York:20240919T170000
DTSTAMP:20260422T191105
CREATED:20240606T165643Z
LAST-MODIFIED:20240606T165849Z
UID:10001094-1726646400-1726765200@wbecnydmv.org
SUMMARY:Capital One Supplier Diversity Summit
DESCRIPTION:Register now!
URL:https://wbecnydmv.org/event/capital-one-supplier-diversity-summit/
LOCATION:NY
CATEGORIES:Partner Event
END:VEVENT
BEGIN:VEVENT
DTSTART;TZID=America/New_York:20240912T130000
DTEND;TZID=America/New_York:20240912T140000
DTSTAMP:20260422T191105
CREATED:20240108T221908Z
LAST-MODIFIED:20240110T210616Z
UID:10000972-1726146000-1726149600@wbecnydmv.org
SUMMARY:Why and How to Get Certified
DESCRIPTION:Register now!
URL:https://wbecnydmv.org/event/why-and-how-to-get-certified-9/
LOCATION:NY
CATEGORIES:WBEC Metro NY and Greater DMV Events
END:VEVENT
BEGIN:VEVENT
DTSTART;TZID=America/New_York:20240912T100000
DTEND;TZID=America/New_York:20240912T100000
DTSTAMP:20260422T191106
CREATED:20240906T152632Z
LAST-MODIFIED:20240906T152632Z
UID:10001126-1726135200-1726135200@wbecnydmv.org
SUMMARY:Citi + Accenture: Collaborate for SUPPLIER DEVELOPMENT
DESCRIPTION:Register now!
URL:https://wbecnydmv.org/event/citi-accenture-collaborate-for-supplier-development/
LOCATION:NY
CATEGORIES:Partner Event
END:VEVENT
BEGIN:VEVENT
DTSTART;TZID=America/New_York:20240912T080000
DTEND;TZID=America/New_York:20240912T160000
DTSTAMP:20260422T191106
CREATED:20240807T165142Z
LAST-MODIFIED:20240807T165142Z
UID:10001108-1726128000-1726156800@wbecnydmv.org
SUMMARY:Veteran Business Summit
DESCRIPTION:Register now!
URL:https://wbecnydmv.org/event/veteran-business-summit/
LOCATION:NY
CATEGORIES:Partner Event
END:VEVENT
BEGIN:VEVENT
DTSTART;TZID=America/New_York:20240910T130000
DTEND;TZID=America/New_York:20240910T150000
DTSTAMP:20260422T191106
CREATED:20240208T195418Z
LAST-MODIFIED:20240213T181448Z
UID:10001028-1725973200-1725980400@wbecnydmv.org
SUMMARY:Sustainability Accelerator Module 2 Workshop 4
DESCRIPTION:Register now!
URL:https://wbecnydmv.org/event/sustainability-accelerator-module-2-workshop-4/
LOCATION:NY
CATEGORIES:WBEC Metro NY and Greater DMV Events
END:VEVENT
BEGIN:VEVENT
DTSTART;TZID=America/New_York:20240910T120000
DTEND;TZID=America/New_York:20240910T130000
DTSTAMP:20260422T191106
CREATED:20240605T195346Z
LAST-MODIFIED:20240605T195346Z
UID:10001092-1725969600-1725973200@wbecnydmv.org
SUMMARY:Lunch With the Experts: Developing Your Capabilities Statement
DESCRIPTION:Register now!
URL:https://wbecnydmv.org/event/lunch-with-the-experts-developing-your-capabilities-statement-2/
LOCATION:NY
CATEGORIES:Lunch with the Experts,WBEC Metro NY Events
END:VEVENT
BEGIN:VEVENT
DTSTART;TZID=America/New_York:20240910T100000
DTEND;TZID=America/New_York:20240910T140000
DTSTAMP:20260422T191106
CREATED:20240514T142704Z
LAST-MODIFIED:20250430T180141Z
UID:10001077-1725962400-1725976800@wbecnydmv.org
SUMMARY:Convergence 2024: A Supplier Diversity Expo & Job Fair
DESCRIPTION:Register now!
URL:https://wbecnydmv.org/event/convergence-2024-a-supplier-diversity-expo-job-fair/
LOCATION:Greater Richmond Convention Center\, 403 N 3rd St\, Richmond\, VA\, 23219
CATEGORIES:Partner Event
END:VEVENT
BEGIN:VEVENT
DTSTART;TZID=America/New_York:20240903T120000
DTEND;TZID=America/New_York:20240903T123000
DTSTAMP:20260422T191106
CREATED:20240826T191937Z
LAST-MODIFIED:20240827T202856Z
UID:10001115-1725364800-1725366600@wbecnydmv.org
SUMMARY:Cybersecurity Intensive Information Session
DESCRIPTION:Register now!
URL:https://wbecnydmv.org/event/lunch-with-the-experts-cybersecurity-intensive-information-session/
LOCATION:NY
CATEGORIES:WBEC Metro NY and Greater DMV Events
END:VEVENT
BEGIN:VEVENT
DTSTART;TZID=America/New_York:20240829T123000
DTEND;TZID=America/New_York:20240829T133000
DTSTAMP:20260422T191106
CREATED:20240826T160532Z
LAST-MODIFIED:20240827T202729Z
UID:10001113-1724934600-1724938200@wbecnydmv.org
SUMMARY:Ascend Retail Business Accelerator
DESCRIPTION:Register now!
URL:https://wbecnydmv.org/event/ascend-retail-business-accelerator/
LOCATION:NY
CATEGORIES:Partner Event
END:VEVENT
BEGIN:VEVENT
DTSTART;TZID=America/New_York:20240828T110000
DTEND;TZID=America/New_York:20240828T123000
DTSTAMP:20260422T191106
CREATED:20240827T215651Z
LAST-MODIFIED:20240828T142317Z
UID:10001121-1724842800-1724848200@wbecnydmv.org
SUMMARY:Learn and Experience Generative AI
DESCRIPTION:Register now!
URL:https://wbecnydmv.org/event/learn-and-experience-generative-ai-register-for-the-free-ibm-watsonx-interactive-workshop/
LOCATION:NY
CATEGORIES:Partner Event
END:VEVENT
BEGIN:VEVENT
DTSTART;TZID=America/New_York:20240827T120000
DTEND;TZID=America/New_York:20240827T130000
DTSTAMP:20260422T191106
CREATED:20240610T204846Z
LAST-MODIFIED:20240610T204846Z
UID:10001098-1724760000-1724763600@wbecnydmv.org
SUMMARY:Lunch with the Experts: Understanding Insurance\, Protecting your Assets While Competing with Big Business with AARP
DESCRIPTION:Register now!
URL:https://wbecnydmv.org/event/lunch-with-the-experts-understanding-insurance-protecting-your-assets-while-competing-with-big-business-with-aarp/
LOCATION:NY
CATEGORIES:Lunch with the Experts,WBEC Greater DMV Events
END:VEVENT
BEGIN:VEVENT
DTSTART;TZID=America/New_York:20240825T180000
DTEND;TZID=America/New_York:20240826T163000
DTSTAMP:20260422T191106
CREATED:20240819T171623Z
LAST-MODIFIED:20240819T171858Z
UID:10001111-1724608800-1724689800@wbecnydmv.org
SUMMARY:Take The Lead PowerUp Concert & Conference
DESCRIPTION:Register now!
URL:https://wbecnydmv.org/event/take-the-lead-powerup-concert-conference/
LOCATION:NY
CATEGORIES:Partner Event
END:VEVENT
BEGIN:VEVENT
DTSTART;TZID=America/New_York:20240822T130000
DTEND;TZID=America/New_York:20240822T140000
DTSTAMP:20260422T191106
CREATED:20240108T174458Z
LAST-MODIFIED:20240111T192445Z
UID:10000965-1724331600-1724335200@wbecnydmv.org
SUMMARY:WBEC Metro NY And Greater DMV: I'm Certified\, Now What?
DESCRIPTION:Register now!
URL:https://wbecnydmv.org/event/wbec-metro-ny-and-greater-dmv-im-certified-now-what-10/
LOCATION:NY
CATEGORIES:WBEC Metro NY and Greater DMV Events
END:VEVENT
BEGIN:VEVENT
DTSTART;TZID=America/New_York:20240821T100000
DTEND;TZID=America/New_York:20240821T113000
DTSTAMP:20260422T191106
CREATED:20240129T204020Z
LAST-MODIFIED:20240129T204020Z
UID:10001009-1724234400-1724239800@wbecnydmv.org
SUMMARY:Amplify Mastermind 2024: Celebration
DESCRIPTION:Register now!
URL:https://wbecnydmv.org/event/amplify-mastermind-2024-celebration/
LOCATION:NY
CATEGORIES:WBEC Metro NY and Greater DMV Events
END:VEVENT
BEGIN:VEVENT
DTSTART;TZID=America/New_York:20240820T130000
DTEND;TZID=America/New_York:20240820T150000
DTSTAMP:20260422T191106
CREATED:20240208T195148Z
LAST-MODIFIED:20240213T181407Z
UID:10001027-1724158800-1724166000@wbecnydmv.org
SUMMARY:Sustainability Accelerator Module 2 Workshop 3
DESCRIPTION:Register now!
URL:https://wbecnydmv.org/event/sustainability-accelerator-module-2-workshop-3/
LOCATION:NY
CATEGORIES:WBEC Metro NY and Greater DMV Events
END:VEVENT
BEGIN:VEVENT
DTSTART;TZID=America/New_York:20240815T120000
DTEND;TZID=America/New_York:20240815T133000
DTSTAMP:20260422T191106
CREATED:20240809T174628Z
LAST-MODIFIED:20240815T125747Z
UID:10001109-1723723200-1723728600@wbecnydmv.org
SUMMARY:Build Your Business Wealth Seminar Series: AI\, Staying In Charge\, Understanding Implications
DESCRIPTION:Register now!
URL:https://wbecnydmv.org/event/build-your-business-wealth-seminar-series-ai-staying-in-charge-understanding-implications/
LOCATION:NY
CATEGORIES:WBEC Greater DMV Events,WBEC Metro NY and Greater DMV Events,WBEC Metro NY Events
END:VEVENT
BEGIN:VEVENT
DTSTART;TZID=America/New_York:20240814T143000
DTEND;TZID=America/New_York:20240814T143000
DTSTAMP:20260422T191106
CREATED:20240314T152715Z
LAST-MODIFIED:20240805T154644Z
UID:10001057-1723645800-1723645800@wbecnydmv.org
SUMMARY:2024 WBEC Greater DMV Live Regional Pitch Competition
DESCRIPTION:Register now!
URL:https://wbecnydmv.org/event/2024-wbec-greater-dmv-live-regional-pitch-competition/
LOCATION:NY
CATEGORIES:WBEC Greater DMV Events
END:VEVENT
BEGIN:VEVENT
DTSTART;TZID=America/New_York:20240814T103000
DTEND;TZID=America/New_York:20240814T103000
DTSTAMP:20260422T191106
CREATED:20240314T152016Z
LAST-MODIFIED:20240805T154725Z
UID:10001056-1723631400-1723631400@wbecnydmv.org
SUMMARY:2024 WBEC Metro NY Live Regional Pitch Competition
DESCRIPTION:Register now!
URL:https://wbecnydmv.org/event/2024-wbec-metro-ny-live-regional-pitch-competition/
LOCATION:NY
CATEGORIES:WBEC Metro NY Events
END:VEVENT
BEGIN:VEVENT
DTSTART;TZID=America/New_York:20240813T120000
DTEND;TZID=America/New_York:20240813T130000
DTSTAMP:20260422T191106
CREATED:20240605T193823Z
LAST-MODIFIED:20240605T193911Z
UID:10001091-1723550400-1723554000@wbecnydmv.org
SUMMARY:Lunch With the Experts: NYPA Corporate Connections
DESCRIPTION:Register now!
URL:https://wbecnydmv.org/event/lunch-with-the-experts-nypa-corporate-connections-2/
LOCATION:NY
CATEGORIES:Lunch with the Experts,WBEC Metro NY Events
END:VEVENT
BEGIN:VEVENT
DTSTART;TZID=America/New_York:20240808T130000
DTEND;TZID=America/New_York:20240808T140000
DTSTAMP:20260422T191106
CREATED:20240108T221734Z
LAST-MODIFIED:20240110T210550Z
UID:10000971-1723122000-1723125600@wbecnydmv.org
SUMMARY:Why and How to Get Certified
DESCRIPTION:Register now!
URL:https://wbecnydmv.org/event/why-and-how-to-get-certified-8/
LOCATION:NY
CATEGORIES:WBEC Metro NY and Greater DMV Events
END:VEVENT
BEGIN:VEVENT
DTSTART;TZID=America/New_York:20240807T100000
DTEND;TZID=America/New_York:20240807T113000
DTSTAMP:20260422T191106
CREATED:20240129T205339Z
LAST-MODIFIED:20240129T205339Z
UID:10001017-1723024800-1723030200@wbecnydmv.org
SUMMARY:Amplify Mastermind 2024: The Art of The Sale
DESCRIPTION:Register now!
URL:https://wbecnydmv.org/event/amplify-mastermind-2024-the-art-of-the-sale/
LOCATION:NY
CATEGORIES:WBEC Metro NY and Greater DMV Events
END:VEVENT
BEGIN:VEVENT
DTSTART;TZID=America/New_York:20240806T110000
DTEND;TZID=America/New_York:20240806T120000
DTSTAMP:20260422T191106
CREATED:20240702T194839Z
LAST-MODIFIED:20240730T135750Z
UID:10001104-1722942000-1722945600@wbecnydmv.org
SUMMARY:Build Your Business Wealth Seminar Series: Empowering Entrepreneurs with Financial Knowledge
DESCRIPTION:Register now!
URL:https://wbecnydmv.org/event/build-your-business-wealth-seminar-series-empowering-entrepreneurs-with-financial-knowledge/
LOCATION:NY
CATEGORIES:WBEC Greater DMV Events,WBEC Metro NY and Greater DMV Events,WBEC Metro NY Events
END:VEVENT
BEGIN:VEVENT
DTSTART;TZID=America/New_York:20240801T130000
DTEND;TZID=America/New_York:20240801T140000
DTSTAMP:20260422T191106
CREATED:20240108T170603Z
LAST-MODIFIED:20240730T135705Z
UID:10000964-1722517200-1722520800@wbecnydmv.org
SUMMARY:WBEC Metro NY And Greater DMV: I'm Certified\, Now What?
DESCRIPTION:Register now!
URL:https://wbecnydmv.org/event/wbec-metro-ny-and-greater-dmv-im-certified-now-what-9/
LOCATION:NY
CATEGORIES:WBEC Metro NY and Greater DMV Events
END:VEVENT
BEGIN:VEVENT
DTSTART;TZID=America/New_York:20240731T130000
DTEND;TZID=America/New_York:20240731T160000
DTSTAMP:20260422T191106
CREATED:20240606T164526Z
LAST-MODIFIED:20240730T133740Z
UID:10001093-1722430800-1722441600@wbecnydmv.org
SUMMARY:WIPP MatchMaker Madness
DESCRIPTION:Register now!
URL:https://wbecnydmv.org/event/wipp-matchmaker-madness/
LOCATION:NY
CATEGORIES:Partner Event
END:VEVENT
BEGIN:VEVENT
DTSTART;TZID=America/New_York:20240730T130000
DTEND;TZID=America/New_York:20240730T150000
DTSTAMP:20260422T191106
CREATED:20240208T194847Z
LAST-MODIFIED:20240730T135648Z
UID:10001026-1722344400-1722351600@wbecnydmv.org
SUMMARY:Sustainability Accelerator Module 2 Workshop 2
DESCRIPTION:Register now!
URL:https://wbecnydmv.org/event/sustainability-accelerator-module-2-workshop-2/
LOCATION:NY
CATEGORIES:WBEC Metro NY and Greater DMV Events
END:VEVENT
BEGIN:VEVENT
DTSTART;TZID=America/New_York:20240724T100000
DTEND;TZID=America/New_York:20240724T113000
DTSTAMP:20260422T191106
CREATED:20240129T203730Z
LAST-MODIFIED:20240710T172514Z
UID:10001008-1721815200-1721820600@wbecnydmv.org
SUMMARY:Amplify Mastermind 2024: Business Development and Networking
DESCRIPTION:Register now!
URL:https://wbecnydmv.org/event/amplify-mastermind-2024-business-development-and-networking/
LOCATION:NY
CATEGORIES:WBEC Metro NY and Greater DMV Events
END:VEVENT
BEGIN:VEVENT
DTSTART;TZID=America/New_York:20240723T120000
DTEND;TZID=America/New_York:20240723T130000
DTSTAMP:20260422T191106
CREATED:20240610T203532Z
LAST-MODIFIED:20240710T174211Z
UID:10001097-1721736000-1721739600@wbecnydmv.org
SUMMARY:Lunch with the Experts: AARP Supplier Diversity
DESCRIPTION:Register now!
URL:https://wbecnydmv.org/event/lunch-with-the-experts-aarp-supplier-diversity-2/
LOCATION:NY
CATEGORIES:Lunch with the Experts,WBEC Greater DMV Events
END:VEVENT
BEGIN:VEVENT
DTSTART;TZID=America/New_York:20240711T130000
DTEND;TZID=America/New_York:20240711T140000
DTSTAMP:20260422T191106
CREATED:20240108T221513Z
LAST-MODIFIED:20240709T192744Z
UID:10000970-1720702800-1720706400@wbecnydmv.org
SUMMARY:Why and How to Get Certified
DESCRIPTION:Register now!
URL:https://wbecnydmv.org/event/why-and-how-to-get-certified-7/
LOCATION:NY
CATEGORIES:WBEC Metro NY and Greater DMV Events
END:VEVENT
END:VCALENDAR