BEGIN:VCALENDAR
VERSION:2.0
PRODID:-//WBEC NY DMV - ECPv6.15.18//NONSGML v1.0//EN
CALSCALE:GREGORIAN
METHOD:PUBLISH
X-WR-CALNAME:WBEC NY DMV
X-ORIGINAL-URL:https://wbecnydmv.org
X-WR-CALDESC:Events for WBEC NY DMV
REFRESH-INTERVAL;VALUE=DURATION:PT1H
X-Robots-Tag:noindex
X-PUBLISHED-TTL:PT1H
BEGIN:VTIMEZONE
TZID:America/New_York
BEGIN:DAYLIGHT
TZOFFSETFROM:-0500
TZOFFSETTO:-0400
TZNAME:EDT
DTSTART:20230312T070000
END:DAYLIGHT
BEGIN:STANDARD
TZOFFSETFROM:-0400
TZOFFSETTO:-0500
TZNAME:EST
DTSTART:20231105T060000
END:STANDARD
BEGIN:DAYLIGHT
TZOFFSETFROM:-0500
TZOFFSETTO:-0400
TZNAME:EDT
DTSTART:20240310T070000
END:DAYLIGHT
BEGIN:STANDARD
TZOFFSETFROM:-0400
TZOFFSETTO:-0500
TZNAME:EST
DTSTART:20241103T060000
END:STANDARD
BEGIN:DAYLIGHT
TZOFFSETFROM:-0500
TZOFFSETTO:-0400
TZNAME:EDT
DTSTART:20250309T070000
END:DAYLIGHT
BEGIN:STANDARD
TZOFFSETFROM:-0400
TZOFFSETTO:-0500
TZNAME:EST
DTSTART:20251102T060000
END:STANDARD
END:VTIMEZONE
BEGIN:VEVENT
DTSTART;TZID=America/New_York:20240620T090000
DTEND;TZID=America/New_York:20240620T170000
DTSTAMP:20260422T191945
CREATED:20240122T213228Z
LAST-MODIFIED:20240122T213228Z
UID:10000983-1718874000-1718902800@wbecnydmv.org
SUMMARY:WBEC Greater DMV SAGE Advice Day 1
DESCRIPTION:Register now!
URL:https://wbecnydmv.org/event/wbec-greater-dmv-sage-advice-day-1-6/
LOCATION:NY
CATEGORIES:WBEC Greater DMV Events
END:VEVENT
BEGIN:VEVENT
DTSTART;TZID=America/New_York:20240618T090000
DTEND;TZID=America/New_York:20240618T170000
DTSTAMP:20260422T191945
CREATED:20240122T215222Z
LAST-MODIFIED:20240423T143959Z
UID:10000994-1718701200-1718730000@wbecnydmv.org
SUMMARY:WBEC Metro NY SAGE Advice Day 1
DESCRIPTION:Register now!
URL:https://wbecnydmv.org/event/wbec-metro-ny-sage-advice-day-1-6/
LOCATION:NY
CATEGORIES:WBEC Metro NY Events
END:VEVENT
BEGIN:VEVENT
DTSTART;TZID=America/New_York:20240614T150000
DTEND;TZID=America/New_York:20240614T160000
DTSTAMP:20260422T191945
CREATED:20240611T200535Z
LAST-MODIFIED:20240611T200616Z
UID:10001101-1718377200-1718380800@wbecnydmv.org
SUMMARY:AARP: Digital Tools to Boost Your Business
DESCRIPTION:Register now!
URL:https://wbecnydmv.org/event/aarp-digital-tools-to-boost-your-business/
LOCATION:NY
CATEGORIES:Partner Event
END:VEVENT
BEGIN:VEVENT
DTSTART;TZID=America/New_York:20240613T130000
DTEND;TZID=America/New_York:20240613T140000
DTSTAMP:20260422T191945
CREATED:20240108T220441Z
LAST-MODIFIED:20240110T210446Z
UID:10000969-1718283600-1718287200@wbecnydmv.org
SUMMARY:Why and How to Get Certified
DESCRIPTION:Register now!
URL:https://wbecnydmv.org/event/why-and-how-to-get-certified-6/
LOCATION:NY
CATEGORIES:WBEC Metro NY and Greater DMV Events
END:VEVENT
BEGIN:VEVENT
DTSTART;TZID=America/New_York:20240612T100000
DTEND;TZID=America/New_York:20240612T113000
DTSTAMP:20260422T191945
CREATED:20240129T205223Z
LAST-MODIFIED:20240129T205223Z
UID:10001016-1718186400-1718191800@wbecnydmv.org
SUMMARY:Amplify Mastermind 2024: Teaming/JV/Partnerships
DESCRIPTION:Register now!
URL:https://wbecnydmv.org/event/amplify-mastermind-2024-teaming-jv-partnerships/
LOCATION:NY
CATEGORIES:WBEC Metro NY and Greater DMV Events
END:VEVENT
BEGIN:VEVENT
DTSTART;TZID=America/New_York:20240611T120000
DTEND;TZID=America/New_York:20240611T130000
DTSTAMP:20260422T191945
CREATED:20240306T162742Z
LAST-MODIFIED:20240306T162742Z
UID:10001046-1718107200-1718110800@wbecnydmv.org
SUMMARY:Lunch With the Experts: Self Care & The Entrepreneur with the Katz Institute for Women's Health
DESCRIPTION:Register now!
URL:https://wbecnydmv.org/event/lunch-with-the-experts-self-care-the-entrepreneur-with-the-katz-institute-for-womens-health/
LOCATION:NY
CATEGORIES:Lunch with the Experts,WBEC Metro NY Events
END:VEVENT
BEGIN:VEVENT
DTSTART;TZID=America/New_York:20240607T150000
DTEND;TZID=America/New_York:20240607T160000
DTSTAMP:20260422T191945
CREATED:20240611T200119Z
LAST-MODIFIED:20240611T200214Z
UID:10001100-1717772400-1717776000@wbecnydmv.org
SUMMARY:AARP: Protecting Your Personal Information Online
DESCRIPTION:Register now!
URL:https://wbecnydmv.org/event/aarp-protecting-your-personal-information-online/
LOCATION:NY
CATEGORIES:Partner Event
END:VEVENT
BEGIN:VEVENT
DTSTART;TZID=America/New_York:20240607T090000
DTEND;TZID=America/New_York:20240607T150000
DTSTAMP:20260422T191945
CREATED:20240520T212259Z
LAST-MODIFIED:20240520T212259Z
UID:10001090-1717750800-1717772400@wbecnydmv.org
SUMMARY:AI & CYBER SECURITY SUMMIT
DESCRIPTION:Register now!
URL:https://wbecnydmv.org/event/ai-cyber-security-summit/
LOCATION:NY
CATEGORIES:Partner Event
END:VEVENT
BEGIN:VEVENT
DTSTART;TZID=America/New_York:20240607T080000
DTEND;TZID=America/New_York:20240607T150000
DTSTAMP:20260422T191945
CREATED:20240426T155437Z
LAST-MODIFIED:20240530T202830Z
UID:10001071-1717747200-1717772400@wbecnydmv.org
SUMMARY:Breaking Barriers & Creating Pathways Government and Business Expo
DESCRIPTION:Register now!
URL:https://wbecnydmv.org/event/breaking-barriers-creating-pathways-government-and-business-expo/
LOCATION:NY
CATEGORIES:Partner Event
END:VEVENT
BEGIN:VEVENT
DTSTART;TZID=America/New_York:20240606T090000
DTEND;TZID=America/New_York:20240606T170000
DTSTAMP:20260422T191945
CREATED:20240122T220006Z
LAST-MODIFIED:20240530T194843Z
UID:10000999-1717664400-1717693200@wbecnydmv.org
SUMMARY:WBEC Metro NY & Greater DMV SAGE Advice Day 2
DESCRIPTION:Register now!
URL:https://wbecnydmv.org/event/wbec-metro-ny-sage-advice-day-2-5/
LOCATION:NY
CATEGORIES:WBEC Metro NY and Greater DMV Events
END:VEVENT
BEGIN:VEVENT
DTSTART;TZID=America/New_York:20240605T090000
DTEND;TZID=America/New_York:20240605T170000
DTSTAMP:20260422T191945
CREATED:20240122T215034Z
LAST-MODIFIED:20240530T194835Z
UID:10000993-1717578000-1717606800@wbecnydmv.org
SUMMARY:WBEC Metro NY & Greater DMV SAGE Advice Day 1
DESCRIPTION:Register now!
URL:https://wbecnydmv.org/event/wbec-metro-ny-sage-advice-day-1-5/
LOCATION:NY
CATEGORIES:WBEC Metro NY and Greater DMV Events
END:VEVENT
BEGIN:VEVENT
DTSTART;TZID=America/New_York:20240604T130000
DTEND;TZID=America/New_York:20240604T150000
DTSTAMP:20260422T191945
CREATED:20240208T193933Z
LAST-MODIFIED:20240530T194438Z
UID:10001024-1717506000-1717513200@wbecnydmv.org
SUMMARY:Sustainability Accelerator Module 1 Workshop 4
DESCRIPTION:Register now!
URL:https://wbecnydmv.org/event/sustainability-accelerator-module-1-workshop-4/
LOCATION:NY
CATEGORIES:WBEC Metro NY and Greater DMV Events
END:VEVENT
BEGIN:VEVENT
DTSTART;TZID=America/New_York:20240530T130000
DTEND;TZID=America/New_York:20240530T140000
DTSTAMP:20260422T191945
CREATED:20240108T165648Z
LAST-MODIFIED:20240530T194307Z
UID:10000962-1717074000-1717077600@wbecnydmv.org
SUMMARY:WBEC Metro NY And Greater DMV: I'm Certified\, Now What?
DESCRIPTION:Register now!
URL:https://wbecnydmv.org/event/wbec-metro-ny-and-greater-dmv-im-certified-now-what-7/
LOCATION:NY
CATEGORIES:WBEC Metro NY and Greater DMV Events
END:VEVENT
BEGIN:VEVENT
DTSTART;TZID=America/New_York:20240529T100000
DTEND;TZID=America/New_York:20240529T113000
DTSTAMP:20260422T191945
CREATED:20240129T205013Z
LAST-MODIFIED:20240129T205041Z
UID:10001015-1716976800-1716982200@wbecnydmv.org
SUMMARY:Amplify Mastermind 2024: Sustainability\, Amplify Your Value in the Supply Chain
DESCRIPTION:Register now!
URL:https://wbecnydmv.org/event/amplify-mastermind-2024-sustainability-amplify-your-value-in-the-supply-chain/
LOCATION:NY
CATEGORIES:WBEC Metro NY and Greater DMV Events
END:VEVENT
BEGIN:VEVENT
DTSTART;TZID=America/New_York:20240528T120000
DTEND;TZID=America/New_York:20240528T130000
DTSTAMP:20260422T191945
CREATED:20240506T155652Z
LAST-MODIFIED:20240506T160236Z
UID:10001075-1716897600-1716901200@wbecnydmv.org
SUMMARY:Lunch with the Experts: Managing Business Credit presented by Wells Fargo
DESCRIPTION:Register now!
URL:https://wbecnydmv.org/event/lunch-with-the-experts-managing-business-credit-presented-by-wells-fargo/
LOCATION:NY
CATEGORIES:Lunch with the Experts,WBEC Greater DMV Events
END:VEVENT
BEGIN:VEVENT
DTSTART;TZID=America/New_York:20240523T090000
DTEND;TZID=America/New_York:20240523T120000
DTSTAMP:20260422T191945
CREATED:20240514T144432Z
LAST-MODIFIED:20240514T144432Z
UID:10001078-1716454800-1716465600@wbecnydmv.org
SUMMARY:City of Frederick - Vendor Resource Fair
DESCRIPTION:Register now!
URL:https://wbecnydmv.org/event/city-of-frederick-vendor-resource-fair/
LOCATION:NY
CATEGORIES:Partner Event
END:VEVENT
BEGIN:VEVENT
DTSTART;TZID=America/New_York:20240516T130000
DTEND;TZID=America/New_York:20240516T140000
DTSTAMP:20260422T191946
CREATED:20240422T201452Z
LAST-MODIFIED:20240502T164220Z
UID:10001068-1715864400-1715868000@wbecnydmv.org
SUMMARY:WBEC Greater DMV Pitch Academy: Prepare to Amplify Your Pitch
DESCRIPTION:Register now!
URL:https://wbecnydmv.org/event/wbec-greater-dmv-pitch-academy-1-prepare-to-amplify-your-pitch/
LOCATION:NY
CATEGORIES:WBEC Greater DMV Events
END:VEVENT
BEGIN:VEVENT
DTSTART;TZID=America/New_York:20240516T100000
DTEND;TZID=America/New_York:20240516T110000
DTSTAMP:20260422T191946
CREATED:20240424T173819Z
LAST-MODIFIED:20240502T163957Z
UID:10001070-1715853600-1715857200@wbecnydmv.org
SUMMARY:WBEC Metro NY Pitch Academy: Prepare to Amplify Your Pitch
DESCRIPTION:Register now!
URL:https://wbecnydmv.org/event/webc-metro-ny-pitch-academy-prepare-to-amplify-your-pitch/
LOCATION:NY
CATEGORIES:WBEC Metro NY Events
END:VEVENT
BEGIN:VEVENT
DTSTART;TZID=America/New_York:20240515T100000
DTEND;TZID=America/New_York:20240515T113000
DTSTAMP:20260422T191946
CREATED:20240129T204205Z
LAST-MODIFIED:20240129T204205Z
UID:10001010-1715767200-1715772600@wbecnydmv.org
SUMMARY:Amplify Mastermind 2024: Growth vs. Scaling
DESCRIPTION:Register now!
URL:https://wbecnydmv.org/event/amplify-mastermind-2024-growth-vs-scaling/
LOCATION:NY
CATEGORIES:WBEC Metro NY and Greater DMV Events
END:VEVENT
BEGIN:VEVENT
DTSTART;TZID=America/New_York:20240514T130000
DTEND;TZID=America/New_York:20240514T150000
DTSTAMP:20260422T191946
CREATED:20240208T193412Z
LAST-MODIFIED:20240213T181111Z
UID:10001023-1715691600-1715698800@wbecnydmv.org
SUMMARY:Sustainability Accelerator Module 1 Workshop 3
DESCRIPTION:Register now!
URL:https://wbecnydmv.org/event/sustainability-accelerator-module-1-workshop-3/
LOCATION:NY
CATEGORIES:WBEC Metro NY and Greater DMV Events
END:VEVENT
BEGIN:VEVENT
DTSTART;TZID=America/New_York:20240514T120000
DTEND;TZID=America/New_York:20240514T130000
DTSTAMP:20260422T191946
CREATED:20240306T161641Z
LAST-MODIFIED:20240306T161810Z
UID:10001045-1715688000-1715691600@wbecnydmv.org
SUMMARY:Lunch With the Experts: KPMG Corporate Connections
DESCRIPTION:Register now!
URL:https://wbecnydmv.org/event/lunch-with-the-experts-kpmg-corporate-connections/
LOCATION:NY
CATEGORIES:Lunch with the Experts,WBEC Metro NY Events
END:VEVENT
BEGIN:VEVENT
DTSTART;TZID=America/New_York:20240509T130000
DTEND;TZID=America/New_York:20240509T143000
DTSTAMP:20260422T191946
CREATED:20240314T212307Z
LAST-MODIFIED:20240314T212841Z
UID:10001058-1715259600-1715265000@wbecnydmv.org
SUMMARY:SCALEit Masterclass
DESCRIPTION:Register now!
URL:https://wbecnydmv.org/event/scaleit-masterclass/
LOCATION:NY
CATEGORIES:WBEC Metro NY and Greater DMV Events
END:VEVENT
BEGIN:VEVENT
DTSTART;TZID=America/New_York:20240509T130000
DTEND;TZID=America/New_York:20240509T140000
DTSTAMP:20260422T191946
CREATED:20240108T220228Z
LAST-MODIFIED:20240110T210410Z
UID:10000968-1715259600-1715263200@wbecnydmv.org
SUMMARY:Why and How to Get Certified
DESCRIPTION:Register now!
URL:https://wbecnydmv.org/event/why-and-how-to-get-certified-5/
LOCATION:NY
CATEGORIES:WBEC Metro NY and Greater DMV Events
END:VEVENT
BEGIN:VEVENT
DTSTART;TZID=America/New_York:20240508T100000
DTEND;TZID=America/New_York:20240508T150000
DTSTAMP:20260422T191946
CREATED:20240226T195534Z
LAST-MODIFIED:20240325T170100Z
UID:10001042-1715162400-1715180400@wbecnydmv.org
SUMMARY:Virtual Mega Matchmaker: Day 2
DESCRIPTION:Register now!
URL:https://wbecnydmv.org/event/virtual-mega-matchmaker-2/
LOCATION:NY
CATEGORIES:WBEC Metro NY and Greater DMV Events
END:VEVENT
BEGIN:VEVENT
DTSTART;TZID=America/New_York:20240507T100000
DTEND;TZID=America/New_York:20240507T150000
DTSTAMP:20260422T191946
CREATED:20240226T195225Z
LAST-MODIFIED:20240325T165339Z
UID:10001041-1715076000-1715094000@wbecnydmv.org
SUMMARY:Virtual Mega Matchmaker: Day1
DESCRIPTION:Register now!
URL:https://wbecnydmv.org/event/virtual-mega-matchmaker/
LOCATION:NY
CATEGORIES:WBEC Metro NY and Greater DMV Events
END:VEVENT
BEGIN:VEVENT
DTSTART;TZID=America/New_York:20240503T090000
DTEND;TZID=America/New_York:20240503T130000
DTSTAMP:20260422T191946
CREATED:20240417T150603Z
LAST-MODIFIED:20240501T170033Z
UID:10001065-1714726800-1714741200@wbecnydmv.org
SUMMARY:SHOW ME THE RESOURCES!
DESCRIPTION:Register now!
URL:https://wbecnydmv.org/event/show-me-the-resources/
LOCATION:NY
CATEGORIES:Partner Event
END:VEVENT
BEGIN:VEVENT
DTSTART;TZID=America/New_York:20240502T180000
DTEND;TZID=America/New_York:20240502T200000
DTSTAMP:20260422T191946
CREATED:20240419T181807Z
LAST-MODIFIED:20240430T203633Z
UID:10001067-1714672800-1714680000@wbecnydmv.org
SUMMARY:The (Re)Connect
DESCRIPTION:Register now!
URL:https://wbecnydmv.org/event/the-reconnect/
LOCATION:NY
CATEGORIES:Partner Event
END:VEVENT
BEGIN:VEVENT
DTSTART;TZID=America/New_York:20240502T090000
DTEND;TZID=America/New_York:20240502T170000
DTSTAMP:20260422T191946
CREATED:20240122T215911Z
LAST-MODIFIED:20240501T170010Z
UID:10000998-1714640400-1714669200@wbecnydmv.org
SUMMARY:WBEC Metro NY & Greater DMV SAGE Advice Day 2
DESCRIPTION:Register now!
URL:https://wbecnydmv.org/event/wbec-metro-ny-sage-advice-day-2-4/
LOCATION:NY
CATEGORIES:WBEC Metro NY and Greater DMV Events
END:VEVENT
BEGIN:VEVENT
DTSTART;TZID=America/New_York:20240501T090000
DTEND;TZID=America/New_York:20240501T170000
DTSTAMP:20260422T191946
CREATED:20240122T214922Z
LAST-MODIFIED:20240501T170004Z
UID:10000992-1714554000-1714582800@wbecnydmv.org
SUMMARY:WBEC Metro NY & Greater DMV SAGE Advice Day 1
DESCRIPTION:Register now!
URL:https://wbecnydmv.org/event/wbec-metro-ny-sage-advice-day-1-4/
LOCATION:NY
CATEGORIES:WBEC Metro NY and Greater DMV Events
END:VEVENT
BEGIN:VEVENT
DTSTART;TZID=America/New_York:20240427T103000
DTEND;TZID=America/New_York:20240427T120000
DTSTAMP:20260422T191946
CREATED:20240419T180931Z
LAST-MODIFIED:20240419T180931Z
UID:10001066-1714213800-1714219200@wbecnydmv.org
SUMMARY:Supercharge Your Content Process: Leveraging AI for Business Growth
DESCRIPTION:Register now!
URL:https://wbecnydmv.org/event/supercharge-your-content-process-leveraging-ai-for-business-growth/
LOCATION:NY
CATEGORIES:Partner Event
END:VEVENT
END:VCALENDAR