BEGIN:VCALENDAR
VERSION:2.0
PRODID:-//WBEC NY DMV - ECPv6.15.18//NONSGML v1.0//EN
CALSCALE:GREGORIAN
METHOD:PUBLISH
X-WR-CALNAME:WBEC NY DMV
X-ORIGINAL-URL:https://wbecnydmv.org
X-WR-CALDESC:Events for WBEC NY DMV
REFRESH-INTERVAL;VALUE=DURATION:PT1H
X-Robots-Tag:noindex
X-PUBLISHED-TTL:PT1H
BEGIN:VTIMEZONE
TZID:America/New_York
BEGIN:DAYLIGHT
TZOFFSETFROM:-0500
TZOFFSETTO:-0400
TZNAME:EDT
DTSTART:20230312T070000
END:DAYLIGHT
BEGIN:STANDARD
TZOFFSETFROM:-0400
TZOFFSETTO:-0500
TZNAME:EST
DTSTART:20231105T060000
END:STANDARD
BEGIN:DAYLIGHT
TZOFFSETFROM:-0500
TZOFFSETTO:-0400
TZNAME:EDT
DTSTART:20240310T070000
END:DAYLIGHT
BEGIN:STANDARD
TZOFFSETFROM:-0400
TZOFFSETTO:-0500
TZNAME:EST
DTSTART:20241103T060000
END:STANDARD
BEGIN:DAYLIGHT
TZOFFSETFROM:-0500
TZOFFSETTO:-0400
TZNAME:EDT
DTSTART:20250309T070000
END:DAYLIGHT
BEGIN:STANDARD
TZOFFSETFROM:-0400
TZOFFSETTO:-0500
TZNAME:EST
DTSTART:20251102T060000
END:STANDARD
END:VTIMEZONE
BEGIN:VEVENT
DTSTART;TZID=America/New_York:20240423T120000
DTEND;TZID=America/New_York:20240423T130000
DTSTAMP:20260423T034805
CREATED:20240312T172825Z
LAST-MODIFIED:20240315T134040Z
UID:10001050-1713873600-1713877200@wbecnydmv.org
SUMMARY:Lunch with the Experts: Conflict to Innovation\, Managing Conflict at Work to Increase Employee Engagement
DESCRIPTION:Register now!
URL:https://wbecnydmv.org/event/lunch-with-the-experts-conflict-to-innovation-managing-conflict-at-work-to-increase-employee-engagement/
LOCATION:NY
CATEGORIES:Lunch with the Experts,WBEC Greater DMV Events
END:VEVENT
BEGIN:VEVENT
DTSTART;TZID=America/New_York:20240418T090000
DTEND;TZID=America/New_York:20240418T140000
DTSTAMP:20260423T034805
CREATED:20240122T214018Z
LAST-MODIFIED:20240122T214018Z
UID:10000987-1713430800-1713448800@wbecnydmv.org
SUMMARY:WBEC Greater DMV SAGE Advice Day 2
DESCRIPTION:Register now!
URL:https://wbecnydmv.org/event/wbec-greater-dmv-sage-advice-day-2-4/
LOCATION:NY
CATEGORIES:WBEC Greater DMV Events
END:VEVENT
BEGIN:VEVENT
DTSTART;TZID=America/New_York:20240417T140000
DTEND;TZID=America/New_York:20240417T150000
DTSTAMP:20260423T034805
CREATED:20240327T195107Z
LAST-MODIFIED:20240327T195107Z
UID:10001059-1713362400-1713366000@wbecnydmv.org
SUMMARY:Role of AI in Digital Workforce Strategies (WEBINAR)
DESCRIPTION:Register now!
URL:https://wbecnydmv.org/event/role-of-ai-in-digital-workforce-strategies-webinar/
LOCATION:NY
CATEGORIES:Partner Event
END:VEVENT
BEGIN:VEVENT
DTSTART;TZID=America/New_York:20240417T140000
DTEND;TZID=America/New_York:20240417T140000
DTSTAMP:20260423T034805
CREATED:20240403T174514Z
LAST-MODIFIED:20240403T174514Z
UID:10001064-1713362400-1713362400@wbecnydmv.org
SUMMARY:EngageHER
DESCRIPTION:Register now!
URL:https://wbecnydmv.org/event/engageher/
LOCATION:NY
CATEGORIES:Partner Event
END:VEVENT
BEGIN:VEVENT
DTSTART;TZID=America/New_York:20240417T090000
DTEND;TZID=America/New_York:20240417T170000
DTSTAMP:20260423T034805
CREATED:20240122T212602Z
LAST-MODIFIED:20240122T212713Z
UID:10000981-1713344400-1713373200@wbecnydmv.org
SUMMARY:WBEC Greater DMV SAGE Advice Day 1
DESCRIPTION:Register now!
URL:https://wbecnydmv.org/event/wbec-greater-dmv-sage-advice-day-1-4/
LOCATION:NY
CATEGORIES:WBEC Greater DMV Events
END:VEVENT
BEGIN:VEVENT
DTSTART;TZID=America/New_York:20240416T120000
DTEND;TZID=America/New_York:20240416T130000
DTSTAMP:20260423T034805
CREATED:20240306T160337Z
LAST-MODIFIED:20240306T160337Z
UID:10001044-1713268800-1713272400@wbecnydmv.org
SUMMARY:Lunch With the Experts: How to Maximize Marketing & Branding with a Minimal Budget
DESCRIPTION:Register now!
URL:https://wbecnydmv.org/event/lunch-with-the-experts-how-to-maximize-marketing-branding-with-a-minimal-budget/
LOCATION:NY
CATEGORIES:Lunch with the Experts,WBEC Metro NY Events
END:VEVENT
BEGIN:VEVENT
DTSTART;TZID=America/New_York:20240411T130000
DTEND;TZID=America/New_York:20240411T140000
DTSTAMP:20260423T034805
CREATED:20240108T215144Z
LAST-MODIFIED:20240110T210336Z
UID:10000967-1712840400-1712844000@wbecnydmv.org
SUMMARY:Why and How to Get Certified
DESCRIPTION:Register now!
URL:https://wbecnydmv.org/event/why-and-how-to-get-certified-4/
LOCATION:NY
CATEGORIES:WBEC Metro NY and Greater DMV Events
END:VEVENT
BEGIN:VEVENT
DTSTART;TZID=America/New_York:20240410T170000
DTEND;TZID=America/New_York:20240410T170000
DTSTAMP:20260423T034805
CREATED:20240403T174022Z
LAST-MODIFIED:20240404T202547Z
UID:10001063-1712768400-1712768400@wbecnydmv.org
SUMMARY:Advocacy & Policy News
DESCRIPTION:Register now!
URL:https://wbecnydmv.org/event/advocacy-policy-news/
LOCATION:NY
CATEGORIES:Partner Event
END:VEVENT
BEGIN:VEVENT
DTSTART;TZID=America/New_York:20240410T100000
DTEND;TZID=America/New_York:20240410T113000
DTSTAMP:20260423T034805
CREATED:20240129T205502Z
LAST-MODIFIED:20240404T202631Z
UID:10001018-1712743200-1712748600@wbecnydmv.org
SUMMARY:Amplify Mastermind 2024: Understanding the WBENC Network
DESCRIPTION:Register now!
URL:https://wbecnydmv.org/event/amplify-mastermind-2024-understanding-the-wbenc-network/
LOCATION:NY
CATEGORIES:WBEC Metro NY and Greater DMV Events
END:VEVENT
BEGIN:VEVENT
DTSTART;TZID=America/New_York:20240408T140000
DTEND;TZID=America/New_York:20240408T140000
DTSTAMP:20260423T034805
CREATED:20240403T173450Z
LAST-MODIFIED:20240404T202650Z
UID:10001062-1712584800-1712584800@wbecnydmv.org
SUMMARY:ChallengeHER - What’s the Latest on CMMC?
DESCRIPTION:Register now!
URL:https://wbecnydmv.org/event/challengeher-whats-the-latest-on-cmmc/
LOCATION:NY
CATEGORIES:Partner Event
END:VEVENT
BEGIN:VEVENT
DTSTART;TZID=America/New_York:20240404T090000
DTEND;TZID=America/New_York:20240404T170000
DTSTAMP:20260423T034805
CREATED:20240122T215759Z
LAST-MODIFIED:20240404T202705Z
UID:10000997-1712221200-1712250000@wbecnydmv.org
SUMMARY:WBEC Metro NY SAGE Advice Day 2
DESCRIPTION:Register now!
URL:https://wbecnydmv.org/event/wbec-metro-ny-sage-advice-day-2-3/
LOCATION:NY
CATEGORIES:WBEC Metro NY Events
END:VEVENT
BEGIN:VEVENT
DTSTART;TZID=America/New_York:20240403T090000
DTEND;TZID=America/New_York:20240403T170000
DTSTAMP:20260423T034805
CREATED:20240122T214833Z
LAST-MODIFIED:20240122T214833Z
UID:10000991-1712134800-1712163600@wbecnydmv.org
SUMMARY:WBEC Metro NY SAGE Advice Day 1
DESCRIPTION:Register now!
URL:https://wbecnydmv.org/event/wbec-metro-ny-sage-advice-day-1-3/
LOCATION:NY
CATEGORIES:WBEC Metro NY Events
END:VEVENT
BEGIN:VEVENT
DTSTART;TZID=America/New_York:20240402T130000
DTEND;TZID=America/New_York:20240402T150000
DTSTAMP:20260423T034805
CREATED:20240208T191740Z
LAST-MODIFIED:20240213T180914Z
UID:10001021-1712062800-1712070000@wbecnydmv.org
SUMMARY:Sustainability Accelerator Module 1 Workshop 1
DESCRIPTION:Register now!
URL:https://wbecnydmv.org/event/sustainability-accelerator-module-1-workshop-1/
LOCATION:NY
CATEGORIES:WBEC Metro NY and Greater DMV Events
END:VEVENT
BEGIN:VEVENT
DTSTART;TZID=America/New_York:20240329T183000
DTEND;TZID=America/New_York:20240329T193000
DTSTAMP:20260423T034805
CREATED:20240307T155434Z
LAST-MODIFIED:20240307T155434Z
UID:10001048-1711737000-1711740600@wbecnydmv.org
SUMMARY:Book Launch Event in Celebration of Women's History Month
DESCRIPTION:Register now!
URL:https://wbecnydmv.org/event/book-launch-event-in-celebration-of-womens-history-month/
LOCATION:NY
CATEGORIES:Partner Event,WBEC Greater DMV Events
END:VEVENT
BEGIN:VEVENT
DTSTART;TZID=America/New_York:20240329T130000
DTEND;TZID=America/New_York:20240329T180000
DTSTAMP:20260423T034806
CREATED:20240307T154020Z
LAST-MODIFIED:20240307T154020Z
UID:10001047-1711717200-1711735200@wbecnydmv.org
SUMMARY:Wacif Day
DESCRIPTION:Register now!
URL:https://wbecnydmv.org/event/wacif-day/
LOCATION:NY
CATEGORIES:Partner Event
END:VEVENT
BEGIN:VEVENT
DTSTART;TZID=America/New_York:20240328T140000
DTEND;TZID=America/New_York:20240328T140000
DTSTAMP:20260423T034806
CREATED:20240313T161003Z
LAST-MODIFIED:20240313T161003Z
UID:10001055-1711634400-1711634400@wbecnydmv.org
SUMMARY:ChallengeHER - What the FAR Has to Say About Prompt Payments
DESCRIPTION:Register now!
URL:https://wbecnydmv.org/event/challengeher-what-the-far-has-to-say-about-prompt-payments/
LOCATION:NY
CATEGORIES:Partner Event
END:VEVENT
BEGIN:VEVENT
DTSTART;TZID=America/New_York:20240328T130000
DTEND;TZID=America/New_York:20240328T140000
DTSTAMP:20260423T034806
CREATED:20231221T175957Z
LAST-MODIFIED:20240111T192822Z
UID:10000960-1711630800-1711634400@wbecnydmv.org
SUMMARY:WBEC Metro NY And Greater DMV: I'm Certified\, Now What?
DESCRIPTION:Register now!
URL:https://wbecnydmv.org/event/wbec-metro-ny-and-greater-dmv-im-certified-now-what-5/
LOCATION:NY
CATEGORIES:WBEC Metro NY and Greater DMV Events
END:VEVENT
BEGIN:VEVENT
DTSTART;TZID=America/New_York:20240328T090000
DTEND;TZID=America/New_York:20240328T140000
DTSTAMP:20260423T034806
CREATED:20240122T213921Z
LAST-MODIFIED:20240122T213921Z
UID:10000986-1711616400-1711634400@wbecnydmv.org
SUMMARY:WBEC Greater DMV SAGE Advice Day 2
DESCRIPTION:Register now!
URL:https://wbecnydmv.org/event/wbec-greater-dmv-sage-advice-day-2-3/
LOCATION:NY
CATEGORIES:WBEC Greater DMV Events
END:VEVENT
BEGIN:VEVENT
DTSTART;TZID=America/New_York:20240327T140000
DTEND;TZID=America/New_York:20240327T140000
DTSTAMP:20260423T034806
CREATED:20240313T160229Z
LAST-MODIFIED:20240313T160229Z
UID:10001054-1711548000-1711548000@wbecnydmv.org
SUMMARY:WIPP New Member Orientation
DESCRIPTION:Register now!
URL:https://wbecnydmv.org/event/wipp-new-member-orientation/
LOCATION:NY
CATEGORIES:Partner Event
END:VEVENT
BEGIN:VEVENT
DTSTART;TZID=America/New_York:20240327T100000
DTEND;TZID=America/New_York:20240327T113000
DTSTAMP:20260423T034806
CREATED:20240129T204503Z
LAST-MODIFIED:20240129T204503Z
UID:10001012-1711533600-1711539000@wbecnydmv.org
SUMMARY:Amplify Mastermind 2024: Kickoff 2
DESCRIPTION:Register now!
URL:https://wbecnydmv.org/event/amplify-mastermind-2024-kickoff-2/
LOCATION:NY
CATEGORIES:WBEC Metro NY and Greater DMV Events
END:VEVENT
BEGIN:VEVENT
DTSTART;TZID=America/New_York:20240327T090000
DTEND;TZID=America/New_York:20240327T170000
DTSTAMP:20260423T034806
CREATED:20240122T212443Z
LAST-MODIFIED:20240122T212821Z
UID:10000980-1711530000-1711558800@wbecnydmv.org
SUMMARY:WBEC Greater DMV SAGE Advice Day 1
DESCRIPTION:Register now!
URL:https://wbecnydmv.org/event/wbec-greater-dmv-sage-advice-day-1-3/
LOCATION:NY
CATEGORIES:WBEC Greater DMV Events
END:VEVENT
BEGIN:VEVENT
DTSTART;TZID=America/New_York:20240326T120000
DTEND;TZID=America/New_York:20240326T130000
DTSTAMP:20260423T034806
CREATED:20231221T171351Z
LAST-MODIFIED:20231221T171351Z
UID:10000954-1711454400-1711458000@wbecnydmv.org
SUMMARY:Lunch With the Experts: Introduction to Employment Law in D.C.\, Maryland\, and Virginia
DESCRIPTION:Register now!
URL:https://wbecnydmv.org/event/lunch-with-the-experts-introduction-to-employment-law-in-d-c-maryland-and-virginia/
LOCATION:NY
CATEGORIES:Lunch with the Experts,WBEC Greater DMV Events,WBEC Metro NY Events
END:VEVENT
BEGIN:VEVENT
DTSTART;TZID=America/New_York:20240320T103000
DTEND;TZID=America/New_York:20240320T120000
DTSTAMP:20260423T034806
CREATED:20240313T155416Z
LAST-MODIFIED:20240313T155548Z
UID:10001053-1710930600-1710936000@wbecnydmv.org
SUMMARY:Discover How to Get DoD Contracting Ready
DESCRIPTION:Register now!
URL:https://wbecnydmv.org/event/discover-how-to-get-dod-contracting-ready/
LOCATION:NY
CATEGORIES:Partner Event
END:VEVENT
BEGIN:VEVENT
DTSTART;TZID=America/New_York:20240319T073000
DTEND;TZID=America/New_York:20240319T093000
DTSTAMP:20260423T034806
CREATED:20240311T151528Z
LAST-MODIFIED:20240311T151757Z
UID:10001049-1710833400-1710840600@wbecnydmv.org
SUMMARY:2024 FSRSD Breakfast with a Purpose at WBENC: AMPLIFY Through AI
DESCRIPTION:Register now!
URL:https://wbecnydmv.org/event/2024-fsrsd-breakfast-with-a-purpose-at-wbenc-amplify-through-ai/
LOCATION:NY
CATEGORIES:Partner Event
END:VEVENT
BEGIN:VEVENT
DTSTART;VALUE=DATE:20240319
DTEND;VALUE=DATE:20240323
DTSTAMP:20260423T034806
CREATED:20231127T155358Z
LAST-MODIFIED:20231215T193253Z
UID:10000950-1710806400-1711151999@wbecnydmv.org
SUMMARY:2024 WBENC National Conference
DESCRIPTION:Register now!
URL:https://wbecnydmv.org/event/2024-wbenc-national-conference/
LOCATION:Gaylord Rockies Resort & Convention Center\, 6700 N Gaylord Rockies Blvd\, Aurora\, CO\, 80019\, United States
CATEGORIES:WBEC Metro NY and Greater DMV Events
END:VEVENT
BEGIN:VEVENT
DTSTART;TZID=America/New_York:20240318T090000
DTEND;TZID=America/New_York:20240318T110000
DTSTAMP:20260423T034806
CREATED:20240313T154536Z
LAST-MODIFIED:20240313T154852Z
UID:10001052-1710752400-1710759600@wbecnydmv.org
SUMMARY:Adequate Proposals - DCAA
DESCRIPTION:Register now!
URL:https://wbecnydmv.org/event/adequate-proposals-dcaa/
LOCATION:NY
CATEGORIES:Partner Event
END:VEVENT
BEGIN:VEVENT
DTSTART;TZID=America/New_York:20240313T100000
DTEND;TZID=America/New_York:20240313T113000
DTSTAMP:20260423T034806
CREATED:20240129T204332Z
LAST-MODIFIED:20240129T204332Z
UID:10001011-1710324000-1710329400@wbecnydmv.org
SUMMARY:Amplify Mastermind 2024: Kickoff 1
DESCRIPTION:Register now!
URL:https://wbecnydmv.org/event/amplify-mastermind-2024-kickoff-1/
LOCATION:NY
CATEGORIES:WBEC Metro NY and Greater DMV Events
END:VEVENT
BEGIN:VEVENT
DTSTART;TZID=America/New_York:20240312T140000
DTEND;TZID=America/New_York:20240312T150000
DTSTAMP:20260423T034806
CREATED:20240208T184915Z
LAST-MODIFIED:20240223T160809Z
UID:10001020-1710252000-1710255600@wbecnydmv.org
SUMMARY:Maximize Your WBENC National Conference Experience
DESCRIPTION:Register now!
URL:https://wbecnydmv.org/event/maximize-your-wbenc-national-conference-experience/
LOCATION:NY
CATEGORIES:WBEC Metro NY and Greater DMV Events
END:VEVENT
BEGIN:VEVENT
DTSTART;TZID=America/New_York:20240312T100000
DTEND;TZID=America/New_York:20240312T153000
DTSTAMP:20260423T034806
CREATED:20240213T155021Z
LAST-MODIFIED:20240213T164811Z
UID:10001037-1710237600-1710257400@wbecnydmv.org
SUMMARY:4th ANNUAL WOMEN’S SMALL BUSINESS TRANSPORTATION SUMMIT
DESCRIPTION:Register now!
URL:https://wbecnydmv.org/event/4th-annual-womens-small-business-transportation-summit/
LOCATION:NY
CATEGORIES:Partner Event
END:VEVENT
BEGIN:VEVENT
DTSTART;TZID=America/New_York:20240312T083000
DTEND;TZID=America/New_York:20240312T113000
DTSTAMP:20260423T034806
CREATED:20240220T204426Z
LAST-MODIFIED:20240220T213915Z
UID:10001039-1710232200-1710243000@wbecnydmv.org
SUMMARY:NJEDA: Show Me The Resources
DESCRIPTION:Register now!
URL:https://wbecnydmv.org/event/njeda-show-me-the-resources/
LOCATION:NY
CATEGORIES:Partner Event
END:VEVENT
END:VCALENDAR