BEGIN:VCALENDAR
VERSION:2.0
PRODID:-//WBEC NY DMV - ECPv6.15.18//NONSGML v1.0//EN
CALSCALE:GREGORIAN
METHOD:PUBLISH
X-WR-CALNAME:WBEC NY DMV
X-ORIGINAL-URL:https://wbecnydmv.org
X-WR-CALDESC:Events for WBEC NY DMV
REFRESH-INTERVAL;VALUE=DURATION:PT1H
X-Robots-Tag:noindex
X-PUBLISHED-TTL:PT1H
BEGIN:VTIMEZONE
TZID:America/New_York
BEGIN:DAYLIGHT
TZOFFSETFROM:-0500
TZOFFSETTO:-0400
TZNAME:EDT
DTSTART:20220313T070000
END:DAYLIGHT
BEGIN:STANDARD
TZOFFSETFROM:-0400
TZOFFSETTO:-0500
TZNAME:EST
DTSTART:20221106T060000
END:STANDARD
BEGIN:DAYLIGHT
TZOFFSETFROM:-0500
TZOFFSETTO:-0400
TZNAME:EDT
DTSTART:20230312T070000
END:DAYLIGHT
BEGIN:STANDARD
TZOFFSETFROM:-0400
TZOFFSETTO:-0500
TZNAME:EST
DTSTART:20231105T060000
END:STANDARD
BEGIN:DAYLIGHT
TZOFFSETFROM:-0500
TZOFFSETTO:-0400
TZNAME:EDT
DTSTART:20240310T070000
END:DAYLIGHT
BEGIN:STANDARD
TZOFFSETFROM:-0400
TZOFFSETTO:-0500
TZNAME:EST
DTSTART:20241103T060000
END:STANDARD
BEGIN:DAYLIGHT
TZOFFSETFROM:-0500
TZOFFSETTO:-0400
TZNAME:EDT
DTSTART:20250309T070000
END:DAYLIGHT
BEGIN:STANDARD
TZOFFSETFROM:-0400
TZOFFSETTO:-0500
TZNAME:EST
DTSTART:20251102T060000
END:STANDARD
END:VTIMEZONE
BEGIN:VEVENT
DTSTART;TZID=America/New_York:20240313T100000
DTEND;TZID=America/New_York:20240313T113000
DTSTAMP:20260423T034803
CREATED:20240129T204332Z
LAST-MODIFIED:20240129T204332Z
UID:10001011-1710324000-1710329400@wbecnydmv.org
SUMMARY:Amplify Mastermind 2024: Kickoff 1
DESCRIPTION:Register now!
URL:https://wbecnydmv.org/event/amplify-mastermind-2024-kickoff-1/
LOCATION:NY
CATEGORIES:WBEC Metro NY and Greater DMV Events
END:VEVENT
BEGIN:VEVENT
DTSTART;TZID=America/New_York:20240312T140000
DTEND;TZID=America/New_York:20240312T150000
DTSTAMP:20260423T034803
CREATED:20240208T184915Z
LAST-MODIFIED:20240223T160809Z
UID:10001020-1710252000-1710255600@wbecnydmv.org
SUMMARY:Maximize Your WBENC National Conference Experience
DESCRIPTION:Register now!
URL:https://wbecnydmv.org/event/maximize-your-wbenc-national-conference-experience/
LOCATION:NY
CATEGORIES:WBEC Metro NY and Greater DMV Events
END:VEVENT
BEGIN:VEVENT
DTSTART;TZID=America/New_York:20240312T100000
DTEND;TZID=America/New_York:20240312T153000
DTSTAMP:20260423T034803
CREATED:20240213T155021Z
LAST-MODIFIED:20240213T164811Z
UID:10001037-1710237600-1710257400@wbecnydmv.org
SUMMARY:4th ANNUAL WOMEN’S SMALL BUSINESS TRANSPORTATION SUMMIT
DESCRIPTION:Register now!
URL:https://wbecnydmv.org/event/4th-annual-womens-small-business-transportation-summit/
LOCATION:NY
CATEGORIES:Partner Event
END:VEVENT
BEGIN:VEVENT
DTSTART;TZID=America/New_York:20240312T083000
DTEND;TZID=America/New_York:20240312T113000
DTSTAMP:20260423T034803
CREATED:20240220T204426Z
LAST-MODIFIED:20240220T213915Z
UID:10001039-1710232200-1710243000@wbecnydmv.org
SUMMARY:NJEDA: Show Me The Resources
DESCRIPTION:Register now!
URL:https://wbecnydmv.org/event/njeda-show-me-the-resources/
LOCATION:NY
CATEGORIES:Partner Event
END:VEVENT
BEGIN:VEVENT
DTSTART;TZID=America/New_York:20240307T130000
DTEND;TZID=America/New_York:20240307T140000
DTSTAMP:20260423T034803
CREATED:20231221T175029Z
LAST-MODIFIED:20240110T210259Z
UID:10000957-1709816400-1709820000@wbecnydmv.org
SUMMARY:Why and How to Get Certified
DESCRIPTION:Register now!
URL:https://wbecnydmv.org/event/why-and-how-to-get-certified-3/
LOCATION:NY
CATEGORIES:WBEC Metro NY and Greater DMV Events
END:VEVENT
BEGIN:VEVENT
DTSTART;TZID=America/New_York:20240307T090000
DTEND;TZID=America/New_York:20240307T170000
DTSTAMP:20260423T034803
CREATED:20240122T215641Z
LAST-MODIFIED:20240229T203240Z
UID:10000996-1709802000-1709830800@wbecnydmv.org
SUMMARY:WBEC Metro NY SAGE Advice Day 2
DESCRIPTION:Register now!
URL:https://wbecnydmv.org/event/wbec-metro-ny-sage-advice-day-2-2/
LOCATION:NY
CATEGORIES:WBEC Metro NY Events
END:VEVENT
BEGIN:VEVENT
DTSTART;TZID=America/New_York:20240306T150000
DTEND;TZID=America/New_York:20240306T160000
DTSTAMP:20260423T034803
CREATED:20240122T175740Z
LAST-MODIFIED:20240229T203226Z
UID:10000977-1709737200-1709740800@wbecnydmv.org
SUMMARY:2024 WBENC National Conference VIRTUAL Orientation | WBEs
DESCRIPTION:Register now!
URL:https://wbecnydmv.org/event/2024-wbenc-national-conference-virtual-orientation-wbes-3/
LOCATION:NY
CATEGORIES:Partner Event,WBEC Metro NY and Greater DMV Events
END:VEVENT
BEGIN:VEVENT
DTSTART;TZID=America/New_York:20240306T090000
DTEND;TZID=America/New_York:20240306T170000
DTSTAMP:20260423T034803
CREATED:20240122T214724Z
LAST-MODIFIED:20240229T203137Z
UID:10000990-1709715600-1709744400@wbecnydmv.org
SUMMARY:WBEC Metro NY SAGE Advice Day 1
DESCRIPTION:Register now!
URL:https://wbecnydmv.org/event/wbec-metro-ny-sage-advice-day-1-2/
LOCATION:NY
CATEGORIES:WBEC Metro NY Events
END:VEVENT
BEGIN:VEVENT
DTSTART;TZID=America/New_York:20240305T130000
DTEND;TZID=America/New_York:20240305T140000
DTSTAMP:20260423T034803
CREATED:20240208T183113Z
LAST-MODIFIED:20240229T201358Z
UID:10001019-1709643600-1709647200@wbecnydmv.org
SUMMARY:Sustainability Accelerator 2024 Information Session
DESCRIPTION:Register now!
URL:https://wbecnydmv.org/event/sustainability-accelerator-2024-information-session/
LOCATION:NY
CATEGORIES:WBEC Metro NY and Greater DMV Events
END:VEVENT
BEGIN:VEVENT
DTSTART;TZID=America/New_York:20240229T090000
DTEND;TZID=America/New_York:20240229T140000
DTSTAMP:20260423T034803
CREATED:20240122T213806Z
LAST-MODIFIED:20240229T201615Z
UID:10000985-1709197200-1709215200@wbecnydmv.org
SUMMARY:WBEC Greater DMV SAGE Advice Day 2
DESCRIPTION:Register now!
URL:https://wbecnydmv.org/event/wbec-greater-dmv-sage-advice-day-2-2/
LOCATION:NY
CATEGORIES:WBEC Greater DMV Events
END:VEVENT
BEGIN:VEVENT
DTSTART;TZID=America/New_York:20240228T090000
DTEND;TZID=America/New_York:20240228T170000
DTSTAMP:20260423T034803
CREATED:20240122T212141Z
LAST-MODIFIED:20240222T220645Z
UID:10000979-1709110800-1709139600@wbecnydmv.org
SUMMARY:WBEC Greater DMV SAGE Advice Day 1
DESCRIPTION:Register now!
URL:https://wbecnydmv.org/event/wbec-greater-dmv-sage-advice-day-1-2/
LOCATION:NY
CATEGORIES:WBEC Greater DMV Events
END:VEVENT
BEGIN:VEVENT
DTSTART;TZID=America/New_York:20240228T090000
DTEND;TZID=America/New_York:20240228T160000
DTSTAMP:20260423T034803
CREATED:20240220T182416Z
LAST-MODIFIED:20240222T220840Z
UID:10001038-1709110800-1709136000@wbecnydmv.org
SUMMARY:Coastal Virginia Offshore Wind Supplier Event
DESCRIPTION:Register now!
URL:https://wbecnydmv.org/event/coastal-virginia-offshore-wind-supplier-event/
LOCATION:NY
CATEGORIES:Partner Event
END:VEVENT
BEGIN:VEVENT
DTSTART;TZID=America/New_York:20240227T140000
DTEND;TZID=America/New_York:20240227T150000
DTSTAMP:20260423T034803
CREATED:20240122T174325Z
LAST-MODIFIED:20240122T174542Z
UID:10000976-1709042400-1709046000@wbecnydmv.org
SUMMARY:2024 WBENC National Conference VIRTUAL Orientation | WBEs
DESCRIPTION:Register now!
URL:https://wbecnydmv.org/event/2024-wbenc-national-conference-virtual-orientation-wbes-2/
LOCATION:NY
CATEGORIES:Partner Event,WBEC Metro NY and Greater DMV Events
END:VEVENT
BEGIN:VEVENT
DTSTART;TZID=America/New_York:20240222T130000
DTEND;TZID=America/New_York:20240222T140000
DTSTAMP:20260423T034803
CREATED:20231221T175819Z
LAST-MODIFIED:20240111T192745Z
UID:10000959-1708606800-1708610400@wbecnydmv.org
SUMMARY:WBEC Metro NY And Greater DMV: I'm Certified\, Now What?
DESCRIPTION:Register now!
URL:https://wbecnydmv.org/event/wbec-metro-ny-and-greater-dmv-im-certified-now-what-4/
LOCATION:NY
CATEGORIES:WBEC Metro NY and Greater DMV Events
END:VEVENT
BEGIN:VEVENT
DTSTART;TZID=America/New_York:20240221T120000
DTEND;TZID=America/New_York:20240221T130000
DTSTAMP:20260423T034803
CREATED:20240212T212555Z
LAST-MODIFIED:20240212T212759Z
UID:10001033-1708516800-1708520400@wbecnydmv.org
SUMMARY:Access Capital - The Wacif Way
DESCRIPTION:Register now!
URL:https://wbecnydmv.org/event/access-capital-the-wacif-way/
LOCATION:NY
CATEGORIES:Partner Event,WBEC Metro NY and Greater DMV Events
END:VEVENT
BEGIN:VEVENT
DTSTART;TZID=America/New_York:20240220T120000
DTEND;TZID=America/New_York:20240220T120000
DTSTAMP:20260423T034803
CREATED:20240213T154206Z
LAST-MODIFIED:20240213T154206Z
UID:10001036-1708430400-1708430400@wbecnydmv.org
SUMMARY:NAWBO Microbusiness Listening Session - Midwest Regional Update
DESCRIPTION:Register now!
URL:https://wbecnydmv.org/event/nawbo-microbusiness-listening-session-midwest-regional-update/
LOCATION:NY
CATEGORIES:Partner Event
END:VEVENT
BEGIN:VEVENT
DTSTART;TZID=America/New_York:20240220T110000
DTEND;TZID=America/New_York:20240220T120000
DTSTAMP:20260423T034803
CREATED:20240122T171224Z
LAST-MODIFIED:20240122T171732Z
UID:10000975-1708426800-1708430400@wbecnydmv.org
SUMMARY:2024 WBENC National Conference VIRTUAL Orientation | WBEs
DESCRIPTION:Register now!
URL:https://wbecnydmv.org/event/2024-wbenc-national-conference-virtual-orientation-wbes/
LOCATION:NY
CATEGORIES:Partner Event,WBEC Metro NY and Greater DMV Events
END:VEVENT
BEGIN:VEVENT
DTSTART;TZID=America/New_York:20240214T130000
DTEND;TZID=America/New_York:20240214T133000
DTSTAMP:20260423T034803
CREATED:20240124T185239Z
LAST-MODIFIED:20240124T185239Z
UID:10001000-1707915600-1707917400@wbecnydmv.org
SUMMARY:Amplify Mastermind 2024 Information Session
DESCRIPTION:Register now!
URL:https://wbecnydmv.org/event/amplify-mastermind-2024-information-session/
LOCATION:NY
CATEGORIES:WBEC Metro NY and Greater DMV Events
END:VEVENT
BEGIN:VEVENT
DTSTART;TZID=America/New_York:20240213T120000
DTEND;TZID=America/New_York:20240213T130000
DTSTAMP:20260423T034803
CREATED:20231221T155609Z
LAST-MODIFIED:20240112T164715Z
UID:10000952-1707825600-1707829200@wbecnydmv.org
SUMMARY:Lunch With the Experts: MGM Corporate Connections
DESCRIPTION:Register now!
URL:https://wbecnydmv.org/event/lunch-with-the-experts-mgm-corporate-connections/
LOCATION:NY
CATEGORIES:Lunch with the Experts,WBEC Metro NY Events
END:VEVENT
BEGIN:VEVENT
DTSTART;TZID=America/New_York:20240208T130000
DTEND;TZID=America/New_York:20240208T140000
DTSTAMP:20260423T034803
CREATED:20231221T174850Z
LAST-MODIFIED:20240110T210228Z
UID:10000956-1707397200-1707400800@wbecnydmv.org
SUMMARY:Why and How to Get Certified
DESCRIPTION:Register now!
URL:https://wbecnydmv.org/event/why-and-how-to-get-certified-2/
LOCATION:NY
CATEGORIES:WBEC Metro NY and Greater DMV Events
END:VEVENT
BEGIN:VEVENT
DTSTART;TZID=America/New_York:20240208T090000
DTEND;TZID=America/New_York:20240208T170000
DTSTAMP:20260423T034803
CREATED:20240122T215506Z
LAST-MODIFIED:20240122T215506Z
UID:10000995-1707382800-1707411600@wbecnydmv.org
SUMMARY:WBEC Metro NY SAGE Advice Day 2
DESCRIPTION:Register now!
URL:https://wbecnydmv.org/event/wbec-metro-ny-sage-advice-day-2/
LOCATION:NY
CATEGORIES:WBEC Metro NY Events
END:VEVENT
BEGIN:VEVENT
DTSTART;TZID=America/New_York:20240207T090000
DTEND;TZID=America/New_York:20240207T170000
DTSTAMP:20260423T034803
CREATED:20240122T214609Z
LAST-MODIFIED:20240126T190216Z
UID:10000989-1707296400-1707325200@wbecnydmv.org
SUMMARY:WBEC Metro NY SAGE Advice Day 1
DESCRIPTION:Register now!
URL:https://wbecnydmv.org/event/wbec-metro-ny-sage-advice-day-1/
LOCATION:NY
CATEGORIES:WBEC Metro NY Events
END:VEVENT
BEGIN:VEVENT
DTSTART;TZID=America/New_York:20240201T090000
DTEND;TZID=America/New_York:20240201T140000
DTSTAMP:20260423T034803
CREATED:20240122T213516Z
LAST-MODIFIED:20240126T190246Z
UID:10000984-1706778000-1706796000@wbecnydmv.org
SUMMARY:WBEC Greater DMV SAGE Advice Day 2
DESCRIPTION:Register now!
URL:https://wbecnydmv.org/event/wbec-greater-dmv-sage-advice-day-2/
LOCATION:NY
CATEGORIES:WBEC Greater DMV Events
END:VEVENT
BEGIN:VEVENT
DTSTART;TZID=America/New_York:20240131T090000
DTEND;TZID=America/New_York:20240131T170000
DTSTAMP:20260423T034803
CREATED:20240122T211824Z
LAST-MODIFIED:20240126T190305Z
UID:10000978-1706691600-1706720400@wbecnydmv.org
SUMMARY:WBEC Greater DMV SAGE Advice Day 1
DESCRIPTION:Register now!
URL:https://wbecnydmv.org/event/wbec-greater-dmv-sage-advice-day-1/
LOCATION:NY
CATEGORIES:WBEC Greater DMV Events
END:VEVENT
BEGIN:VEVENT
DTSTART;TZID=America/New_York:20240130T120000
DTEND;TZID=America/New_York:20240130T130000
DTSTAMP:20260423T034803
CREATED:20231221T154345Z
LAST-MODIFIED:20240126T180541Z
UID:10000951-1706616000-1706619600@wbecnydmv.org
SUMMARY:Lunch With the Experts: Developing Your Capabilities Statement
DESCRIPTION:Register now!
URL:https://wbecnydmv.org/event/lunch-with-the-experts-developing-your-capabilities-statement/
LOCATION:NY
CATEGORIES:Lunch with the Experts,WBEC Metro NY Events
END:VEVENT
BEGIN:VEVENT
DTSTART;TZID=America/New_York:20240125T130000
DTEND;TZID=America/New_York:20240125T140000
DTSTAMP:20260423T034803
CREATED:20231221T175545Z
LAST-MODIFIED:20240111T192708Z
UID:10000958-1706187600-1706191200@wbecnydmv.org
SUMMARY:WBEC Metro NY And Greater DMV: I'm Certified\, Now What?
DESCRIPTION:Register now!
URL:https://wbecnydmv.org/event/wbec-metro-ny-and-greater-dmv-im-certified-now-what-3/
LOCATION:NY
CATEGORIES:WBEC Metro NY and Greater DMV Events
END:VEVENT
BEGIN:VEVENT
DTSTART;TZID=America/New_York:20240123T120000
DTEND;TZID=America/New_York:20240123T120000
DTSTAMP:20260423T034803
CREATED:20240119T163219Z
LAST-MODIFIED:20240119T163402Z
UID:10000974-1706011200-1706011200@wbecnydmv.org
SUMMARY:Attend the NWBC Public Meeting
DESCRIPTION:Register now!
URL:https://wbecnydmv.org/event/attend-the-nwbc-public-meeting/
LOCATION:NY
CATEGORIES:Partner Event
END:VEVENT
BEGIN:VEVENT
DTSTART;TZID=America/New_York:20240118T110000
DTEND;TZID=America/New_York:20240118T123000
DTSTAMP:20260423T034803
CREATED:20240109T193723Z
LAST-MODIFIED:20240109T200744Z
UID:10000973-1705575600-1705581000@wbecnydmv.org
SUMMARY:2024 WBENC Open House: AMPLIFY Your Network
DESCRIPTION:Register now!
URL:https://wbecnydmv.org/event/2024-wbenc-open-house-amplify-your-network/
LOCATION:NY
CATEGORIES:WBEC Metro NY and Greater DMV Events
END:VEVENT
BEGIN:VEVENT
DTSTART;TZID=America/New_York:20240111T130000
DTEND;TZID=America/New_York:20240111T140000
DTSTAMP:20260423T034803
CREATED:20231221T174656Z
LAST-MODIFIED:20240110T210141Z
UID:10000955-1704978000-1704981600@wbecnydmv.org
SUMMARY:Why and How to Get Certified
DESCRIPTION:Register now!
URL:https://wbecnydmv.org/event/why-and-how-to-get-certified/
LOCATION:NY
CATEGORIES:WBEC Metro NY and Greater DMV Events
END:VEVENT
BEGIN:VEVENT
DTSTART;TZID=America/New_York:20231214T130000
DTEND;TZID=America/New_York:20231214T140000
DTSTAMP:20260423T034803
CREATED:20231013T153443Z
LAST-MODIFIED:20231013T153443Z
UID:10000946-1702558800-1702562400@wbecnydmv.org
SUMMARY:How to Get WBENC Certified
DESCRIPTION:Register now!
URL:https://wbecnydmv.org/event/how-to-get-wbenc-certified-5/
LOCATION:NY
CATEGORIES:WBEC Metro NY and Greater DMV Events
END:VEVENT
END:VCALENDAR