BEGIN:VCALENDAR
VERSION:2.0
PRODID:-//WBEC NY DMV - ECPv6.15.18//NONSGML v1.0//EN
CALSCALE:GREGORIAN
METHOD:PUBLISH
X-WR-CALNAME:WBEC NY DMV
X-ORIGINAL-URL:https://wbecnydmv.org
X-WR-CALDESC:Events for WBEC NY DMV
REFRESH-INTERVAL;VALUE=DURATION:PT1H
X-Robots-Tag:noindex
X-PUBLISHED-TTL:PT1H
BEGIN:VTIMEZONE
TZID:America/New_York
BEGIN:DAYLIGHT
TZOFFSETFROM:-0500
TZOFFSETTO:-0400
TZNAME:EDT
DTSTART:20220313T070000
END:DAYLIGHT
BEGIN:STANDARD
TZOFFSETFROM:-0400
TZOFFSETTO:-0500
TZNAME:EST
DTSTART:20221106T060000
END:STANDARD
BEGIN:DAYLIGHT
TZOFFSETFROM:-0500
TZOFFSETTO:-0400
TZNAME:EDT
DTSTART:20230312T070000
END:DAYLIGHT
BEGIN:STANDARD
TZOFFSETFROM:-0400
TZOFFSETTO:-0500
TZNAME:EST
DTSTART:20231105T060000
END:STANDARD
BEGIN:DAYLIGHT
TZOFFSETFROM:-0500
TZOFFSETTO:-0400
TZNAME:EDT
DTSTART:20240310T070000
END:DAYLIGHT
BEGIN:STANDARD
TZOFFSETFROM:-0400
TZOFFSETTO:-0500
TZNAME:EST
DTSTART:20241103T060000
END:STANDARD
BEGIN:DAYLIGHT
TZOFFSETFROM:-0500
TZOFFSETTO:-0400
TZNAME:EDT
DTSTART:20250309T070000
END:DAYLIGHT
BEGIN:STANDARD
TZOFFSETFROM:-0400
TZOFFSETTO:-0500
TZNAME:EST
DTSTART:20251102T060000
END:STANDARD
END:VTIMEZONE
BEGIN:VEVENT
DTSTART;TZID=America/New_York:20240111T130000
DTEND;TZID=America/New_York:20240111T140000
DTSTAMP:20260423T153311
CREATED:20231221T174656Z
LAST-MODIFIED:20240110T210141Z
UID:10000955-1704978000-1704981600@wbecnydmv.org
SUMMARY:Why and How to Get Certified
DESCRIPTION:Register now!
URL:https://wbecnydmv.org/event/why-and-how-to-get-certified/
LOCATION:NY
CATEGORIES:WBEC Metro NY and Greater DMV Events
END:VEVENT
BEGIN:VEVENT
DTSTART;TZID=America/New_York:20231214T130000
DTEND;TZID=America/New_York:20231214T140000
DTSTAMP:20260423T153311
CREATED:20231013T153443Z
LAST-MODIFIED:20231013T153443Z
UID:10000946-1702558800-1702562400@wbecnydmv.org
SUMMARY:How to Get WBENC Certified
DESCRIPTION:Register now!
URL:https://wbecnydmv.org/event/how-to-get-wbenc-certified-5/
LOCATION:NY
CATEGORIES:WBEC Metro NY and Greater DMV Events
END:VEVENT
BEGIN:VEVENT
DTSTART;TZID=America/New_York:20231214T100000
DTEND;TZID=America/New_York:20231214T140000
DTSTAMP:20260423T153311
CREATED:20231005T160638Z
LAST-MODIFIED:20231005T160638Z
UID:10000934-1702548000-1702562400@wbecnydmv.org
SUMMARY:Supplier Diversity Industry Day: Information Technology
DESCRIPTION:Register now!
URL:https://wbecnydmv.org/event/supplier-diversity-industry-day-information-technology/
LOCATION:NY
CATEGORIES:Partner Event,WBEC Metro NY Events
END:VEVENT
BEGIN:VEVENT
DTSTART;TZID=America/New_York:20231212T130000
DTEND;TZID=America/New_York:20231212T140000
DTSTAMP:20260423T153311
CREATED:20231013T152742Z
LAST-MODIFIED:20231013T165421Z
UID:10000944-1702386000-1702389600@wbecnydmv.org
SUMMARY:Why To Get Certified?
DESCRIPTION:Register now!
URL:https://wbecnydmv.org/event/why-to-get-certified-2/
LOCATION:NY
CATEGORIES:WBEC Metro NY and Greater DMV Events
END:VEVENT
BEGIN:VEVENT
DTSTART;TZID=America/New_York:20231205T130000
DTEND;TZID=America/New_York:20231205T140000
DTSTAMP:20260423T153311
CREATED:20231013T151750Z
LAST-MODIFIED:20231013T151750Z
UID:10000936-1701781200-1701784800@wbecnydmv.org
SUMMARY:WBEC Metro NY And Greater DMV: I'm Certified\, Now What?
DESCRIPTION:Register now!
URL:https://wbecnydmv.org/event/wbec-metro-ny-and-greater-dmv-im-certified-now-what-2/
LOCATION:NY
CATEGORIES:WBEC Metro NY and Greater DMV Events
END:VEVENT
BEGIN:VEVENT
DTSTART;TZID=America/New_York:20231205T120000
DTEND;TZID=America/New_York:20231205T130000
DTSTAMP:20260423T153311
CREATED:20230921T195714Z
LAST-MODIFIED:20230921T195714Z
UID:10000927-1701777600-1701781200@wbecnydmv.org
SUMMARY:Lunch With the Experts: Meet Dominion Energy: Corporate Connections
DESCRIPTION:Register now!
URL:https://wbecnydmv.org/event/lunch-with-the-experts-meet-dominion-energy-corporate-connections/
LOCATION:NY
CATEGORIES:Lunch with the Experts,WBEC Metro NY Events
END:VEVENT
BEGIN:VEVENT
DTSTART;TZID=America/New_York:20231129T120000
DTEND;TZID=America/New_York:20231129T130000
DTSTAMP:20260423T153311
CREATED:20231002T203255Z
LAST-MODIFIED:20231110T154712Z
UID:10000932-1701259200-1701262800@wbecnydmv.org
SUMMARY:Lunch With the Experts: Build Your Marketing Strategy to Attract Your Ideal Customers
DESCRIPTION:Register now!
URL:https://wbecnydmv.org/event/lunch-with-the-experts-build-your-marketing-strategy-to-attract-your-ideal-customers/
LOCATION:NY
CATEGORIES:Lunch with the Experts,WBEC Metro NY Events
END:VEVENT
BEGIN:VEVENT
DTSTART;TZID=America/New_York:20231128T130000
DTEND;TZID=America/New_York:20231128T140000
DTSTAMP:20260423T153311
CREATED:20231013T153241Z
LAST-MODIFIED:20231013T153241Z
UID:10000945-1701176400-1701180000@wbecnydmv.org
SUMMARY:How to Get WBENC Certified
DESCRIPTION:Register now!
URL:https://wbecnydmv.org/event/how-to-get-wbenc-certified-4/
LOCATION:NY
CATEGORIES:WBEC Metro NY and Greater DMV Events
END:VEVENT
BEGIN:VEVENT
DTSTART;TZID=America/New_York:20231117T083000
DTEND;TZID=America/New_York:20231117T123000
DTSTAMP:20260423T153311
CREATED:20230621T145639Z
LAST-MODIFIED:20231110T153903Z
UID:10000905-1700209800-1700224200@wbecnydmv.org
SUMMARY:Greater DMV Annual Awards and Breakthrough Breakfast
DESCRIPTION:Register now!
URL:https://wbecnydmv.org/event/greater-dmv-annual-awards-and-breakthrough-breakfast-2023/
LOCATION:The Willard Intercontinental Hotel\, 1401 Pennsylvania Avenue NW\, DC\, 20004\, United States
CATEGORIES:WBEC Greater DMV Events
ATTACH;FMTTYPE=image/jpeg:https://wbecnydmv.org/wp-content/uploads/2023/06/DMV-cover.jpg
END:VEVENT
BEGIN:VEVENT
DTSTART;TZID=America/New_York:20231116T180000
DTEND;TZID=America/New_York:20231116T200000
DTSTAMP:20260423T153312
CREATED:20230621T145354Z
LAST-MODIFIED:20231110T153722Z
UID:10000904-1700157600-1700164800@wbecnydmv.org
SUMMARY:Greater DMV Celebrating Our Partners Reception
DESCRIPTION:Register now!
URL:https://wbecnydmv.org/event/greater-dmv-celebrating-our-partners-reception-2023/
LOCATION:Fairmount Washington DC\, 2401 M Street\, NW\, Washington\, DC\, 20037
CATEGORIES:WBEC Greater DMV Events
ATTACH;FMTTYPE=image/jpeg:https://wbecnydmv.org/wp-content/uploads/2023/06/DMV-cover.jpg
END:VEVENT
BEGIN:VEVENT
DTSTART;TZID=America/New_York:20231109T130000
DTEND;TZID=America/New_York:20231109T140000
DTSTAMP:20260423T153312
CREATED:20231013T152615Z
LAST-MODIFIED:20231013T152615Z
UID:10000943-1699534800-1699538400@wbecnydmv.org
SUMMARY:Why To Get Certified?
DESCRIPTION:Register now!
URL:https://wbecnydmv.org/event/why-to-get-certified/
LOCATION:NY
CATEGORIES:WBEC Metro NY and Greater DMV Events
END:VEVENT
BEGIN:VEVENT
DTSTART;TZID=America/New_York:20231109T100000
DTEND;TZID=America/New_York:20231109T120000
DTSTAMP:20260423T153312
CREATED:20231103T155231Z
LAST-MODIFIED:20231103T155527Z
UID:10000948-1699524000-1699531200@wbecnydmv.org
SUMMARY:Exportando a Casa: Exporting Your Products to Latin America
DESCRIPTION:Register now!
URL:https://wbecnydmv.org/event/exportando-a-casa-exporting-your-products-to-latin-america/
LOCATION:NY
CATEGORIES:Partner Event
END:VEVENT
BEGIN:VEVENT
DTSTART;TZID=America/New_York:20231107T130000
DTEND;TZID=America/New_York:20231107T140000
DTSTAMP:20260423T153312
CREATED:20231013T151516Z
LAST-MODIFIED:20231013T151516Z
UID:10000935-1699362000-1699365600@wbecnydmv.org
SUMMARY:WBEC Metro NY And Greater DMV: I'm Certified\, Now What?
DESCRIPTION:Register now!
URL:https://wbecnydmv.org/event/wbec-metro-ny-and-greater-dmv-im-certified-now-what/
LOCATION:NY
CATEGORIES:WBEC Metro NY and Greater DMV Events
END:VEVENT
BEGIN:VEVENT
DTSTART;TZID=America/New_York:20231101T140000
DTEND;TZID=America/New_York:20231102T163000
DTSTAMP:20260423T153312
CREATED:20231003T140027Z
LAST-MODIFIED:20231027T164627Z
UID:10000933-1698847200-1698942600@wbecnydmv.org
SUMMARY:WBENCPitch Semi-Finals
DESCRIPTION:Register now!
URL:https://wbecnydmv.org/event/wbencpitch-semi-finals/
LOCATION:NY
CATEGORIES:WBEC Metro NY and Greater DMV Events
END:VEVENT
BEGIN:VEVENT
DTSTART;TZID=America/New_York:20231031T120000
DTEND;TZID=America/New_York:20231031T130000
DTSTAMP:20260423T153312
CREATED:20231019T201330Z
LAST-MODIFIED:20231019T203044Z
UID:10000947-1698753600-1698757200@wbecnydmv.org
SUMMARY:2024 SAGE Advice Information Session
DESCRIPTION:Register now!
URL:https://wbecnydmv.org/event/2024-sage-advice-information-session/
LOCATION:NY
CATEGORIES:WBEC Metro NY Events
END:VEVENT
BEGIN:VEVENT
DTSTART;TZID=America/New_York:20231025T130000
DTEND;TZID=America/New_York:20231025T140000
DTSTAMP:20260423T153312
CREATED:20231013T150139Z
LAST-MODIFIED:20231013T150223Z
UID:10000853-1698238800-1698242400@wbecnydmv.org
SUMMARY:How to Get WBENC Certified
DESCRIPTION:Register now!
URL:https://wbecnydmv.org/event/how-to-get-wbenc-certified-3/
LOCATION:NY
CATEGORIES:WBEC Metro NY and Greater DMV Events
END:VEVENT
BEGIN:VEVENT
DTSTART;TZID=America/New_York:20231024T120000
DTEND;TZID=America/New_York:20231024T130000
DTSTAMP:20260423T153312
CREATED:20230921T163238Z
LAST-MODIFIED:20230921T195335Z
UID:10000926-1698148800-1698152400@wbecnydmv.org
SUMMARY:Lunch With the Experts: Meet Micron Tech: Corporate Connections
DESCRIPTION:Register now!
URL:https://wbecnydmv.org/event/lunch-with-the-experts-meet-micron-tech-corporate-connections/
LOCATION:NY
CATEGORIES:Lunch with the Experts,WBEC Metro NY Events
END:VEVENT
BEGIN:VEVENT
DTSTART;TZID=America/New_York:20231017T090000
DTEND;TZID=America/New_York:20231018T160000
DTSTAMP:20260423T153312
CREATED:20230926T170928Z
LAST-MODIFIED:20230926T170928Z
UID:10000930-1697533200-1697644800@wbecnydmv.org
SUMMARY:The Digital Refresh: Grow Your Business and Digital Presence Through Our FREE 2-day Masterclass!
DESCRIPTION:Register now!
URL:https://wbecnydmv.org/event/the-digital-refresh-grow-your-business-and-digital-presence-through-our-free-2-day-masterclass/
LOCATION:NY
CATEGORIES:Partner Event,WBEC Greater DMV Events
END:VEVENT
BEGIN:VEVENT
DTSTART;TZID=America/New_York:20231010T140000
DTEND;TZID=America/New_York:20231010T150000
DTSTAMP:20260423T153312
CREATED:20230405T135027Z
LAST-MODIFIED:20230906T140749Z
UID:10000860-1696946400-1696950000@wbecnydmv.org
SUMMARY:Why Get WBENC Certified
DESCRIPTION:Register now!
URL:https://wbecnydmv.org/event/why-get-wbenc-certified/2023-10-10/
LOCATION:NY
CATEGORIES:WBEC Metro NY and Greater DMV Events
END:VEVENT
BEGIN:VEVENT
DTSTART;TZID=America/New_York:20231002T143000
DTEND;TZID=America/New_York:20231002T143000
DTSTAMP:20260423T153312
CREATED:20230405T140431Z
LAST-MODIFIED:20230906T141035Z
UID:10000925-1696257000-1696257000@wbecnydmv.org
SUMMARY:I’m Certified\, Now What?
DESCRIPTION:Register now!
URL:https://wbecnydmv.org/event/im-certified-now-what/2023-10-02/
LOCATION:NY
CATEGORIES:WBEC Metro NY and Greater DMV Events
END:VEVENT
BEGIN:VEVENT
DTSTART;TZID=America/New_York:20231002T140000
DTEND;TZID=America/New_York:20231002T140000
DTSTAMP:20260423T153312
CREATED:20230926T171417Z
LAST-MODIFIED:20230926T171417Z
UID:10000931-1696255200-1696255200@wbecnydmv.org
SUMMARY:How to do Business with Large Primes: WIPP Webinar
DESCRIPTION:Register now!
URL:https://wbecnydmv.org/event/how-to-do-business-with-large-primes-wipp-webinar/
LOCATION:NY
CATEGORIES:Partner Event
END:VEVENT
BEGIN:VEVENT
DTSTART;TZID=America/New_York:20230928T143000
DTEND;TZID=America/New_York:20230928T143000
DTSTAMP:20260423T153312
CREATED:20230601T141714Z
LAST-MODIFIED:20230922T202418Z
UID:10000929-1695911400-1695911400@wbecnydmv.org
SUMMARY:How to Get WBENC Certified
DESCRIPTION:Register now!
URL:https://wbecnydmv.org/event/how-to-get-wbenc-certified-2/2023-09-28/
LOCATION:NY
CATEGORIES:WBEC Metro NY and Greater DMV Events
END:VEVENT
BEGIN:VEVENT
DTSTART;TZID=America/New_York:20230919T130000
DTEND;TZID=America/New_York:20230919T130000
DTSTAMP:20260423T153312
CREATED:20230804T165830Z
LAST-MODIFIED:20230914T141958Z
UID:10000923-1695128400-1695128400@wbecnydmv.org
SUMMARY:Lunch With the Experts: Is Your Website and Digital Content Accessible to Everyone including People with Disabilities? Why It Matters and What Everyone Needs to Know
DESCRIPTION:Register now!
URL:https://wbecnydmv.org/event/lunch-with-the-experts-is-your-website-and-digital-content-accessible-to-everyone-including-people-with-disabilities-why-it-matters-and-what-everyone-needs-to-know/
LOCATION:NY
CATEGORIES:Lunch with the Experts,WBEC Metro NY Events
END:VEVENT
BEGIN:VEVENT
DTSTART;TZID=America/New_York:20230915T080000
DTEND;TZID=America/New_York:20230915T123000
DTSTAMP:20260423T153312
CREATED:20230621T144350Z
LAST-MODIFIED:20230807T200204Z
UID:10000903-1694764800-1694781000@wbecnydmv.org
SUMMARY:Metro NY Annual Awards and Breakthrough Breakfast
DESCRIPTION:Register now!
URL:https://wbecnydmv.org/event/metro-ny-annual-awards-and-breakthrough-breakfast-2023/
LOCATION:The Plaza Hotel\, 5th Ave @ Central Park South\, New York\, NY\, 10019\, United States
CATEGORIES:WBEC Metro NY Events
END:VEVENT
BEGIN:VEVENT
DTSTART;TZID=America/New_York:20230914T180000
DTEND;TZID=America/New_York:20230914T200000
DTSTAMP:20260423T153312
CREATED:20230621T142944Z
LAST-MODIFIED:20230807T200206Z
UID:10000902-1694714400-1694721600@wbecnydmv.org
SUMMARY:Metro NY Celebrating Our Partners Reception
DESCRIPTION:Register now!
URL:https://wbecnydmv.org/event/metro-ny-celebrating-our-partners-reception-2023/
LOCATION:The Mandarin Oriental Hotel\, 80 Columbus Circle\, New York\, 10023
CATEGORIES:WBEC Metro NY Events
END:VEVENT
BEGIN:VEVENT
DTSTART;TZID=America/New_York:20230911T143000
DTEND;TZID=America/New_York:20230911T143000
DTSTAMP:20260423T153312
CREATED:20230405T135027Z
LAST-MODIFIED:20230906T140749Z
UID:10000924-1694442600-1694442600@wbecnydmv.org
SUMMARY:Why Get WBENC Certified
DESCRIPTION:Register now!
URL:https://wbecnydmv.org/event/why-get-wbenc-certified/2023-09-11/
LOCATION:NY
CATEGORIES:WBEC Metro NY and Greater DMV Events
END:VEVENT
BEGIN:VEVENT
DTSTART;TZID=America/New_York:20230905T120000
DTEND;TZID=America/New_York:20230905T130000
DTSTAMP:20260423T153312
CREATED:20230405T140431Z
LAST-MODIFIED:20230906T141035Z
UID:10000869-1693915200-1693918800@wbecnydmv.org
SUMMARY:I’m Certified\, Now What?
DESCRIPTION:Register now!
URL:https://wbecnydmv.org/event/im-certified-now-what/2023-09-05/
LOCATION:NY
CATEGORIES:WBEC Metro NY and Greater DMV Events
END:VEVENT
BEGIN:VEVENT
DTSTART;TZID=America/New_York:20230830T130000
DTEND;TZID=America/New_York:20230830T143000
DTSTAMP:20260423T153312
CREATED:20230621T140459Z
LAST-MODIFIED:20230814T185658Z
UID:10000900-1693400400-1693405800@wbecnydmv.org
SUMMARY:2023 WBEC Metro NY Live Regional Pitch Competition
DESCRIPTION:Register now!
URL:https://wbecnydmv.org/event/2023-wbec-metro-ny-live-regional-pitch-competition/
LOCATION:NY
CATEGORIES:WBEC Metro NY Events
END:VEVENT
BEGIN:VEVENT
DTSTART;TZID=America/New_York:20230830T100000
DTEND;TZID=America/New_York:20230830T113000
DTSTAMP:20260423T153312
CREATED:20230621T142013Z
LAST-MODIFIED:20230621T142039Z
UID:10000901-1693389600-1693395000@wbecnydmv.org
SUMMARY:2023 WBEC Greater DMV Live Regional Pitch Competition
DESCRIPTION:Register now!
URL:https://wbecnydmv.org/event/2023-wbec-greater-dmv-live-regional-pitch-competition/
LOCATION:NY
CATEGORIES:WBEC Greater DMV Events
END:VEVENT
BEGIN:VEVENT
DTSTART;TZID=America/New_York:20230822T140000
DTEND;TZID=America/New_York:20230822T150000
DTSTAMP:20260423T153312
CREATED:20230601T141714Z
LAST-MODIFIED:20230922T202418Z
UID:10000851-1692712800-1692716400@wbecnydmv.org
SUMMARY:How to Get WBENC Certified
DESCRIPTION:Register now!
URL:https://wbecnydmv.org/event/how-to-get-wbenc-certified-2/2023-08-22/
LOCATION:NY
CATEGORIES:WBEC Metro NY and Greater DMV Events
END:VEVENT
END:VCALENDAR