BEGIN:VCALENDAR
VERSION:2.0
PRODID:-//WBEC NY DMV - ECPv6.15.18//NONSGML v1.0//EN
CALSCALE:GREGORIAN
METHOD:PUBLISH
X-WR-CALNAME:WBEC NY DMV
X-ORIGINAL-URL:https://wbecnydmv.org
X-WR-CALDESC:Events for WBEC NY DMV
REFRESH-INTERVAL;VALUE=DURATION:PT1H
X-Robots-Tag:noindex
X-PUBLISHED-TTL:PT1H
BEGIN:VTIMEZONE
TZID:America/New_York
BEGIN:DAYLIGHT
TZOFFSETFROM:-0500
TZOFFSETTO:-0400
TZNAME:EDT
DTSTART:20250309T070000
END:DAYLIGHT
BEGIN:STANDARD
TZOFFSETFROM:-0400
TZOFFSETTO:-0500
TZNAME:EST
DTSTART:20251102T060000
END:STANDARD
BEGIN:DAYLIGHT
TZOFFSETFROM:-0500
TZOFFSETTO:-0400
TZNAME:EDT
DTSTART:20260308T070000
END:DAYLIGHT
BEGIN:STANDARD
TZOFFSETFROM:-0400
TZOFFSETTO:-0500
TZNAME:EST
DTSTART:20261101T060000
END:STANDARD
BEGIN:DAYLIGHT
TZOFFSETFROM:-0500
TZOFFSETTO:-0400
TZNAME:EDT
DTSTART:20270314T070000
END:DAYLIGHT
BEGIN:STANDARD
TZOFFSETFROM:-0400
TZOFFSETTO:-0500
TZNAME:EST
DTSTART:20271107T060000
END:STANDARD
END:VTIMEZONE
BEGIN:VEVENT
DTSTART;TZID=America/New_York:20261203T103000
DTEND;TZID=America/New_York:20261203T140000
DTSTAMP:20260419T225547
CREATED:20260304T160333Z
LAST-MODIFIED:20260304T160333Z
UID:10001292-1796293800-1796306400@wbecnydmv.org
SUMMARY:2026 WBEC Greater DMV Impact Awards Luncheon
DESCRIPTION:WBEC Greater DMV Awards Luncheon\nThe WBEC Greater DMV Impact Awards honor the women-owned businesses\, corporate partners\, and ecosystem allies driving bold change\, forging powerful partnerships\, and sparking innovation across industries. Join us on December 3 in Washington\, D.C. as we honor trailblazers\, spotlight collaborators\, and salute the changemakers redefining what’s possible in business. \nBe seen. Be celebrated. And be recognized for making an impact that inspires others and shapes the future of women-owned enterprises. \nAdditional details coming soon.
URL:https://wbecnydmv.org/event/2026-wbec-greater-dmv-impact-awards-luncheon/
CATEGORIES:WBEC Greater DMV Events
END:VEVENT
BEGIN:VEVENT
DTSTART;TZID=America/New_York:20261215T140000
DTEND;TZID=America/New_York:20261215T150000
DTSTAMP:20260419T225547
CREATED:20260116T152037Z
LAST-MODIFIED:20260122T221107Z
UID:10001288-1797343200-1797346800@wbecnydmv.org
SUMMARY:I'm Certified\, Now What?
DESCRIPTION:Maximizing Your WBENC Certification\nDecember 15th\, 2026 | 2pm to 3pm EST | Virtual Session\nIf you’re a newly certified WBE or would like to maximize your certification\, you don’t want to miss this!\nLearn more about the WBENC and WBEC Metro NY and Greater DMV network and opportunities.\nLearn how best to use and navigate WBENCLink2.0.\nMeet the WBEC Metro NY and Greater DMV Certification Team! \nReserve your spot today!\nClick here to register.
URL:https://wbecnydmv.org/event/im-certified-now-what-december/
LOCATION:Virtual
CATEGORIES:WBEC Metro NY and Greater DMV Events
END:VEVENT
END:VCALENDAR