BEGIN:VCALENDAR
VERSION:2.0
PRODID:-//WBEC NY DMV - ECPv6.15.18//NONSGML v1.0//EN
CALSCALE:GREGORIAN
METHOD:PUBLISH
X-WR-CALNAME:WBEC NY DMV
X-ORIGINAL-URL:https://wbecnydmv.org
X-WR-CALDESC:Events for WBEC NY DMV
REFRESH-INTERVAL;VALUE=DURATION:PT1H
X-Robots-Tag:noindex
X-PUBLISHED-TTL:PT1H
BEGIN:VTIMEZONE
TZID:America/New_York
BEGIN:DAYLIGHT
TZOFFSETFROM:-0500
TZOFFSETTO:-0400
TZNAME:EDT
DTSTART:20240310T070000
END:DAYLIGHT
BEGIN:STANDARD
TZOFFSETFROM:-0400
TZOFFSETTO:-0500
TZNAME:EST
DTSTART:20241103T060000
END:STANDARD
BEGIN:DAYLIGHT
TZOFFSETFROM:-0500
TZOFFSETTO:-0400
TZNAME:EDT
DTSTART:20250309T070000
END:DAYLIGHT
BEGIN:STANDARD
TZOFFSETFROM:-0400
TZOFFSETTO:-0500
TZNAME:EST
DTSTART:20251102T060000
END:STANDARD
BEGIN:DAYLIGHT
TZOFFSETFROM:-0500
TZOFFSETTO:-0400
TZNAME:EDT
DTSTART:20260308T070000
END:DAYLIGHT
BEGIN:STANDARD
TZOFFSETFROM:-0400
TZOFFSETTO:-0500
TZNAME:EST
DTSTART:20261101T060000
END:STANDARD
END:VTIMEZONE
BEGIN:VEVENT
DTSTART;TZID=America/New_York:20250814T110000
DTEND;TZID=America/New_York:20250814T110000
DTSTAMP:20260422T043813
CREATED:20250807T151827Z
LAST-MODIFIED:20250807T151927Z
UID:10001244-1755169200-1755169200@wbecnydmv.org
SUMMARY:Accelerate Your Story: WBEC Greater DMV Powerplay Pitch Competition – LIVE in Washington\, D.C.!
DESCRIPTION:We want to see you in-person on August 14th at the vibrant Anacostia Arts Center in Washington\, D.C. for the LIVE WBEC Greater DMV Powerplay Pitch Competition! This dynamic event will feature 10 incredible Women Business Enterprises (WBEs) as they showcase their pitching skills and power up their businesses. \nThis year’s theme\, Accelerate Your Story\, emphasizes the power of authentic storytelling in business. Each finalist will deliver a compelling\, story-driven pitch that answers the question: “What is your company’s message?” \n📍 Location: Anacostia Arts Center\, Washington\, D.C.\n📅 Date: August 14\, 2025 @ 11am\n🎟️ Format: In-Person Event \n  \n🎤 Meet the 2025 WBEC Greater DMV Finalists: \n\nExcellence Brainery DBA Vocal Value – Linnita Hosten\nThe Ambition Studio – Queirra Fenderson\nPhoenix Lifestyle Marketing Group – Elizabeth Caulder\nSoul Therapy Media – Julian B. Kiganda\nEPICC Technologies – Kamilah Mantle\nDeVine Wine Jelly – LaKesha Veney\nSUMMA.\, LLC – Carolyn Demougeot\nGood News Financial & Investment Advisors LLC – Jovan Jackson\nOyster Insight – Molly Wilmer\nSnapify LLC – Aniya D. Omopariola\n\nThe top 4 finalists will advance to the WBENC National Semi-Finals on October 27–28\, with a chance to compete for the $25\,000 grand prize at the WBENC National Finals! \nDon’t miss this powerful opportunity to support local women entrepreneurs\, connect with business leaders\, and be inspired by bold\, story-driven innovation. \n👉 Register now to secure your spot \nLet’s power up together—your presence makes a difference!
URL:https://wbecnydmv.org/event/accelerate-your-story-wbec-greater-dmv-powerplay-pitch-competition-live-in-washington-d-c/
CATEGORIES:WBEC Greater DMV Events
END:VEVENT
END:VCALENDAR