BEGIN:VCALENDAR
VERSION:2.0
PRODID:-//WBEC NY DMV - ECPv6.15.18//NONSGML v1.0//EN
CALSCALE:GREGORIAN
METHOD:PUBLISH
X-WR-CALNAME:WBEC NY DMV
X-ORIGINAL-URL:https://wbecnydmv.org
X-WR-CALDESC:Events for WBEC NY DMV
REFRESH-INTERVAL;VALUE=DURATION:PT1H
X-Robots-Tag:noindex
X-PUBLISHED-TTL:PT1H
BEGIN:VTIMEZONE
TZID:America/New_York
BEGIN:DAYLIGHT
TZOFFSETFROM:-0500
TZOFFSETTO:-0400
TZNAME:EDT
DTSTART:20220313T070000
END:DAYLIGHT
BEGIN:STANDARD
TZOFFSETFROM:-0400
TZOFFSETTO:-0500
TZNAME:EST
DTSTART:20221106T060000
END:STANDARD
BEGIN:DAYLIGHT
TZOFFSETFROM:-0500
TZOFFSETTO:-0400
TZNAME:EDT
DTSTART:20230312T070000
END:DAYLIGHT
BEGIN:STANDARD
TZOFFSETFROM:-0400
TZOFFSETTO:-0500
TZNAME:EST
DTSTART:20231105T060000
END:STANDARD
BEGIN:DAYLIGHT
TZOFFSETFROM:-0500
TZOFFSETTO:-0400
TZNAME:EDT
DTSTART:20240310T070000
END:DAYLIGHT
BEGIN:STANDARD
TZOFFSETFROM:-0400
TZOFFSETTO:-0500
TZNAME:EST
DTSTART:20241103T060000
END:STANDARD
END:VTIMEZONE
BEGIN:VEVENT
DTSTART;TZID=America/New_York:20230822T120000
DTEND;TZID=America/New_York:20230822T130000
DTSTAMP:20260424T151043
CREATED:20230802T195025Z
LAST-MODIFIED:20230802T195025Z
UID:10000921-1692705600-1692709200@wbecnydmv.org
SUMMARY:Lunch With the Experts: AARP Small Business Series
DESCRIPTION:  \nLunch with the Experts: AARP Small Business Series\n \nTuesday\, August 22th\, 2023\n12:00pm–1:00pm ET \n  \nManaging your personal finances as an entrepreneur and nurturing financial success for you and your business. \n  \nPresenter Info\n  \n \n  \nMartin Booker\nProgram Manager\, Financial Resilience Programming\, AARP\nMartin Booker is a Program Manager at AARP where he leads various financial education initiatives about investing\, social security\, and budgeting for the organizations’ 32 million membership-base. After receiving a master’s degree in social work at the University of Connecticut\, Martin worked in the non-profit sector in Washington\, D.C. and developed a passion for helping people improve their money habits. During his time in the non-profit community\, he completed the Certified Financial Planner program at Georgetown University and learned how to teach others about money in a practical and actionable way. He has provided individual and group coaching services\, classes\, and leads workshops about credit\, investing\, retirement planning and other finance-related topics. Martin uses speaking opportunities to engage and educate people to better understand how to not only make but keep their money. \n  \nRegister in advance for this meeting: \nhttps://us02web.zoom.us/meeting/register/tZcpceiqrTsiHdfzILd-Dtc5X6CTTfVFgvPK
URL:https://wbecnydmv.org/event/lunch-with-the-experts-aarp-small-business-series/
CATEGORIES:Lunch with the Experts,WBEC Greater DMV Events
END:VEVENT
END:VCALENDAR