BEGIN:VCALENDAR
VERSION:2.0
PRODID:-//WBEC NY DMV - ECPv6.15.18//NONSGML v1.0//EN
CALSCALE:GREGORIAN
METHOD:PUBLISH
X-WR-CALNAME:WBEC NY DMV
X-ORIGINAL-URL:https://wbecnydmv.org
X-WR-CALDESC:Events for WBEC NY DMV
REFRESH-INTERVAL;VALUE=DURATION:PT1H
X-Robots-Tag:noindex
X-PUBLISHED-TTL:PT1H
BEGIN:VTIMEZONE
TZID:America/New_York
BEGIN:DAYLIGHT
TZOFFSETFROM:-0500
TZOFFSETTO:-0400
TZNAME:EDT
DTSTART:20220313T070000
END:DAYLIGHT
BEGIN:STANDARD
TZOFFSETFROM:-0400
TZOFFSETTO:-0500
TZNAME:EST
DTSTART:20221106T060000
END:STANDARD
BEGIN:DAYLIGHT
TZOFFSETFROM:-0500
TZOFFSETTO:-0400
TZNAME:EDT
DTSTART:20230312T070000
END:DAYLIGHT
BEGIN:STANDARD
TZOFFSETFROM:-0400
TZOFFSETTO:-0500
TZNAME:EST
DTSTART:20231105T060000
END:STANDARD
BEGIN:DAYLIGHT
TZOFFSETFROM:-0500
TZOFFSETTO:-0400
TZNAME:EDT
DTSTART:20240310T070000
END:DAYLIGHT
BEGIN:STANDARD
TZOFFSETFROM:-0400
TZOFFSETTO:-0500
TZNAME:EST
DTSTART:20241103T060000
END:STANDARD
END:VTIMEZONE
BEGIN:VEVENT
DTSTART;TZID=America/New_York:20230808T120000
DTEND;TZID=America/New_York:20230808T130000
DTSTAMP:20260424T151038
CREATED:20230801T142539Z
LAST-MODIFIED:20230801T142539Z
UID:10000918-1691496000-1691499600@wbecnydmv.org
SUMMARY:Lunch With the Experts: AARP Supplier Diversity
DESCRIPTION:Lunch with the Experts: AARP Supplier Diversity\nTuesday\, August 8\, 2023\n12:00pm–1:00pm ET \n  \nAn overview of supplier diversity programs along with specific opportunities available with AARP. \n  \nPresenter Info\n \nKimberly N. Ayers\nDirector\, Supplier Diversity\, Procurement and Contract Management\, AARP \nAs AARP’s Director\, Supplier Diversity within Procurement and Contract Management\, Kimberly Ayers is responsible for managing and fostering partnership opportunities between AARP internal stakeholders\, the procurement team\, and small and diverse suppliers to drive increased awareness and usage of small and diverse businesses enterprise wide. Ms. Ayers ensures that AARP stays connected to the community by: championing continuing educational opportunities for entrepreneurs\, the promotion of minority and small business certification opportunities\, and sponsoring diverse initiative opportunities provided by AARP diversity partner organizations to bring greater visibility and awareness to the issues facing small and diverse businesses. \nKimberly joined AARP in 2018 after working for National Rural Electric Cooperative Association (NRECA)\, Verizon\, and XO Communications where she held a variety of audit and procurement related positions of increasing responsibility. \nKimberly has a B.S. in Natural Resources and Environmental Law from the University of Connecticut and is currently a member of the Women’s Business Enterprise National Council (WBENC) and Capital Region Minority Supplier Development Council (CRMSDC). She is also on the Board of Directors for Women’s Business Enterprise Council (WBEC) Metro NY Greater DMV. \nAARP is the nation’s largest nonprofit\, nonpartisan organization dedicated to empowering people 50 and older to choose how they live as they age. With a nationwide presence\, AARP strengthens communities and advocates for what matters most to the more than 100 million Americans 50-plus and their families: health security\, financial stability and personal fulfillment. \n  \nRegister in advance for this meeting: \nhttps://us02web.zoom.us/meeting/register/tZcpceiqrTsiHdfzILd-Dtc5X6CTTfVFgvPK \n\n 
URL:https://wbecnydmv.org/event/lunch-with-the-experts-aarp-supplier-diversity/
CATEGORIES:Lunch with the Experts,WBEC Greater DMV Events
END:VEVENT
END:VCALENDAR