BEGIN:VCALENDAR
VERSION:2.0
PRODID:-//WBEC NY DMV - ECPv6.15.18//NONSGML v1.0//EN
CALSCALE:GREGORIAN
METHOD:PUBLISH
X-WR-CALNAME:WBEC NY DMV
X-ORIGINAL-URL:https://wbecnydmv.org
X-WR-CALDESC:Events for WBEC NY DMV
REFRESH-INTERVAL;VALUE=DURATION:PT1H
X-Robots-Tag:noindex
X-PUBLISHED-TTL:PT1H
BEGIN:VTIMEZONE
TZID:America/New_York
BEGIN:DAYLIGHT
TZOFFSETFROM:-0500
TZOFFSETTO:-0400
TZNAME:EDT
DTSTART:20220313T070000
END:DAYLIGHT
BEGIN:STANDARD
TZOFFSETFROM:-0400
TZOFFSETTO:-0500
TZNAME:EST
DTSTART:20221106T060000
END:STANDARD
BEGIN:DAYLIGHT
TZOFFSETFROM:-0500
TZOFFSETTO:-0400
TZNAME:EDT
DTSTART:20230312T070000
END:DAYLIGHT
BEGIN:STANDARD
TZOFFSETFROM:-0400
TZOFFSETTO:-0500
TZNAME:EST
DTSTART:20231105T060000
END:STANDARD
BEGIN:DAYLIGHT
TZOFFSETFROM:-0500
TZOFFSETTO:-0400
TZNAME:EDT
DTSTART:20240310T070000
END:DAYLIGHT
BEGIN:STANDARD
TZOFFSETFROM:-0400
TZOFFSETTO:-0500
TZNAME:EST
DTSTART:20241103T060000
END:STANDARD
END:VTIMEZONE
BEGIN:VEVENT
DTSTART;TZID=America/New_York:20230509T073000
DTEND;TZID=America/New_York:20230509T153000
DTSTAMP:20260424T212522
CREATED:20230412T200341Z
LAST-MODIFIED:20230412T200341Z
UID:10000872-1683617400-1683646200@wbecnydmv.org
SUMMARY:DC Chamber of Commerce 2023 Small Business Summit - Connect\, Grow\, Succeed
DESCRIPTION:The DC Chamber of Commerce 2023 Small Business Summit will convene leaders from across local & federal governments and the small business industry to address the latest trends and emerging developments in the District of Columbia’s small business landscape through insightful discussions\, expert panels\, and interactive workshops. Special educational programming will also be featured for our small DC-based retailers. \nWHEN: Tuesday\, May 9th\, 2023 \nTIME: 7:30 am to 3:30 pm \nWHERE: Washington Convention Center \nREGISTER: https://www.dcchamber.org/event/2023-small-biz-summit/ \nKeynote Speaker\n \nGina Schaefer\, CEO and Co-Founder\, A Few Cool Hardware Stores\nGina will share her remarkable story of overcoming adversity and discrimination and turning into it success all while supporting and empowering entrepreneurship. Read more about Gina HERE. \nCall for Nominations – DC Chamber of Commerce Small Business Awards\nEach year the DC Chamber of Commerce honors the success of small businesses who have contributed to the business and economic growth of our community. The awards will be announced and presented on May 9\, 2023\, at the Small Business Summit luncheon. \nNominations will be evaluated based on information provided in applications. The award categories are: \n\nSmall Business of the Year\nSmall Business Person of the Year\nYoung Entrepreneur of the Year\nNon-Profit Organization of the Year\nSmall Business Champion of the Year\nWomen in Business Champion of the Year\n\nSubmission Deadline – Friday\, March 31\, 2023. https://dcchamber.org/2023-small-business-summit-nominations/
URL:https://wbecnydmv.org/event/dc-chamber-of-commerce-2023-small-business-summit-connect-grow-succeed/
LOCATION:Washington Convention Center\, 801 Mt Vernon Pl NW\, Washington\, DC\, 20001\, United States
CATEGORIES:WBEC Greater DMV Events
END:VEVENT
END:VCALENDAR