BEGIN:VCALENDAR
VERSION:2.0
PRODID:-//WBEC NY DMV - ECPv6.15.18//NONSGML v1.0//EN
CALSCALE:GREGORIAN
METHOD:PUBLISH
X-ORIGINAL-URL:https://wbecnydmv.org
X-WR-CALDESC:Events for WBEC NY DMV
REFRESH-INTERVAL;VALUE=DURATION:PT1H
X-Robots-Tag:noindex
X-PUBLISHED-TTL:PT1H
BEGIN:VTIMEZONE
TZID:America/New_York
BEGIN:DAYLIGHT
TZOFFSETFROM:-0500
TZOFFSETTO:-0400
TZNAME:EDT
DTSTART:20220313T070000
END:DAYLIGHT
BEGIN:STANDARD
TZOFFSETFROM:-0400
TZOFFSETTO:-0500
TZNAME:EST
DTSTART:20221106T060000
END:STANDARD
BEGIN:DAYLIGHT
TZOFFSETFROM:-0500
TZOFFSETTO:-0400
TZNAME:EDT
DTSTART:20230312T070000
END:DAYLIGHT
BEGIN:STANDARD
TZOFFSETFROM:-0400
TZOFFSETTO:-0500
TZNAME:EST
DTSTART:20231105T060000
END:STANDARD
BEGIN:DAYLIGHT
TZOFFSETFROM:-0500
TZOFFSETTO:-0400
TZNAME:EDT
DTSTART:20240310T070000
END:DAYLIGHT
BEGIN:STANDARD
TZOFFSETFROM:-0400
TZOFFSETTO:-0500
TZNAME:EST
DTSTART:20241103T060000
END:STANDARD
END:VTIMEZONE
BEGIN:VEVENT
DTSTART;TZID=America/New_York:20231116T180000
DTEND;TZID=America/New_York:20231116T200000
DTSTAMP:20260424T075405
CREATED:20230621T145354Z
LAST-MODIFIED:20231110T153722Z
UID:10000904-1700157600-1700164800@wbecnydmv.org
SUMMARY:Greater DMV Celebrating Our Partners Reception
DESCRIPTION:Our 2023 Celebrating Our Partners Reception is a special evening held in honor and recognition of our Corporate Partners and their Supplier Diversity Teams\, and WBEC Greater DMV’s incredible WBEs. \nIt’s an opportunity for us to get together to network and acknowledge the extraordinary contributions and achievements you’ve all made throughout the year\, as well as enjoy delicious food and drinks. \nWe can’t wait to celebrate with you! Register Now!\nTicket Prices\nAnnual Awards Breakfast\n\nWBE Certified: $95\nCorp/Non-WBE: $125\n\nAnnual Awards Breakfast and Celebrating Our Partners Reception\n\nWBE Certified: $125\nCorp/Non-WBE: $150\n\nTickets are nonrefundable.
URL:https://wbecnydmv.org/event/greater-dmv-celebrating-our-partners-reception-2023/
LOCATION:Fairmount Washington DC\, 2401 M Street\, NW\, Washington\, DC\, 20037
CATEGORIES:WBEC Greater DMV Events
ATTACH;FMTTYPE=image/jpeg:https://wbecnydmv.org/wp-content/uploads/2023/06/DMV-cover.jpg
END:VEVENT
BEGIN:VEVENT
DTSTART;TZID=America/New_York:20231117T083000
DTEND;TZID=America/New_York:20231117T123000
DTSTAMP:20260424T075405
CREATED:20230621T145639Z
LAST-MODIFIED:20231110T153903Z
UID:10000905-1700209800-1700224200@wbecnydmv.org
SUMMARY:Greater DMV Annual Awards and Breakthrough Breakfast
DESCRIPTION:Our 2023 Annual Awards Breakthrough Breakfast is our premier gathering where we bring together our Corporate Partners\, Supplier Diversity Teams\, and WBEs for an informative\, energizing\, and celebratory morning of programming and networking\, culminating with the presentation of our WBEC Greater DMV Outstanding Partner and Done Deals™ Awards. \nRegister Now! It’s an event you don’t want to miss!\nTicket Prices\nAnnual Awards Breakfast\n\nWBE Certified: $95\nCorp/Non-WBE: $125\n\nAnnual Awards Breakfast and Celebrating Our Partners Reception\n\nWBE Certified: $125\nCorp/Non-WBE: $150\n\nTickets are nonrefundable.
URL:https://wbecnydmv.org/event/greater-dmv-annual-awards-and-breakthrough-breakfast-2023/
LOCATION:The Willard Intercontinental Hotel\, 1401 Pennsylvania Avenue NW\, DC\, 20004\, United States
CATEGORIES:WBEC Greater DMV Events
ATTACH;FMTTYPE=image/jpeg:https://wbecnydmv.org/wp-content/uploads/2023/06/DMV-cover.jpg
END:VEVENT
END:VCALENDAR