BEGIN:VCALENDAR
VERSION:2.0
PRODID:-//WBEC NY DMV - ECPv6.15.18//NONSGML v1.0//EN
CALSCALE:GREGORIAN
METHOD:PUBLISH
X-ORIGINAL-URL:https://wbecnydmv.org
X-WR-CALDESC:Events for WBEC NY DMV
REFRESH-INTERVAL;VALUE=DURATION:PT1H
X-Robots-Tag:noindex
X-PUBLISHED-TTL:PT1H
BEGIN:VTIMEZONE
TZID:America/New_York
BEGIN:DAYLIGHT
TZOFFSETFROM:-0500
TZOFFSETTO:-0400
TZNAME:EDT
DTSTART:20250309T070000
END:DAYLIGHT
BEGIN:STANDARD
TZOFFSETFROM:-0400
TZOFFSETTO:-0500
TZNAME:EST
DTSTART:20251102T060000
END:STANDARD
BEGIN:DAYLIGHT
TZOFFSETFROM:-0500
TZOFFSETTO:-0400
TZNAME:EDT
DTSTART:20260308T070000
END:DAYLIGHT
BEGIN:STANDARD
TZOFFSETFROM:-0400
TZOFFSETTO:-0500
TZNAME:EST
DTSTART:20261101T060000
END:STANDARD
BEGIN:DAYLIGHT
TZOFFSETFROM:-0500
TZOFFSETTO:-0400
TZNAME:EDT
DTSTART:20270314T070000
END:DAYLIGHT
BEGIN:STANDARD
TZOFFSETFROM:-0400
TZOFFSETTO:-0500
TZNAME:EST
DTSTART:20271107T060000
END:STANDARD
END:VTIMEZONE
BEGIN:VEVENT
DTSTART;TZID=America/New_York:20260511T120000
DTEND;TZID=America/New_York:20260511T140000
DTSTAMP:20260421T190649
CREATED:20260414T172729Z
LAST-MODIFIED:20260420T185720Z
UID:10001313-1778500800-1778508000@wbecnydmv.org
SUMMARY:WOW Meet the Staff NYC In-Person Mixer
DESCRIPTION:Put a face to the name and a handshake to the connection. Our WOW in-person NYC mixer will bring together members of our WBE network and our regional staff for an afternoon of meaningful conversation\, connection\, and good company. Meet the dedicated staff behind WBEC NY DMV\, reconnect with fellow members\, and discover the businesses that make our network so extraordinary.  \nRegister Now!\nLearn more about Week of WBEC here!
URL:https://wbecnydmv.org/event/wow-meet-the-staff-nyc-in-person-mixer/
CATEGORIES:WBEC Metro NY and Greater DMV Events
END:VEVENT
BEGIN:VEVENT
DTSTART;TZID=America/New_York:20260511T120000
DTEND;TZID=America/New_York:20260511T140000
DTSTAMP:20260421T190649
CREATED:20260414T173032Z
LAST-MODIFIED:20260420T185733Z
UID:10001314-1778500800-1778508000@wbecnydmv.org
SUMMARY:WOW Meet the Staff DC In-Person Mixer
DESCRIPTION:Put a face to the name and a handshake to the connection. Our WOW in-person DC mixer will bring together members of our WBE network and our regional staff for an afternoon of meaningful conversation\, connection\, and good company. Meet the dedicated staff behind WBEC NY DMV\, reconnect with fellow members\, and discover the businesses that make our network so extraordinary.  \nRegister Now!\nLearn more about Week of WBEC here!
URL:https://wbecnydmv.org/event/wow-meet-the-staff-dc-in-person-mixer/
CATEGORIES:WBEC Metro NY and Greater DMV Events
END:VEVENT
END:VCALENDAR