BEGIN:VCALENDAR
VERSION:2.0
PRODID:-//WBEC NY DMV - ECPv6.15.18//NONSGML v1.0//EN
CALSCALE:GREGORIAN
METHOD:PUBLISH
X-ORIGINAL-URL:https://wbecnydmv.org
X-WR-CALDESC:Events for WBEC NY DMV
REFRESH-INTERVAL;VALUE=DURATION:PT1H
X-Robots-Tag:noindex
X-PUBLISHED-TTL:PT1H
BEGIN:VTIMEZONE
TZID:America/New_York
BEGIN:DAYLIGHT
TZOFFSETFROM:-0500
TZOFFSETTO:-0400
TZNAME:EDT
DTSTART:20230312T070000
END:DAYLIGHT
BEGIN:STANDARD
TZOFFSETFROM:-0400
TZOFFSETTO:-0500
TZNAME:EST
DTSTART:20231105T060000
END:STANDARD
BEGIN:DAYLIGHT
TZOFFSETFROM:-0500
TZOFFSETTO:-0400
TZNAME:EDT
DTSTART:20240310T070000
END:DAYLIGHT
BEGIN:STANDARD
TZOFFSETFROM:-0400
TZOFFSETTO:-0500
TZNAME:EST
DTSTART:20241103T060000
END:STANDARD
BEGIN:DAYLIGHT
TZOFFSETFROM:-0500
TZOFFSETTO:-0400
TZNAME:EDT
DTSTART:20250309T070000
END:DAYLIGHT
BEGIN:STANDARD
TZOFFSETFROM:-0400
TZOFFSETTO:-0500
TZNAME:EST
DTSTART:20251102T060000
END:STANDARD
END:VTIMEZONE
BEGIN:VEVENT
DTSTART;TZID=America/New_York:20241031T100000
DTEND;TZID=America/New_York:20241031T120000
DTSTAMP:20260425T110811
CREATED:20240826T193103Z
LAST-MODIFIED:20241029T200536Z
UID:10001118-1730368800-1730376000@wbecnydmv.org
SUMMARY:Cybersecurity: Workshop 3
DESCRIPTION:Cybersecurity: Workshop 3\nOctober 31st\, 2024 | 10am to 12pm ET | Virtual Session\n \nIn today’s digital world\, cybersecurity is crucial for diverse-owned businesses. Implementing strong cybersecurity measures is essential for protecting sensitive information\, maintaining client trust\, and ensuring business continuity. \nThe Cybersecurity Intensive is designed to support women-owned medium and large businesses by providing essential knowledge and tools to combat cyber threats. It aims to raise awareness of cybersecurity risks\, promote good practices\, and offer actionable strategies to protect business assets in an increasingly digital world. \nWorkshop 3 – Incorporating Cybersecurity in Your Business Strategy\nThis workshop will explore several different ways that WBEs can leverage good cyber hygiene to create a competitive advantage and incorporate cybersecurity into their business strategy. \nDuring this workshop participants will: \n1.Gain a basic understanding of cybersecurity frameworks.\n2. Learn how to determine which cybersecurity framework will give you a competitive advantage.\n3. Explore the pros and cons of adopting a specific cybersecurity framework. \nFor more information\, and to apply/register for the waitlist\, please visit our website: https://wbecnydmv.org/programs/cybersecurity-intensive/ \n \nAngela Dingle \nAs President and CEO of Women Impacting Public Policy (WIPP)\, Angela Dingle leads a national nonpartisan organization advocating on behalf of women entrepreneurs\, strengthening their impact on our nation’s public policy\, creating economic opportunities\, and forging alliances with other business organizations. Serving as the voice for the over 14 million women owned companies in the U.S.\, WIPP works with lawmakers to impact and influence policy that provides economic equity\, procurement inclusion and access to the global marketplace. \nPrior to serving in this role\, Angela founded Ex Nihilo Management\, an award-winning technology and management consultancy that provides governance\, risk management and cybersecurity (GRC) to the public\, private and non-profit sector. Her commitment to client success earned her a reputation as a trusted advisor and strategic partner. Angela is a sought-after speaker and thought leader\, sharing her insights and expertise at conferences and events focused on women in business and government contracting. She is the author of Discovering Your Girl Powers: 10 Strategies to Build Confidence\, Charisma and Credibility and Unexpected Leader: 11 Tools for Transformational Leadership. She has written articles and publications that provide valuable leadership guidance. Angela holds a MS in Management Information Systems from Bowie State University\, a BS in Computer Science from DeVry University\, a Certified Myers Briggs Type Indicator (MBTI) Practitioner\, and a Certified Management Consultant (CMC).  Angela is a member of Delta Sigma Theta Sorority\, Inc.
URL:https://wbecnydmv.org/event/cybersecurity-workshop-3/
CATEGORIES:WBEC Metro NY and Greater DMV Events
END:VEVENT
BEGIN:VEVENT
DTSTART;TZID=America/New_York:20241031T130000
DTEND;TZID=America/New_York:20241031T140000
DTSTAMP:20260425T110811
CREATED:20240129T170023Z
LAST-MODIFIED:20241030T155138Z
UID:10001001-1730379600-1730383200@wbecnydmv.org
SUMMARY:WBEC Metro NY And Greater DMV: I'm Certified\, Now What?
DESCRIPTION:“I’m Certified\, Now What?”\nMaximizing Your WBENC Certification\nOctober 31st\, 2024 | 1pm to 2pm EST | Virtual Session\nWBENC Certification can be an amazing tool to help open doors and uncover business opportunities to take you from where you are to where you want to be. To fully unlock the extensive benefits of the WBENC network\, we highly encourage you to take advantage of the opportunities and resources available to you – both locally and nationally. Attend this session to learn more about the core components of our network and the steps you can take today to make the most out of your certification. Participation is recommended for all newly certified and recertified  WBEs\, as well as WBEs who wants to stay up to date on what’s happening in the network. \nReserve your spot today! \nClick here to register.\nAfter registering\, you will receive a confirmation email containing information about joining the meeting.
URL:https://wbecnydmv.org/event/wbec-metro-ny-and-greater-dmv-im-certified-now-what-12/
CATEGORIES:WBEC Metro NY and Greater DMV Events
END:VEVENT
END:VCALENDAR