BEGIN:VCALENDAR
VERSION:2.0
PRODID:-//WBEC NY DMV - ECPv6.15.18//NONSGML v1.0//EN
CALSCALE:GREGORIAN
METHOD:PUBLISH
X-ORIGINAL-URL:https://wbecnydmv.org
X-WR-CALDESC:Events for WBEC NY DMV
REFRESH-INTERVAL;VALUE=DURATION:PT1H
X-Robots-Tag:noindex
X-PUBLISHED-TTL:PT1H
BEGIN:VTIMEZONE
TZID:America/New_York
BEGIN:DAYLIGHT
TZOFFSETFROM:-0500
TZOFFSETTO:-0400
TZNAME:EDT
DTSTART:20240310T070000
END:DAYLIGHT
BEGIN:STANDARD
TZOFFSETFROM:-0400
TZOFFSETTO:-0500
TZNAME:EST
DTSTART:20241103T060000
END:STANDARD
BEGIN:DAYLIGHT
TZOFFSETFROM:-0500
TZOFFSETTO:-0400
TZNAME:EDT
DTSTART:20250309T070000
END:DAYLIGHT
BEGIN:STANDARD
TZOFFSETFROM:-0400
TZOFFSETTO:-0500
TZNAME:EST
DTSTART:20251102T060000
END:STANDARD
BEGIN:DAYLIGHT
TZOFFSETFROM:-0500
TZOFFSETTO:-0400
TZNAME:EDT
DTSTART:20260308T070000
END:DAYLIGHT
BEGIN:STANDARD
TZOFFSETFROM:-0400
TZOFFSETTO:-0500
TZNAME:EST
DTSTART:20261101T060000
END:STANDARD
END:VTIMEZONE
BEGIN:VEVENT
DTSTART;TZID=America/New_York:20250702T130000
DTEND;TZID=America/New_York:20250702T140000
DTSTAMP:20260424T122712
CREATED:20250207T155732Z
LAST-MODIFIED:20250528T190201Z
UID:10001184-1751461200-1751464800@wbecnydmv.org
SUMMARY:Why and How to Get Certified
DESCRIPTION:Why and How to Get Certified \nJuly 2nd\, 2025 | 1pm EST | Virtual Session\n  \nIf you’re a 51% women-owned or operated company\, you’re just a few steps away from becoming a WBENC-Certified women’s business enterprise (WBE)! \nAt WBEC Metro NY & Greater DMV\, fueling local economic growth through the empowerment of women business owners is our primary mission. We provide WBENC certification—the gold standard in diversity certification—at the regional level and serve as an advocate for certified women-owned businesses by providing our WBEs with resources\, programming\, network opportunities\, and recognition. \nDo you want access to supplier diversity and procurement opportunities\, networking events with like-minded women entrepreneurs\, leadership development programs\, and exclusive resources to grow and scale your business? \nJoin us for a 1-hour webinar and learn why the benefits of Certification go far beyond a Certification seal and the steps you can take to start your Certification process right away. \nIn this session\, you will gain a comprehensive understanding of WBENC Certification\, including its benefits\, eligibility criteria\, the application process\, and local opportunities within your region and the larger ecosystem. \nYou’ll also have the opportunity to address your specific questions with our WBEC Metro NY and Greater DMV staff. \nReserve your spot today! \nClick here to register.\nThe Women’s Business Enterprise National Council’s (WBENC) mission is to fuel economic growth globally by identifying\, certifying\, and facilitating the development of women-owned businesses. They work to accomplish this by focusing on their CORE platform — Certification\, Opportunities\, Resources\, and Engagement.
URL:https://wbecnydmv.org/event/why-and-how-to-get-certified-18/
CATEGORIES:WBEC Metro NY and Greater DMV Events
END:VEVENT
BEGIN:VEVENT
DTSTART;TZID=America/New_York:20250708T120000
DTEND;TZID=America/New_York:20250708T130000
DTSTAMP:20260424T122712
CREATED:20250131T205231Z
LAST-MODIFIED:20250131T205231Z
UID:10001177-1751976000-1751979600@wbecnydmv.org
SUMMARY:Lunch With the Experts
DESCRIPTION:Lunch with the Experts\nTuesday\, July 8th 2025 \n12pm to 1pm EST | Virtual Session\n                 \nLooking to gain valuable insights into how corporations collaborate with women entrepreneurs? Take a break from your busy schedule and join us for the Lunch with Experts (LWE) program! This twice-a-month session is designed specifically for Women Business Enterprises (WBEs) to pause their everyday business responsibilities and focus on growth. \nDuring engaging\, one-hour interactive presentations led by corporate members and industry experts\, participants will explore strategies for success\, sharpen their business skills\, and stay ahead in their industries. These sessions also provide an excellent opportunity to expand your network—connecting not only with corporate professionals but with fellow WBEs. \nMake sure to mark your calendar and save the date!  \n      More details to come soon.  \n                         Don’t miss this empowering opportunity to learn\, grow\, and connect. \n  \n 
URL:https://wbecnydmv.org/event/lunch-with-the-experts-12/
CATEGORIES:Lunch with the Experts,WBEC Metro NY Events
END:VEVENT
BEGIN:VEVENT
DTSTART;TZID=America/New_York:20250708T130000
DTEND;TZID=America/New_York:20250708T150000
DTSTAMP:20260424T122712
CREATED:20250219T215341Z
LAST-MODIFIED:20250430T180930Z
UID:10001209-1751979600-1751986800@wbecnydmv.org
SUMMARY:Sustainability Accelerator Module 2 Workshop 1
DESCRIPTION:Sustainability Accelerator\nModule 2 — Checking Your Sustainability Compass\nWorkshop 1 – Reinforce Materiality\, Stakeholder Identification Engagement and Global Frameworks \n \n \n \n \nJuly 8th\, 2025 | 1pm to 3pm EST | Virtual \nSustainability is a business imperative for corporate partners. \nCome join WBEC Metro NY and Greater DMV and program partners\, The Fehlig Group\, for the 2024 Sustainability Accelerator\, an accessible and actionable program to help you understand the basics and application of sustainability. \nConsisting of three modules running over nine months\, it includes four interactive Sessions and six optional drop-in clinics per module to provide expert advice on the unique needs of your business as you embed sustainability into your operation. \nMODULE 2: CHECKING YOUR SUSTAINABILITY COMPASS  \nShowcase the material issues where you have the greatest impact\, engage your stakeholders and align with global frameworks. \nIdentify the foundational policies\, practices and systems to have or put in place for sustainable best practice. \nGain the knowledge to create effective policies in critical areas of ethics and transparency\, environmental stewardship and diversity\, equity and inclusion. \nLearn valuable ways of thinking and tools to effectively organize information and measure sustainable performance \nIn Module 2: Session 1\, we will reinforce the language\, tools and resources learned in Module 1 and dive deeper into how understanding stakeholders can help WBEs develop and grow their business. \nTo get the complete program experience\, it is strongly recommended that you attend all sessions of Module 2. See more information here: Sustainability Accelerator | WBEC NY & DMV (wbecnydmv.org) \nClick to register!
URL:https://wbecnydmv.org/event/sustainability-accelerator-module-2-workshop-1-2/
LOCATION:Virtual
CATEGORIES:WBEC Metro NY and Greater DMV Events
END:VEVENT
BEGIN:VEVENT
DTSTART;TZID=America/New_York:20250715T120000
DTEND;TZID=America/New_York:20250715T130000
DTSTAMP:20260424T122712
CREATED:20250408T181930Z
LAST-MODIFIED:20250709T170605Z
UID:10001232-1752580800-1752584400@wbecnydmv.org
SUMMARY:Lunch with the Experts: The CEO Mindset- Shifting from Solopreneur to Business Leader
DESCRIPTION:  \nLunch with the Experts\n \nTuesday\, July 15th\, 2025\n12:00pm–1:00pm ET \nAre you ready to step into your full potential as a business leader and leave behind the overwhelm of doing it all alone? The CEO Mindset is a transformational program designed for entrepreneurs who are ready to scale their businesses\, achieve sustainable growth\, and unlock long-term success by evolving from a solopreneur into a true strategic leader. \nThis program focuses on five pivotal mindset and leadership shifts that are essential for building a scalable\, resilient\, and thriving business: \n\nFrom Operator to Visionary – Define a compelling long-term vision and core values that will become the foundation for every decision you make. Step away from the day-to-day grind and become the driver of your business’s future.\nFrom Task-Doer to Strategic Leader – Master the art of delegation\, empower your team\, and focus on leading with intention so your energy is directed toward growth—not just upkeep.\nFrom Hustle to Scalable Systems – Establish streamlined processes\, automate repetitive tasks\, and build operational efficiency that supports consistent growth\, even when you’re not in the room.\nFrom Income-Focused to Profit-Focused – Shift your focus from short-term revenue to a financial strategy that emphasizes profitability\, sustainability\, and long-lasting success.\nFrom Lone Wolf to Leadership Culture – Learn how to attract\, build\, and nurture a high-performing team that shares your vision and drives the business forward alongside you.\n\nThis program is more than just skill-building; it’s a mindset shift that empowers you to transition from simply running your business to leading it. Through expert guidance\, actionable strategies\, and collaborative learning opportunities\, you’ll gain the tools and confidence to foster a scalable\, inclusive\, and thriving business ecosystem. \nJoin The CEO Mindset and transform how you approach leadership\, growth\, and success in your entrepreneurial journey. It’s time to trade hustle for strategy\, isolation for collaboration\, and short-term wins for sustainable growth. \nYour growth starts here. Are you ready to lead? \n \nDr. Jennifer Jones Bryant is a renowned leadership development expert\, executive coach\, and accomplished author dedicated to empowering individuals and organizations. She is the Executive Founder of Reaching From Within and Empowerment Journey LLC\, as well as President and CEO of Step Into Leadership Greatness Foundation Inc. (501(c)(3)). With over 30 years of experience\, including a distinguished 31-year federal government career rising to Executive Director and senior leadership roles at a Fortune 100 company\, Dr. Bryant is celebrated for driving organizational growth\, championing employee engagement\, and fostering transformational leadership. She is a recipient of the Presidential Lifetime Achievement Award and holds multiple advanced degrees and certifications. \nRegister Now!\n 
URL:https://wbecnydmv.org/event/lunch-with-the-experts-the-ceo-mindset-shifting-from-soloprenuer-to-business-leader/
LOCATION:Virtual
CATEGORIES:Lunch with the Experts,WBEC Greater DMV Events
END:VEVENT
BEGIN:VEVENT
DTSTART;TZID=America/New_York:20250723T080000
DTEND;TZID=America/New_York:20250723T163000
DTSTAMP:20260424T122712
CREATED:20250207T170525Z
LAST-MODIFIED:20250709T175521Z
UID:10001197-1753257600-1753288200@wbecnydmv.org
SUMMARY:WBEC Metro NY SAGE Advice Day 1
DESCRIPTION:WBEC Metro NY SAGE Advice Day 1\n \n  \nSAGE Advice is a collaborative partnership between Capital One and WBEC Greater DMV and Metro NY\, established to develop and enable small business owners to grow through customized sessions delivered by successful women business owners and Capital One associates.\nThrough six\, two-day in-person and virtual sessions held over six months\, participants will dive deep into their business\, their strategies\, and their goals. \nFor more information about this program\, please visit our website: wbecnydmv.org/programs/sage-advice
URL:https://wbecnydmv.org/event/wbec-metro-ny-sage-advice-day-1-7/
LOCATION:Virtual
CATEGORIES:WBEC Metro NY Events
END:VEVENT
BEGIN:VEVENT
DTSTART;TZID=America/New_York:20250724T080000
DTEND;TZID=America/New_York:20250724T163000
DTSTAMP:20260424T122712
CREATED:20250207T171247Z
LAST-MODIFIED:20250709T175550Z
UID:10001201-1753344000-1753374600@wbecnydmv.org
SUMMARY:WBEC Metro NY SAGE Advice Day 2
DESCRIPTION:WBEC Metro NY SAGE Advice Day 2\n \n  \nSAGE Advice is a collaborative partnership between Capital One and WBEC Greater DMV and Metro NY\, established to develop and enable small business owners to grow through customized sessions delivered by successful women business owners and Capital One associates.\nThrough six\, two-day in-person and virtual sessions held over six months\, participants will dive deep into their business\, their strategies\, and their goals. \nFor more information about this program\,\nPlease visit our website: wbecnydmv.org/programs/sage-advice
URL:https://wbecnydmv.org/event/wbec-metro-ny-sage-advice-day-2-6/
LOCATION:Virtual
CATEGORIES:WBEC Metro NY Events
END:VEVENT
BEGIN:VEVENT
DTSTART;TZID=America/New_York:20250729T130000
DTEND;TZID=America/New_York:20250729T150000
DTSTAMP:20260424T122712
CREATED:20250219T215828Z
LAST-MODIFIED:20250430T181030Z
UID:10001210-1753794000-1753801200@wbecnydmv.org
SUMMARY:Sustainability Accelerator Module 2 Workshop 2
DESCRIPTION:Sustainability Accelerator\nModule 2 — Checking Your Sustainability Compass\nWorkshop 2 – Foundation: Policies\, Practices and Systems\n \n \n \n \nJuly 29th\, 2025 | 1pm to 3pm EST | Virtual \nSustainability is a business imperative for corporate partners. \nCome join WBEC Metro NY and Greater DMV and program partners\, The Fehlig Group\, for the 2024 Sustainability Accelerator\, an accessible and actionable program to help you understand the basics and application of sustainability. \nConsisting of three modules running over nine months\, it includes four interactive Sessions and six optional drop-in clinics per module to provide expert advice on the unique needs of your business as you embed sustainability into your operation. \nMODULE 2: CHECKING YOUR SUSTAINABILITY COMPASS  \nShowcase the material issues where you have the greatest impact\, engage your stakeholders and align with global frameworks. \nIdentify the foundational policies\, practices and systems to have or put in place for sustainable best practice. \nGain the knowledge to create effective policies in critical areas of ethics and transparency\, environmental stewardship and diversity\, equity and inclusion. \nLearn valuable ways of thinking and tools to effectively organize information and measure sustainable performance. \nIn Module 2: Session 2\, you will understand the foundational policies\, practices and systems to have/put in place for sustainable best practice. \nTo get the complete program experience\, it is strongly recommended that you attend all sessions of Module 2. See more information here: Sustainability Accelerator | WBEC NY & DMV (wbecnydmv.org) \nClick to register!
URL:https://wbecnydmv.org/event/sustainability-accelerator-module-2-workshop-2-2/
LOCATION:Virtual
CATEGORIES:WBEC Metro NY and Greater DMV Events
END:VEVENT
BEGIN:VEVENT
DTSTART;TZID=America/New_York:20250731T130000
DTEND;TZID=America/New_York:20250731T140000
DTSTAMP:20260424T122712
CREATED:20250207T162232Z
LAST-MODIFIED:20250709T174341Z
UID:10001191-1753966800-1753970400@wbecnydmv.org
SUMMARY:I'm Certified\, Now What?
DESCRIPTION:Maximizing Your WBENC Certification\nJuly 31st\, 2025 | 1pm to 2pm EST | Virtual Session\n  \nWBENC Certification can be an amazing tool to help open doors and uncover business opportunities to take you from where you are to where you want to be. To fully unlock the extensive benefits of the WBENC network\, we highly encourage you to take advantage of the opportunities and resources available to you – both locally and nationally. Attend this session to learn more about the core components of our network and the steps you can take today to make the most out of your certification. Participation is recommended for all newly certified and recertified WBEs\, as well as WBEs who wants to stay up to date on what’s happening in the network. \nAfter registering\, you will receive a confirmation email containing information about joining the meeting. \nReserve your spot today!\nClick here to register.
URL:https://wbecnydmv.org/event/im-certified-now-what-2/
LOCATION:Virtual
CATEGORIES:WBEC Metro NY and Greater DMV Events
END:VEVENT
END:VCALENDAR