BEGIN:VCALENDAR
VERSION:2.0
PRODID:-//WBEC NY DMV - ECPv6.15.18//NONSGML v1.0//EN
CALSCALE:GREGORIAN
METHOD:PUBLISH
X-WR-CALNAME:WBEC NY DMV
X-ORIGINAL-URL:https://wbecnydmv.org
X-WR-CALDESC:Events for WBEC NY DMV
REFRESH-INTERVAL;VALUE=DURATION:PT1H
X-Robots-Tag:noindex
X-PUBLISHED-TTL:PT1H
BEGIN:VTIMEZONE
TZID:America/New_York
BEGIN:DAYLIGHT
TZOFFSETFROM:-0500
TZOFFSETTO:-0400
TZNAME:EDT
DTSTART:20240310T070000
END:DAYLIGHT
BEGIN:STANDARD
TZOFFSETFROM:-0400
TZOFFSETTO:-0500
TZNAME:EST
DTSTART:20241103T060000
END:STANDARD
BEGIN:DAYLIGHT
TZOFFSETFROM:-0500
TZOFFSETTO:-0400
TZNAME:EDT
DTSTART:20250309T070000
END:DAYLIGHT
BEGIN:STANDARD
TZOFFSETFROM:-0400
TZOFFSETTO:-0500
TZNAME:EST
DTSTART:20251102T060000
END:STANDARD
BEGIN:DAYLIGHT
TZOFFSETFROM:-0500
TZOFFSETTO:-0400
TZNAME:EDT
DTSTART:20260308T070000
END:DAYLIGHT
BEGIN:STANDARD
TZOFFSETFROM:-0400
TZOFFSETTO:-0500
TZNAME:EST
DTSTART:20261101T060000
END:STANDARD
END:VTIMEZONE
BEGIN:VEVENT
DTSTART;TZID=America/New_York:20250520T090000
DTEND;TZID=America/New_York:20250520T153000
DTSTAMP:20260421T055227
CREATED:20250407T220531Z
LAST-MODIFIED:20250407T220531Z
UID:10001224-1747731600-1747755000@wbecnydmv.org
SUMMARY:2025 American Water Supplier Summit
DESCRIPTION:The American Water Supplier Diversity Team invites you to join us on May 20\, 2025\, for the BI-Annual Supplier Inclusion Summit. \nJoin us for an impactful day of discussions and networking with American Water leaders\, stakeholders\, prime contractors\, and small and diverse businesses. This event will provide opportunities to engage in transparent conversations about the current and future state of Diversity and Inclusion. Hear from subject matter experts on how we all share a responsibility in ensuring that small and diverse businesses continue to positively impact the country’s economic landscape. \nAdvanced registration is required. For more information please click below. \nRegister Now!
URL:https://wbecnydmv.org/event/2025-american-water-supplier-summit/
CATEGORIES:Partner Event
END:VEVENT
END:VCALENDAR