BEGIN:VCALENDAR
VERSION:2.0
PRODID:-//WBEC NY DMV - ECPv6.15.18//NONSGML v1.0//EN
CALSCALE:GREGORIAN
METHOD:PUBLISH
X-ORIGINAL-URL:https://wbecnydmv.org
X-WR-CALDESC:Events for WBEC NY DMV
REFRESH-INTERVAL;VALUE=DURATION:PT1H
X-Robots-Tag:noindex
X-PUBLISHED-TTL:PT1H
BEGIN:VTIMEZONE
TZID:America/New_York
BEGIN:DAYLIGHT
TZOFFSETFROM:-0500
TZOFFSETTO:-0400
TZNAME:EDT
DTSTART:20230312T070000
END:DAYLIGHT
BEGIN:STANDARD
TZOFFSETFROM:-0400
TZOFFSETTO:-0500
TZNAME:EST
DTSTART:20231105T060000
END:STANDARD
BEGIN:DAYLIGHT
TZOFFSETFROM:-0500
TZOFFSETTO:-0400
TZNAME:EDT
DTSTART:20240310T070000
END:DAYLIGHT
BEGIN:STANDARD
TZOFFSETFROM:-0400
TZOFFSETTO:-0500
TZNAME:EST
DTSTART:20241103T060000
END:STANDARD
BEGIN:DAYLIGHT
TZOFFSETFROM:-0500
TZOFFSETTO:-0400
TZNAME:EDT
DTSTART:20250309T070000
END:DAYLIGHT
BEGIN:STANDARD
TZOFFSETFROM:-0400
TZOFFSETTO:-0500
TZNAME:EST
DTSTART:20251102T060000
END:STANDARD
END:VTIMEZONE
BEGIN:VEVENT
DTSTART;TZID=America/New_York:20240221T120000
DTEND;TZID=America/New_York:20240221T130000
DTSTAMP:20260422T142427
CREATED:20240212T212555Z
LAST-MODIFIED:20240212T212759Z
UID:10001033-1708516800-1708520400@wbecnydmv.org
SUMMARY:Access Capital - The Wacif Way
DESCRIPTION:Access Capital – The Wacif Way\n \nFebruary 21st\, 2024 | 12pm to 1pm EST | Virtual \n  \nThe ability to access capital can mean success or failure for a small business. \nThis virtual workshop\, hosted by and led by Wacif\, will explore the loan and line of credit options available from Wacif. With flexible underwriting practices and credit score standards not found at traditional banks\, you can find a partner and flexible lender in Wacif. \nHaving a trusted financial partner can be the difference between growing your business or closing your doors. \nJoin us to learn the criteria needed to be a successful lending client and discover how you can begin the loan application process today. \nAll are welcome to attend. \nRegister Here!\nAbout HMFI \nHMFI aims to empower individuals by promoting financial independence and stimulating economic growth in the DC area. They offer a committed partnership that helps small business owners excluded from the commercial lending system grow their businesses by providing affordable access to capital.
URL:https://wbecnydmv.org/event/access-capital-the-wacif-way/
CATEGORIES:Partner Event,WBEC Metro NY and Greater DMV Events
END:VEVENT
END:VCALENDAR