BEGIN:VCALENDAR
VERSION:2.0
PRODID:-//WBEC NY DMV - ECPv6.15.18//NONSGML v1.0//EN
CALSCALE:GREGORIAN
METHOD:PUBLISH
X-ORIGINAL-URL:https://wbecnydmv.org
X-WR-CALDESC:Events for WBEC NY DMV
REFRESH-INTERVAL;VALUE=DURATION:PT1H
X-Robots-Tag:noindex
X-PUBLISHED-TTL:PT1H
BEGIN:VTIMEZONE
TZID:America/New_York
BEGIN:DAYLIGHT
TZOFFSETFROM:-0500
TZOFFSETTO:-0400
TZNAME:EDT
DTSTART:20220313T070000
END:DAYLIGHT
BEGIN:STANDARD
TZOFFSETFROM:-0400
TZOFFSETTO:-0500
TZNAME:EST
DTSTART:20221106T060000
END:STANDARD
BEGIN:DAYLIGHT
TZOFFSETFROM:-0500
TZOFFSETTO:-0400
TZNAME:EDT
DTSTART:20230312T070000
END:DAYLIGHT
BEGIN:STANDARD
TZOFFSETFROM:-0400
TZOFFSETTO:-0500
TZNAME:EST
DTSTART:20231105T060000
END:STANDARD
BEGIN:DAYLIGHT
TZOFFSETFROM:-0500
TZOFFSETTO:-0400
TZNAME:EDT
DTSTART:20240310T070000
END:DAYLIGHT
BEGIN:STANDARD
TZOFFSETFROM:-0400
TZOFFSETTO:-0500
TZNAME:EST
DTSTART:20241103T060000
END:STANDARD
END:VTIMEZONE
BEGIN:VEVENT
DTSTART;TZID=America/New_York:20231017T090000
DTEND;TZID=America/New_York:20231018T160000
DTSTAMP:20260423T013141
CREATED:20230926T170928Z
LAST-MODIFIED:20230926T170928Z
UID:10000930-1697533200-1697644800@wbecnydmv.org
SUMMARY:The Digital Refresh: Grow Your Business and Digital Presence Through Our FREE 2-day Masterclass!
DESCRIPTION:The Digital Refresh:\nGrow Your Business and Digital Presence Through Our FREE 2-day Masterclass!\n  \n \n  \nAre you ready to take your digital brand presence to the next level and steer your business towards online success? We are thrilled to introduce our Digital Refresh Masterclass\, a FREE transformative 2-day event tailored for passionate entrepreneurs and small business owners like yourself. Join us October 17 – 18\, 2023\, to discover invaluable insights and actionable strategies to enhance your digital footprint.\nClick here for more information
URL:https://wbecnydmv.org/event/the-digital-refresh-grow-your-business-and-digital-presence-through-our-free-2-day-masterclass/
CATEGORIES:Partner Event,WBEC Greater DMV Events
END:VEVENT
END:VCALENDAR