BEGIN:VCALENDAR
VERSION:2.0
PRODID:-//WBEC NY DMV - ECPv6.15.18//NONSGML v1.0//EN
CALSCALE:GREGORIAN
METHOD:PUBLISH
X-ORIGINAL-URL:https://wbecnydmv.org
X-WR-CALDESC:Events for WBEC NY DMV
REFRESH-INTERVAL;VALUE=DURATION:PT1H
X-Robots-Tag:noindex
X-PUBLISHED-TTL:PT1H
BEGIN:VTIMEZONE
TZID:America/New_York
BEGIN:DAYLIGHT
TZOFFSETFROM:-0500
TZOFFSETTO:-0400
TZNAME:EDT
DTSTART:20240310T070000
END:DAYLIGHT
BEGIN:STANDARD
TZOFFSETFROM:-0400
TZOFFSETTO:-0500
TZNAME:EST
DTSTART:20241103T060000
END:STANDARD
BEGIN:DAYLIGHT
TZOFFSETFROM:-0500
TZOFFSETTO:-0400
TZNAME:EDT
DTSTART:20250309T070000
END:DAYLIGHT
BEGIN:STANDARD
TZOFFSETFROM:-0400
TZOFFSETTO:-0500
TZNAME:EST
DTSTART:20251102T060000
END:STANDARD
BEGIN:DAYLIGHT
TZOFFSETFROM:-0500
TZOFFSETTO:-0400
TZNAME:EDT
DTSTART:20260308T070000
END:DAYLIGHT
BEGIN:STANDARD
TZOFFSETFROM:-0400
TZOFFSETTO:-0500
TZNAME:EST
DTSTART:20261101T060000
END:STANDARD
END:VTIMEZONE
BEGIN:VEVENT
DTSTART;TZID=America/New_York:20250505T090000
DTEND;TZID=America/New_York:20250505T140000
DTSTAMP:20260421T055234
CREATED:20250320T143300Z
LAST-MODIFIED:20250430T174948Z
UID:10001221-1746435600-1746453600@wbecnydmv.org
SUMMARY:WPG 15th Anniversary Conference
DESCRIPTION:Why Attend the WPG 15th Anniversary Conference?\nThis event is more than a celebration — it’s an opportunity to connect with like-minded women entrepreneurs who understand the unique challenges of this period. \nJoin us to gain valuable resources\, hear from inspiring speakers\, and surround yourself with a community committed to lifting each other up. Together\, we’ll embrace joy\, camaraderie\, and the unwavering spirit of women in business\, proving that resilience thrives when we stand united. \nLocation:\nThe Bowie State University Student Center Wiseman Ballroom\n14000 Jericho Park Road\, Bowie\, MD 20715-9465 \nRegister Now!
URL:https://wbecnydmv.org/event/wpg-15th-anniversary-conference/
LOCATION:The Bowie State University Student Center Wiseman Ballroom\, 14000 Jericho Park Road\, Bowie\, MD\, 20715-9465
CATEGORIES:Partner Event
END:VEVENT
BEGIN:VEVENT
DTSTART;VALUE=DATE:20250513
DTEND;VALUE=DATE:20250515
DTSTAMP:20260421T055234
CREATED:20250228T165810Z
LAST-MODIFIED:20250430T174432Z
UID:10001218-1747094400-1747267199@wbecnydmv.org
SUMMARY:Virtual Mega Matchmaker
DESCRIPTION:Our Virtual Mega Matchmaker brings together WBEs and procurement professionals from our corporate and alliance partners to build connections and foster meaningful\, strategic relationships. Over two days\, utilizing an exclusive online platform\, WBEs can take advantage of valuable one-on-one meetings with buyers\, corporate representatives\, and prime contractors to ask questions and learn about unique opportunities to expand their businesses. At the same time\, procurement professionals can easily and quickly source products and services to fill gaps in their corporate supply chains. \nThis year\, WBEC Metro NY and Greater DMV is thrilled to announce WBE to WBE networking will be available at the Virtual Mega Matchmaker. \nAdd info@mybusinessmatches.com to your approved contact lists so you do not miss future updates from the platform.Log in and update your profile. Your profile information is how you will be matched to corporate buyers for conversations. \nInterested in this year’s Virtual Mega Matchmaker? Click to learn more.
URL:https://wbecnydmv.org/event/virtual-mega-matchmaker-3/
LOCATION:Virtual
CATEGORIES:Partner Event,WBEC Metro NY and Greater DMV Events
END:VEVENT
BEGIN:VEVENT
DTSTART;VALUE=DATE:20250515
DTEND;VALUE=DATE:20250517
DTSTAMP:20260421T055234
CREATED:20250410T154014Z
LAST-MODIFIED:20250410T154014Z
UID:10001234-1747267200-1747439999@wbecnydmv.org
SUMMARY:9th annual Roadmap to Billions
DESCRIPTION:Roadmap to Billions takes on The Big Apple May 15-16th\, 2025.\n\n\n\n\n\n2025 has been an absolute roller coaster already\, but there’s a space being created just for you. A space where your brilliance\, your resilience\, and your entrepreneurial spirit will not only be recognized—but celebrated and elevated. We’ve designed a new experience where your dreams\, challenges\, and triumphs will find resonance among innovators who understand your journey like no one else can. \n\n\n\n\n\n\nThis year’s 9th Annual Roadmap to Billions Conference is Invite-Only with a focus on black women entrepreneurs. Applications will be reviewed and accepted on a rolling basis.  \nWe’re bringing 8 years (!) of learnings\, networks\, connections\, insights\, failures and opportunities to an exclusive group of high growth companies. Think powerful workshop intensives with actionable takeaways led by the brightest minds in the industry\, and masterclasses with real-world operators who know what it takes to scale. \nClick here for more information!
URL:https://wbecnydmv.org/event/9th-annual-roadmap-to-billions/
CATEGORIES:Partner Event
END:VEVENT
BEGIN:VEVENT
DTSTART;TZID=America/New_York:20250520T090000
DTEND;TZID=America/New_York:20250520T153000
DTSTAMP:20260421T055234
CREATED:20250407T220531Z
LAST-MODIFIED:20250407T220531Z
UID:10001224-1747731600-1747755000@wbecnydmv.org
SUMMARY:2025 American Water Supplier Summit
DESCRIPTION:The American Water Supplier Diversity Team invites you to join us on May 20\, 2025\, for the BI-Annual Supplier Inclusion Summit. \nJoin us for an impactful day of discussions and networking with American Water leaders\, stakeholders\, prime contractors\, and small and diverse businesses. This event will provide opportunities to engage in transparent conversations about the current and future state of Diversity and Inclusion. Hear from subject matter experts on how we all share a responsibility in ensuring that small and diverse businesses continue to positively impact the country’s economic landscape. \nAdvanced registration is required. For more information please click below. \nRegister Now!
URL:https://wbecnydmv.org/event/2025-american-water-supplier-summit/
CATEGORIES:Partner Event
END:VEVENT
BEGIN:VEVENT
DTSTART;VALUE=DATE:20250521
DTEND;VALUE=DATE:20250523
DTSTAMP:20260421T055234
CREATED:20250408T143650Z
LAST-MODIFIED:20250408T144106Z
UID:10001227-1747785600-1747958399@wbecnydmv.org
SUMMARY:Women Business Collaborative’s (WBC) 3rd Annual Women's Capital Summit
DESCRIPTION:Wells Fargo is pleased to invite you to the Women Business Collaborative’s (WBC) 3rd Annual Women’s Capital Summit. \nThe WBC Women’s Capital Summit will provide valuable insights into the world of capital\, offering a deep understanding of its dynamics\, strategic relevance at different stages of a company’s growth\, and the effective utilization of capital resources. The summit will bring together women entrepreneurs and capital investors to build meaningful connections and increase funding for women-owned businesses. \nThe conference is designed for women CEOs and presidents. \nDuring the summit attendees will have the opportunity to: \nBuild meaningful connections among entrepreneurs and capital providers. \nEngage in robust dialogue on the framework of capital with other attendees. \nGain insight into what type of capital is right for businesses and when the time is right to engage in capital conversations. \nThe deadline for entrepreneurs to apply to attend the summit is Wednesday\, April 30\, 2025\, however\, registration is ongoing until full. Businesses will be notified of their application status for the summit closer to the event. Registration for investors is now open. \nClick here for more information!
URL:https://wbecnydmv.org/event/women-business-collaboratives-wbc-3rd-annual-womens-capital-summit/
CATEGORIES:Partner Event
END:VEVENT
END:VCALENDAR