BEGIN:VCALENDAR
VERSION:2.0
PRODID:-//WBEC NY DMV - ECPv6.15.18//NONSGML v1.0//EN
CALSCALE:GREGORIAN
METHOD:PUBLISH
X-WR-CALNAME:WBEC NY DMV
X-ORIGINAL-URL:https://wbecnydmv.org
X-WR-CALDESC:Events for WBEC NY DMV
REFRESH-INTERVAL;VALUE=DURATION:PT1H
X-Robots-Tag:noindex
X-PUBLISHED-TTL:PT1H
BEGIN:VTIMEZONE
TZID:America/New_York
BEGIN:DAYLIGHT
TZOFFSETFROM:-0500
TZOFFSETTO:-0400
TZNAME:EDT
DTSTART:20240310T070000
END:DAYLIGHT
BEGIN:STANDARD
TZOFFSETFROM:-0400
TZOFFSETTO:-0500
TZNAME:EST
DTSTART:20241103T060000
END:STANDARD
BEGIN:DAYLIGHT
TZOFFSETFROM:-0500
TZOFFSETTO:-0400
TZNAME:EDT
DTSTART:20250309T070000
END:DAYLIGHT
BEGIN:STANDARD
TZOFFSETFROM:-0400
TZOFFSETTO:-0500
TZNAME:EST
DTSTART:20251102T060000
END:STANDARD
BEGIN:DAYLIGHT
TZOFFSETFROM:-0500
TZOFFSETTO:-0400
TZNAME:EDT
DTSTART:20260308T070000
END:DAYLIGHT
BEGIN:STANDARD
TZOFFSETFROM:-0400
TZOFFSETTO:-0500
TZNAME:EST
DTSTART:20261101T060000
END:STANDARD
END:VTIMEZONE
BEGIN:VEVENT
DTSTART;TZID=America/New_York:20250403T093000
DTEND;TZID=America/New_York:20250403T140000
DTSTAMP:20260421T053115
CREATED:20250313T141658Z
LAST-MODIFIED:20250313T141658Z
UID:10001219-1743672600-1743688800@wbecnydmv.org
SUMMARY:Women’s Entrepreneurship Conference + Meet & Greets
DESCRIPTION:WBEC-East cordially invites all WBEs within WBEC-DMV’s region for a day of procurement networking at one of America’s oldest HBCUs. \nWomen’s Entrepreneurship Conference + Meet & Greets \nLincoln University\, PA \nApril 3\, 2025\, 9:30am – 2pm \nLearn more about the event and speakers \nBusiness owner/employee registration \nOnly $39 per person. Lunch is included. \nFeaturing Meet & Greets! \nA Meet & Greet is like speed dating between business owners and corporate/government representatives. During each 15-minute round\, you’ll get to pitch your company alongside a small group of other WBEs\, swap business cards\, and ask questions of the procurement representative. When you hear the bell\, it’s time to find a new corporate rep to meet! It’s a fast and easy way to get a bunch of those coveted introductions\, while also meeting other WBEs. \nPlease email Colleen LaCoss with any questions: clacoss@wbeceast.com \nWe hope to see you there!
URL:https://wbecnydmv.org/event/womens-entrepreneurship-conference-meet-greets/
CATEGORIES:Partner Event
END:VEVENT
BEGIN:VEVENT
DTSTART;TZID=America/New_York:20250408T173000
DTEND;TZID=America/New_York:20250408T200000
DTSTAMP:20260421T053115
CREATED:20250407T231839Z
LAST-MODIFIED:20250407T232215Z
UID:10001226-1744133400-1744142400@wbecnydmv.org
SUMMARY:Contracting Opportunities in Westchester County
DESCRIPTION:The Mount Vernon Industrial Development Agency will host an exclusive to NYS registered construction trades (i.e. electricians\, plumbers\, general contractors\, etc.) “Build Your Future: Connect for Contract Opportunities” information session located in Westchester County municipalities unlock new opportunities to participate in upcoming residential and commercial development projects in Mount Vernon. \nLicensed construction trade firms will learn to: \n\nRegister with the City of Mount Vernon for participation in upcoming development projects;\nHow to become a certified vendor with Con Edison;\nNavigate the process of obtaining Minority or Women-Owned Business Enterprise (“MWBE”) certification;\nMentorship opportunities as a small business with the MTA\n\n \nRSVP TO ATTEND
URL:https://wbecnydmv.org/event/doing-business-in-westchester/
LOCATION:El Patio Restaurant\, 159 Gramatan Avenue\, Mount Vernon\, NY\, 11550\, United States
CATEGORIES:Partner Event
END:VEVENT
BEGIN:VEVENT
DTSTART;TZID=America/New_York:20250422T160000
DTEND;TZID=America/New_York:20250422T210000
DTSTAMP:20260421T053115
CREATED:20250407T215611Z
LAST-MODIFIED:20250407T215611Z
UID:10001223-1745337600-1745355600@wbecnydmv.org
SUMMARY:AICC Gala Night
DESCRIPTION:Register Now!
URL:https://wbecnydmv.org/event/aicc-gala-night/
CATEGORIES:Partner Event
END:VEVENT
BEGIN:VEVENT
DTSTART;TZID=America/New_York:20250424T180000
DTEND;TZID=America/New_York:20250424T210000
DTSTAMP:20260421T053115
CREATED:20250407T220914Z
LAST-MODIFIED:20250407T220914Z
UID:10001225-1745517600-1745528400@wbecnydmv.org
SUMMARY:The Washington Mystics present: Wine & Basketball
DESCRIPTION:Register Now!
URL:https://wbecnydmv.org/event/the-washington-mystics-present-wine-basketball/
CATEGORIES:Partner Event
END:VEVENT
BEGIN:VEVENT
DTSTART;TZID=America/New_York:20250426T103000
DTEND;TZID=America/New_York:20250426T120000
DTSTAMP:20260421T053115
CREATED:20250410T153309Z
LAST-MODIFIED:20250410T153309Z
UID:10001233-1745663400-1745668800@wbecnydmv.org
SUMMARY:How To Create A Scroll-Stopping Presence on LinkedIn
DESCRIPTION:Click here for more information!
URL:https://wbecnydmv.org/event/how-to-create-a-scroll-stopping-presence-on-linkedin/
CATEGORIES:Partner Event
END:VEVENT
END:VCALENDAR