BEGIN:VCALENDAR
VERSION:2.0
PRODID:-//WBEC NY DMV - ECPv6.15.18//NONSGML v1.0//EN
CALSCALE:GREGORIAN
METHOD:PUBLISH
X-ORIGINAL-URL:https://wbecnydmv.org
X-WR-CALDESC:Events for WBEC NY DMV
REFRESH-INTERVAL;VALUE=DURATION:PT1H
X-Robots-Tag:noindex
X-PUBLISHED-TTL:PT1H
BEGIN:VTIMEZONE
TZID:America/New_York
BEGIN:DAYLIGHT
TZOFFSETFROM:-0500
TZOFFSETTO:-0400
TZNAME:EDT
DTSTART:20230312T070000
END:DAYLIGHT
BEGIN:STANDARD
TZOFFSETFROM:-0400
TZOFFSETTO:-0500
TZNAME:EST
DTSTART:20231105T060000
END:STANDARD
BEGIN:DAYLIGHT
TZOFFSETFROM:-0500
TZOFFSETTO:-0400
TZNAME:EDT
DTSTART:20240310T070000
END:DAYLIGHT
BEGIN:STANDARD
TZOFFSETFROM:-0400
TZOFFSETTO:-0500
TZNAME:EST
DTSTART:20241103T060000
END:STANDARD
BEGIN:DAYLIGHT
TZOFFSETFROM:-0500
TZOFFSETTO:-0400
TZNAME:EDT
DTSTART:20250309T070000
END:DAYLIGHT
BEGIN:STANDARD
TZOFFSETFROM:-0400
TZOFFSETTO:-0500
TZNAME:EST
DTSTART:20251102T060000
END:STANDARD
END:VTIMEZONE
BEGIN:VEVENT
DTSTART;TZID=America/New_York:20240910T100000
DTEND;TZID=America/New_York:20240910T140000
DTSTAMP:20260421T184830
CREATED:20240514T142704Z
LAST-MODIFIED:20250430T180141Z
UID:10001077-1725962400-1725976800@wbecnydmv.org
SUMMARY:Convergence 2024: A Supplier Diversity Expo & Job Fair
DESCRIPTION:
URL:https://wbecnydmv.org/event/convergence-2024-a-supplier-diversity-expo-job-fair/
LOCATION:Greater Richmond Convention Center\, 403 N 3rd St\, Richmond\, VA\, 23219
CATEGORIES:Partner Event
END:VEVENT
BEGIN:VEVENT
DTSTART;TZID=America/New_York:20240912T080000
DTEND;TZID=America/New_York:20240912T160000
DTSTAMP:20260421T184830
CREATED:20240807T165142Z
LAST-MODIFIED:20240807T165142Z
UID:10001108-1726128000-1726156800@wbecnydmv.org
SUMMARY:Veteran Business Summit
DESCRIPTION:Veteran Business Summit\n \nVeteran Business Summit 9/12/2024 from 8AM – 4PM \n\nOnly a few tickets remain. Tickets have been selling very quickly for this event\, so sign up today. This is going to be an amazing event that will help you navigate the world of Federal\, State\, and County Government procurement\, as well as procurement in the private sector.\nOur general session will be jam packed with information and we will do deep dives in our amazing breakout sessions. In our general session\, you will hear from experts on:\n* Federal Procurement\n* County Contracting Opportunities\n* Private Sector Business Opportunities\n* A resource panel that will discuss needed resources available to veteran owned businesses and small businesses\n* You will hear from Veteran business owners who have been awarded multi-million dollar contracts and how they were able to break through\n* You will see the state’s latest spends with DVOBs\, and hear about new opportunities coming down the pike.\nWe will also have several different tracks of breakout sessions that will help you to learn about new & upcoming opportunities and will also help you to become the best possible entrepreneurs that you can. \nAdditionally\, we are putting together a capability book for the event\, so please make sure you send in your capability statement to info@njveteranschamber.com. The deadline is Friday\, August 30th\, so be sure to be included. If you want to see what a good capability statement looks like\, please check out last year’s capability book at https://njveteranschamber.com/links-resources/\nClick on the 2023 Veteran Capability Book. \n\nThere will also be supplier diversity and procurement tables set up so you can speak one on one with various companies about upcoming contracts and potential opportunities.\nSign up today and don’t miss this great event! \n\nYou can register and get your tickets here: https://app.asforms.net/api/as/jPAlg \n 
URL:https://wbecnydmv.org/event/veteran-business-summit/
CATEGORIES:Partner Event
END:VEVENT
BEGIN:VEVENT
DTSTART;TZID=America/New_York:20240912T100000
DTEND;TZID=America/New_York:20240912T100000
DTSTAMP:20260421T184830
CREATED:20240906T152632Z
LAST-MODIFIED:20240906T152632Z
UID:10001126-1726135200-1726135200@wbecnydmv.org
SUMMARY:Citi + Accenture: Collaborate for SUPPLIER DEVELOPMENT
DESCRIPTION:Citi + Accenture: Collaborate for SUPPLIER DEVELOPMENT\n \nClick to register!
URL:https://wbecnydmv.org/event/citi-accenture-collaborate-for-supplier-development/
CATEGORIES:Partner Event
END:VEVENT
BEGIN:VEVENT
DTSTART;TZID=America/New_York:20240918T080000
DTEND;TZID=America/New_York:20240919T170000
DTSTAMP:20260421T184830
CREATED:20240606T165643Z
LAST-MODIFIED:20240606T165849Z
UID:10001094-1726646400-1726765200@wbecnydmv.org
SUMMARY:Capital One Supplier Diversity Summit
DESCRIPTION:Capital One Supplier Diversity Summit\n \nWe are very excited to announce that registration is open for the Capital One 2024 Supplier Diversity Summit. \n2024 Agenda at a Glance\nSeptember 18: \nSupplier Diversity Expo \nSeptember 19: \nMidmorning Kickoff with Opening Remarks and State of Supplier Diversity with Capital One Leaders \nKeynote by Lindsay Hansen\, MVP Brand\, Capital One \nAI Panel Discussion led by Sandra Eberhard\, President & CEO\, WBEC Metro NY & Greater DMV \n— Lunch — \nCategory Strategy Sessions \nPanel Discussion on the Growth Journey of Diverse Owned Businesses in Today’s Environment \nAwards and Networking Reception \nClick here for more information!
URL:https://wbecnydmv.org/event/capital-one-supplier-diversity-summit/
CATEGORIES:Partner Event
END:VEVENT
BEGIN:VEVENT
DTSTART;TZID=America/New_York:20240924T083000
DTEND;TZID=America/New_York:20240924T160000
DTSTAMP:20260421T184830
CREATED:20240916T200148Z
LAST-MODIFIED:20240924T163831Z
UID:10001129-1727166600-1727193600@wbecnydmv.org
SUMMARY:50 States Initiative Small Business Summit
DESCRIPTION:
URL:https://wbecnydmv.org/event/50-states-initiative-small-business-summit/
CATEGORIES:Partner Event
END:VEVENT
BEGIN:VEVENT
DTSTART;TZID=America/New_York:20240926T090000
DTEND;TZID=America/New_York:20240926T110000
DTSTAMP:20260421T184830
CREATED:20240830T143004Z
LAST-MODIFIED:20240924T161107Z
UID:10001124-1727341200-1727348400@wbecnydmv.org
SUMMARY:AICC Workforce Strategies
DESCRIPTION:Get ready for “AICC Workforce Strategies” on September 26th! This event is your opportunity to hear from Kelly Caldiero\, Human Resource Manager at Croda\, who will be sharing strategies for building strong talent pipelines and improving employee retention. Join us to explore the latest trends\, discover new business opportunities\, and connect with top professionals from organizations such like DOL\, AgileOne\, The Chemours Company\, University of Maryland\, Baltimore\, Horizon Blue Cross Blue Shield of New Jersey\, and more! \nClick to register!
URL:https://wbecnydmv.org/event/aicc-workforce-strategies/
CATEGORIES:Partner Event
END:VEVENT
BEGIN:VEVENT
DTSTART;TZID=America/New_York:20240926T113000
DTEND;TZID=America/New_York:20240926T160000
DTSTAMP:20260421T184830
CREATED:20240712T152736Z
LAST-MODIFIED:20240924T192236Z
UID:10001106-1727350200-1727366400@wbecnydmv.org
SUMMARY:Federal Reserve Southeastern Regional Supplier Diversity Summit
DESCRIPTION:Date: September 26\, 2024 \nLocation: 530 E. Trade St. Charlotte\, NC 28202 (Charlotte Branch of the Federal Reserve Bank of Richmond) \nTime: 11:30 a.m.–4 p.m. (ET) \nPlease join us Thursday\, September 26\, from 11:30 a.m. to 4 p.m. (ET) for the 2024 Federal Reserve Southeastern Regional Supplier Diversity Summit. The theme for this year’s summit is Engage | Connect | Learn. This in-person event will allow diverse businesses to engage and network with executive leaders\, procurement specialists\, and business line leaders from both the Richmond and Atlanta Feds. \nSessions:\nSupplier Diversity Fireside Chat: Engage | Connect | Learn \n• Panelist: Meredith Leffler\, Assistant Vice President\, Financial Planning and Strategic\nSourcing\, Richmond Fed\n• Panelist: Patrick Dierberger\, Vice President Procurement and Supplier\nDiversity\, Atlanta Fed\n• Panelist: Lloyd Richardson\, Supplier Diversity Manager\, Atlanta Fed\n• Panelist: David LeFebvre\, Supplier Diversity Manager\, Richmond Fed \nEngaging with the Bank’s Business Lines \n• Moderator: Jeff Conley\, Sr Business Advisor\, National Procurement Office\n• Panelist: Lonnie Dafney\, Sr. Vice President FRFS Diversity\, Equity and Inclusion\,\nChicago Fed\n• Panelist: James Ricks\, Sr. Manager\, National Procurement Office \n  \nSupplier Diversity and Procurement Roundtables \n• Facilities and Operations\n• Information Technology\n• Human Resources Training and Services\n• National Procurement Office \nNetworking and Educational Sessions \nThis session provides an opportunity for all summit attendees to network and hold one-on-one conversations before the summit adjourns. Attendees can also attend the following sessions to learn more about the Board of Governors and the Federal Reserve’s National Procurement Office. \nWho Should Attend \n• Diverse Businesses\n• Minority Business Enterprise\n• Women Business Enterprise\n• Veteran Business Enterprise\n• LGBT Business Enterprise\n• Disabled Business Enterprise\n• Small Businesses \nPlease register by Friday\, September 13\, 2024 \nClick to register!\n  \n  \n 
URL:https://wbecnydmv.org/event/federal-reserve-southeastern-regional-supplier-diversity-summit-2/
CATEGORIES:Partner Event
END:VEVENT
BEGIN:VEVENT
DTSTART;TZID=America/New_York:20240930T093000
DTEND;TZID=America/New_York:20240930T150000
DTSTAMP:20260421T184830
CREATED:20240910T193516Z
LAST-MODIFIED:20240911T161551Z
UID:10001127-1727688600-1727708400@wbecnydmv.org
SUMMARY:Supplier Diversity Summit hosted by Johnson & Johnson
DESCRIPTION:Supplier Diversity Summit hosted by Johnson & Johnson\n             \n \nThe New Jersey Diverse Business Advisory Council (NJDBAC) and the New Jersey Pride Chamber of Commerce (NJPCC) is partnering with Johnson & Johnson is hosting a Supplier Diversity Summit. \nThe Supplier Diversity Summit aims to bring together diverse businesses and corporations in New Jersey to foster networking opportunities\, share best practices\, and promote supplier diversity. This event is open to all diverse business owners\, corporate diversity and inclusion professionals\, procurement officers\, and anyone interested in learning more about the importance of supplier diversity. \nNJPCC and NJDBAC Supplier Diversity Summit \nDate: Monday September 30\, 2024 \nTime: 9:30am – 3:00pm \nLocation: Johnson & Johnson Offices\, Raritan\, NJ \nClick to register!
URL:https://wbecnydmv.org/event/supplier-diversity-summit-hosted-by-johnson-johnson/
CATEGORIES:Partner Event
END:VEVENT
END:VCALENDAR