BEGIN:VCALENDAR
VERSION:2.0
PRODID:-//WBEC NY DMV - ECPv6.15.18//NONSGML v1.0//EN
CALSCALE:GREGORIAN
METHOD:PUBLISH
X-WR-CALNAME:WBEC NY DMV
X-ORIGINAL-URL:https://wbecnydmv.org
X-WR-CALDESC:Events for WBEC NY DMV
REFRESH-INTERVAL;VALUE=DURATION:PT1H
X-Robots-Tag:noindex
X-PUBLISHED-TTL:PT1H
BEGIN:VTIMEZONE
TZID:America/New_York
BEGIN:DAYLIGHT
TZOFFSETFROM:-0500
TZOFFSETTO:-0400
TZNAME:EDT
DTSTART:20230312T070000
END:DAYLIGHT
BEGIN:STANDARD
TZOFFSETFROM:-0400
TZOFFSETTO:-0500
TZNAME:EST
DTSTART:20231105T060000
END:STANDARD
BEGIN:DAYLIGHT
TZOFFSETFROM:-0500
TZOFFSETTO:-0400
TZNAME:EDT
DTSTART:20240310T070000
END:DAYLIGHT
BEGIN:STANDARD
TZOFFSETFROM:-0400
TZOFFSETTO:-0500
TZNAME:EST
DTSTART:20241103T060000
END:STANDARD
BEGIN:DAYLIGHT
TZOFFSETFROM:-0500
TZOFFSETTO:-0400
TZNAME:EDT
DTSTART:20250309T070000
END:DAYLIGHT
BEGIN:STANDARD
TZOFFSETFROM:-0400
TZOFFSETTO:-0500
TZNAME:EST
DTSTART:20251102T060000
END:STANDARD
END:VTIMEZONE
BEGIN:VEVENT
DTSTART;TZID=America/New_York:20240306T150000
DTEND;TZID=America/New_York:20240306T160000
DTSTAMP:20260422T100520
CREATED:20240122T175740Z
LAST-MODIFIED:20240229T203226Z
UID:10000977-1709737200-1709740800@wbecnydmv.org
SUMMARY:2024 WBENC National Conference VIRTUAL Orientation | WBEs
DESCRIPTION:2024 WBENC National Conference VIRTUAL Orientation | WBEs\n \nBe in the know before you go to the 2024 WBENC National Conference by attending one of a number of our upcoming informative National Conference orientations.\nBy attending one of our WBENC National Conference VIRTUAL Orientations\, you can ensure you are in the know about everything happening in Denver! We have tailored these sessions to our WBEs and Corporate Members. There are multiple opportunities to attend for both WBEs and Corporate Members.\nThis session is best for our amazing WBEs and anyone from your businesses that are attending the Conference or helping you to prepare! \n  \n\nWhen: Mar 6\, 2024 03:00 PM Eastern Time (US and Canada)\nRegister in advance for this webinar:\nhttps://us06web.zoom.us/webinar/register/WN_RWzP-xySQtmbzRS2nevh1g
URL:https://wbecnydmv.org/event/2024-wbenc-national-conference-virtual-orientation-wbes-3/
CATEGORIES:Partner Event,WBEC Metro NY and Greater DMV Events
END:VEVENT
BEGIN:VEVENT
DTSTART;TZID=America/New_York:20240312T083000
DTEND;TZID=America/New_York:20240312T113000
DTSTAMP:20260422T100520
CREATED:20240220T204426Z
LAST-MODIFIED:20240220T213915Z
UID:10001039-1710232200-1710243000@wbecnydmv.org
SUMMARY:NJEDA: Show Me The Resources
DESCRIPTION:  \nNJEDA: Show Me The Resources\n \n  \nThe New Jersey Economic Development Authority (NJEDA) will host an in-person resource fair for business owners to learn about NJEDA programs and products on Tuesday\, March 12th from 8:30 am- 11:30 am at the Conference Center at Mercer County Community College\, 1200 Old Trenton Rd\, West Windsor Township\, NJ 08550. \nFeatured NJEDA programs and products include small business programs\, information on ways for businesses to engage in the state’s growing film industry\, clean energy opportunities\, and more. The New Jersey Small Business Development Center (NJSBDC) among others will also share resources that are available to business owners. \n Click here for more information.
URL:https://wbecnydmv.org/event/njeda-show-me-the-resources/
CATEGORIES:Partner Event
END:VEVENT
BEGIN:VEVENT
DTSTART;TZID=America/New_York:20240312T100000
DTEND;TZID=America/New_York:20240312T153000
DTSTAMP:20260422T100520
CREATED:20240213T155021Z
LAST-MODIFIED:20240213T164811Z
UID:10001037-1710237600-1710257400@wbecnydmv.org
SUMMARY:4th ANNUAL WOMEN’S SMALL BUSINESS TRANSPORTATION SUMMIT
DESCRIPTION:4th ANNUAL WOMEN’S SMALL BUSINESS TRANSPORTATION SUMMIT\n \n  \nThe US Department of Transportation’s Office of Small and Disadvantaged Business Utilization (OSDBU) would like to invite you to participate in the 4th ANNUAL WOMEN’S SMALL BUSINESS TRANSPORTATION SUMMIT. \nIn observance of Women’s History Month\, we invite you to join a virtual Woman-Owned Small Business and Matchmaking event on Tuesday\, March 12\, 2024\, from 10:00 AM until 3:30 PM. \nThe purpose of this virtual event is to celebrate women entrepreneurs and provide an opportunity for them to learn about technical assistance resources\, capacity building\, access to capital\, and upcoming DOT initiatives\, including Bipartisan Infrastructure Law (BIL) opportunities. Attendees will learn more about how to contract with the Department of Transportation and how we plan to increase WOSB utilization. We are expecting over 300 small businesses\, prime contractors\, and transportation stakeholders in attendance. \nThe first half of the day will include three panel sessions and the second half event will be dedicated to one-on-one business matchmaking via our Connections MarketPlace (CMP). \nClick here to register!
URL:https://wbecnydmv.org/event/4th-annual-womens-small-business-transportation-summit/
CATEGORIES:Partner Event
END:VEVENT
BEGIN:VEVENT
DTSTART;TZID=America/New_York:20240318T090000
DTEND;TZID=America/New_York:20240318T110000
DTSTAMP:20260422T100520
CREATED:20240313T154536Z
LAST-MODIFIED:20240313T154852Z
UID:10001052-1710752400-1710759600@wbecnydmv.org
SUMMARY:Adequate Proposals - DCAA
DESCRIPTION:Adequate Proposals – DCAA\n \nDate: 3/18/2024\nTime: 9:00 AM – 11:00 AM (EDT)\nRegistration Deadline: 3/18/2024 8:00 AM (EDT)\nFee: No Fee\nPoint of Contact: Dylen Somwar \nTraining Topics: Defense Industrial Base (DIB) Readiness \n\nThe presentation will provide an overview of how proposal adequacy is determined through discussions on FAR Part 15\, Table 15-2 and DFARs 252.215-7009. The presentation will discuss proposal adequacy requirements for cost elements such as Direct Labor\, Material\, Subcontracts\, Other Direct Costs (ODCs)\, and Indirect Rates. Finally\, participants will learn about historical data considerations\, FAR Part 31 Unallowable Costs\, common proposal deficiencies\, and regulatory resources to assist with proposal development.\n\n\nClick to register!\n  \n  \n 
URL:https://wbecnydmv.org/event/adequate-proposals-dcaa/
CATEGORIES:Partner Event
END:VEVENT
BEGIN:VEVENT
DTSTART;TZID=America/New_York:20240319T073000
DTEND;TZID=America/New_York:20240319T093000
DTSTAMP:20260422T100520
CREATED:20240311T151528Z
LAST-MODIFIED:20240311T151757Z
UID:10001049-1710833400-1710840600@wbecnydmv.org
SUMMARY:2024 FSRSD Breakfast with a Purpose at WBENC: AMPLIFY Through AI
DESCRIPTION:2024 FSRSD Breakfast with a Purpose at WBENC: AMPLIFY Through AI\n \n  \nTuesday\, March 19 · 7:30 – 9:30am MDT\nGaylord Rockies Resort & Convention Center\n6700 North Gaylord Rockies Boulevard Summit 8 & 9 Aurora\, CO 80019\nEach year\, FSRSD brings together corporate members representing many of the most forward-thinking financial institutions and WBEs from across the country to meet and build deeper relationships. Join us for AMPLIFY Through AI – from streamlining processes to enhancing customer experiences\, Artificial Intelligence offers endless possibilities for corporations in the financial services industry to innovate and thrive. We’ll dive into the opportunities and challenges that come with an AI-enabled landscape. We’ll also learn what strategies and skills WBEs will need to succeed in this dynamic environment. \nOur panel discussion will be moderated by Ebony Smith\, CEO of certified WBE Ebenum Equation. \nThe panelists for our AMPLIFY Through AI discussion are: \n\nEric Thorlacius\, Head of Single-Family Model Management\, Fannie Mae\nTatyana Kibrik\, Chief Technology Officer\, Investment Management\, Voya Financial\, Inc.\nGus Ortega\, Senior Vice President\, Operational Risk Management\, Voya Financial\, Inc.\n\nWe’ll also have time for breakfast and networking. \n7:30 am Check-in/Breakfast/Networking \n7:50 am Welcome Remarks \n8:00 am Panel Introduction & Discussion \n8:45 am Q&A/Thank You \n9:00 am Adjourn & More Networking \n  \nClick here for more information. \n 
URL:https://wbecnydmv.org/event/2024-fsrsd-breakfast-with-a-purpose-at-wbenc-amplify-through-ai/
CATEGORIES:Partner Event
END:VEVENT
BEGIN:VEVENT
DTSTART;TZID=America/New_York:20240320T103000
DTEND;TZID=America/New_York:20240320T120000
DTSTAMP:20260422T100520
CREATED:20240313T155416Z
LAST-MODIFIED:20240313T155548Z
UID:10001053-1710930600-1710936000@wbecnydmv.org
SUMMARY:Discover How to Get DoD Contracting Ready
DESCRIPTION:Discover How to Get DoD Contracting Ready\n \n\n\n\nDate: 3/20/2024\nTime: 10:30 AM – 12:00 PM (EDT)\nRegistration Deadline: 3/20/2024 8:00 AM (EDT)\nFee: No Fee\nPoint of Contact: Dylen Somwar \nTraining Topics: Defense Industrial Base (DIB) Readiness\, Defense Production Act (DPA) Title III Support \n\nAre you interested in expanding your business to work with the DoD? Look no further! Join us for an exclusive virtual webinar where we will guide you through the essential requirements to do business with the Department of Defense (DoD). During this informative session\, you will learn about: Registration Federal Certifications Capability Statement Competitive Marketing Strategy Cyber Security Requirements Self-check for contractor responsibility DPA Title iii overview\n\nClick to register!\n 
URL:https://wbecnydmv.org/event/discover-how-to-get-dod-contracting-ready/
CATEGORIES:Partner Event
END:VEVENT
BEGIN:VEVENT
DTSTART;TZID=America/New_York:20240327T140000
DTEND;TZID=America/New_York:20240327T140000
DTSTAMP:20260422T100520
CREATED:20240313T160229Z
LAST-MODIFIED:20240313T160229Z
UID:10001054-1711548000-1711548000@wbecnydmv.org
SUMMARY:WIPP New Member Orientation
DESCRIPTION:WIPP New Member Orientation\n \nWednesday\, March 27th\, 2024 \nat 2pm ET | 1pm CT | 11am PT \nPlease join us for WIPP’s Member Orientation\, where we provide an onboarding opportunity for new members and an organizational refresher for existing members. Our webinar will cover the following topics: \n– Overview of WIPP’s Mission\, Vision\, and ACE Principle \n– How to navigate WIPP’s website and your membership profile \n– How to engage with WIPP\, including our educational programming\, how to get involved\, and the path to leadership \n– Q&A session \nMembers are encouraged to attend the monthly call as often as they would like. New members are strongly encouraged to participate within their first 30 days of membership. \n  \nClick to register!\n  \n  \n 
URL:https://wbecnydmv.org/event/wipp-new-member-orientation/
CATEGORIES:Partner Event
END:VEVENT
BEGIN:VEVENT
DTSTART;TZID=America/New_York:20240328T140000
DTEND;TZID=America/New_York:20240328T140000
DTSTAMP:20260422T100520
CREATED:20240313T161003Z
LAST-MODIFIED:20240313T161003Z
UID:10001055-1711634400-1711634400@wbecnydmv.org
SUMMARY:ChallengeHER - What the FAR Has to Say About Prompt Payments
DESCRIPTION:ChallengeHER – What the FAR Has to Say About Prompt Payments\n \nThursday\, March 28th\, 2024 \n2:00pm ET | 1:00pm CT | 11:00am PT \nPrompt payments are a critical aspect of federal contracting and can greatly benefit women business owners. Join us for this ChallengeHER panel discussion regarding what the Federal Acquisition Regulation (FAR) has to say about prompt payments\, how it can impact cash flow\, and why it is important to understand the terms of your prime and subcontracts. \nDuring the webinar\, attendees will learn about the specific FAR clauses related to prompt payments\, the rights and responsibilities of contractors\, and practical tips for navigating these requirements.  This webinar is a must-attend for women business owners looking to enhance their understanding of federal contracting regulations and improve their success in government contracting. \nClick to register!\n 
URL:https://wbecnydmv.org/event/challengeher-what-the-far-has-to-say-about-prompt-payments/
CATEGORIES:Partner Event
END:VEVENT
BEGIN:VEVENT
DTSTART;TZID=America/New_York:20240329T130000
DTEND;TZID=America/New_York:20240329T180000
DTSTAMP:20260422T100520
CREATED:20240307T154020Z
LAST-MODIFIED:20240307T154020Z
UID:10001047-1711717200-1711735200@wbecnydmv.org
SUMMARY:Wacif Day
DESCRIPTION:Wacif Day\n \nMarch 29th\, 2024 | 1pm to 6pm EST | In-Person \nAnacostia Arts Center\, 1231 Marion Barry Avenue South East Washington\, DC 20020\n  \nThis dynamic Open House event invites you to explore the heart of our mission — empowering the DMV’s entrepreneurs to thrive and succeed… Plus\, seize the opportunity to meet with our lending team and pre-qualify for loans on the spot! \nDon’t miss the chance to amplify your business’s impact. \nRSVP now and fill out our pre-qualification application to guarantee your meeting with a lending agent and take a leap toward unlocking the full potential of your business! \nWhat to Expect: \n\nOne-on-one consultations with a lending agent to determine your eligibility for loans.\nEngaging Workshops: Dive into interactive sessions on entrepreneurship\, financial literacy\, and more!\nInspiring Panel Discussions: Hear from successful entrepreneurs and community leaders!\nCo-Working Space Tours: Explore our collaborative hub fostering creativity and productivity!\nNetworking Opportunities: Connect with like-minded individuals and expand your professional circle.\nResource Fair: Explore a diverse array of services and partnerships supporting entrepreneurs!\n\nWhy Attend? \n\nSpeak to a lending agent and get pre-qualified for a Wacif loan.\nGain insights into Wacif and the impactful services we offer to entrepreneurs.\nConnect with local businesses\, residents\, and organizations.\nCelebrate diversity and success at the Women of Color Center spotlight.\nPartners highlight!\n\n  \nClick here for more information!
URL:https://wbecnydmv.org/event/wacif-day/
CATEGORIES:Partner Event
END:VEVENT
BEGIN:VEVENT
DTSTART;TZID=America/New_York:20240329T183000
DTEND;TZID=America/New_York:20240329T193000
DTSTAMP:20260422T100520
CREATED:20240307T155434Z
LAST-MODIFIED:20240307T155434Z
UID:10001048-1711737000-1711740600@wbecnydmv.org
SUMMARY:Book Launch Event in Celebration of Women's History Month
DESCRIPTION:Book Launch Event in Celebration of Women’s History Month\n \nMarch 29th\, 2024 | 6:30pm to 7:30pm EST | Hybrid \nEast City Bookshop\, 645 Pennsylvania Avenue Southeast ##100 Washington\, DC 20003\n  \nEast City Bookshop in partnership with the Women’s Business Enterprise National Council (WBENC) and WBEC Greater DMV welcomes Denny S. Bryce to discuss her new novel\, Can’t We Be Friends: A Novel of Ella Fitzgerald and Marilyn Monroe\, in conversation with Victoria Christopher Murray.\nABOUT CAN’T WE BE FRIENDS \nAward-winning author Denny S. Bryce and USA Today bestselling author Eliza Knight collaborate on a brilliant novel that uncovers the boundary-breaking\, genuine friendship between Ella Fitzgerald\, the Queen of Jazz\, and iconic movie star Marilyn Monroe. \nOne woman was recognized as the premiere singer of her era with perfect pitch and tireless ambition. \nOne woman was the most glamorous star in Hollywood\, a sex symbol who took the world by storm. \nAnd their friendship was fast and firm… \n1952: Ella Fitzgerald is a renowned jazz singer whose only roadblock to longevity is society’s attitude toward women and race. Marilyn Monroe’s star is rising despite ongoing battles with movie studio bigwigs and boyfriends. When she needs help with her singing\, she wants only the best—and the best is the brilliant Ella Fitzgerald. But Ella isn’t a singing teacher and declines—then the two women meet\, and to everyone’s surprise but their own\, they become fast friends. \nOn the surface\, what could they have in common? Yet each was underestimated by the men in their lives—husbands\, managers\, hangers-on. And both were determined to gain. Each fought for professional independence and personal agency in a time when women were expected to surrender control to those same men. \nThis novel reveals and celebrates their surprising bond over a decade and serves as a poignant reminder of how true friendship can cross differences to bolster and sustain us through haunting heartbreak and wild success. \nDENNY S. BRYCE is an award-winning and bestselling author of historical fiction\, including Wild Women and the Blues. She is also an adjunct professor in the MFA program at Drexel University\, a book critic for NPR\, and a member of the Historical Novel Society\, Women’s Fiction Writers Association\, and Tall Poppy Writers. Currently\, she resides in Savannah\, Georgia. \nVICTORIA CHRISTOPHER MURRAY is an acclaimed author with more than one million books in print. She has written more than twenty novels\, including Stand Your Ground\, an NAACP Image Award Winner for Outstanding Fiction and a Library Journal Best Book of the Year. She holds an MBA from the NYU Stern School of Business. \n  \nClick here for more information!
URL:https://wbecnydmv.org/event/book-launch-event-in-celebration-of-womens-history-month/
CATEGORIES:Partner Event,WBEC Greater DMV Events
END:VEVENT
END:VCALENDAR