BEGIN:VCALENDAR
VERSION:2.0
PRODID:-//WBEC NY DMV - ECPv6.15.18//NONSGML v1.0//EN
CALSCALE:GREGORIAN
METHOD:PUBLISH
X-ORIGINAL-URL:https://wbecnydmv.org
X-WR-CALDESC:Events for WBEC NY DMV
REFRESH-INTERVAL;VALUE=DURATION:PT1H
X-Robots-Tag:noindex
X-PUBLISHED-TTL:PT1H
BEGIN:VTIMEZONE
TZID:America/New_York
BEGIN:DAYLIGHT
TZOFFSETFROM:-0500
TZOFFSETTO:-0400
TZNAME:EDT
DTSTART:20220313T070000
END:DAYLIGHT
BEGIN:STANDARD
TZOFFSETFROM:-0400
TZOFFSETTO:-0500
TZNAME:EST
DTSTART:20221106T060000
END:STANDARD
BEGIN:DAYLIGHT
TZOFFSETFROM:-0500
TZOFFSETTO:-0400
TZNAME:EDT
DTSTART:20230312T070000
END:DAYLIGHT
BEGIN:STANDARD
TZOFFSETFROM:-0400
TZOFFSETTO:-0500
TZNAME:EST
DTSTART:20231105T060000
END:STANDARD
BEGIN:DAYLIGHT
TZOFFSETFROM:-0500
TZOFFSETTO:-0400
TZNAME:EDT
DTSTART:20240310T070000
END:DAYLIGHT
BEGIN:STANDARD
TZOFFSETFROM:-0400
TZOFFSETTO:-0500
TZNAME:EST
DTSTART:20241103T060000
END:STANDARD
END:VTIMEZONE
BEGIN:VEVENT
DTSTART;TZID=America/New_York:20230606T120000
DTEND;TZID=America/New_York:20230606T120000
DTSTAMP:20260420T130510
CREATED:20230525T192026Z
LAST-MODIFIED:20230525T192140Z
UID:10000894-1686052800-1686052800@wbecnydmv.org
SUMMARY:Lunch With the Experts: The 3 A's of Onboarding
DESCRIPTION:Lunch with the Experts: The 3 A’s of Onboarding\nTuesday\, June 6\, 2023\n12:00pm ET\nA specially crafted employee onboarding program can increase employee retention by 82%! Tune in to our webinar to learn the three A’s of employee onboarding. Khristie Andrus\, VP and Co-founder of JustinBradley\, will share a comprehensive onboarding program that you won’t want to miss. A 20-year professional recruiter and business owner\, Khristie has developed and guided new employee onboarding strategies both internally at JustinBradley and for her clients\, whether they’re working remotely or in-office. This is insight that you will want to take back for your next hire! \nRegister in advance for this meeting: \nhttps://us02web.zoom.us/meeting/register/tZAucuGgqTMuGdZLvb-BeIPHcrIZJ1XoX1Mq \nPresenter Info\nKhristie Andrus\, VP and Co-founder of JustinBradley\nCo-Founder of JustinBradley\, Khristie Andrus is an Executive Financial Recruiter and trusted Career Advisor. 20 years ago\, she established JustinBradley’s financial search practices in law\, hospitality\, real estate\, and construction\, and is trained in Diversity and Inclusion practices and employment law. She speaks on topics related to hiring best practices and onboarding to personal branding and career development. \nKhristie advocates strongly for ethics and professionalism in the staffing industry and served as President of the Capital Area Staffing Association until 2015. In the accounting and finance community\, she has been on the selection committee for several prestigious CFO awards\, including Washington Business Journal’s CFO of the Year. Khristie is committed to fundraising efforts for DC area charitable organizations\, including American Heart Association’s Lawyers Have Heart. She is also a contributing member of the American Payroll Association and CREW (Construction and Real Estate Women).
URL:https://wbecnydmv.org/event/lunch-with-the-experts-the-3-as-of-onboarding/
CATEGORIES:Lunch with the Experts,WBEC Metro NY and Greater DMV Events
END:VEVENT
BEGIN:VEVENT
DTSTART;TZID=America/New_York:20230523T120000
DTEND;TZID=America/New_York:20230523T120000
DTSTAMP:20260420T130510
CREATED:20230519T151728Z
LAST-MODIFIED:20230519T153534Z
UID:10000893-1684843200-1684843200@wbecnydmv.org
SUMMARY:Lunch With the Experts: The Business of Sustainability
DESCRIPTION:Lunch with the Experts: The Business of Sustainability\nTuesday\, May 23\, 2023\n12:00pm ET\nSustainability is a major focus for corporate partners. 92% of the S&P 500 companies published a sustainability report in 2020. At this Lunch With the Experts\, Toni will unpack the important pieces of sustainability as it relates to businesses. You will develop an understanding of the basics of sustainability\, your business responsibility and the language that speaks to your contribution to corporate partners’ value chains. Together we will define sustainability (ESG)\, look into why sustainability is the new business imperative\, your value in relation to ESG\, and how to embed sustainable initiatives into your business. \nRegister in advance for this meeting: \nhttps://us02web.zoom.us/meeting/register/tZMkcO2tqzkvGdz2knzn6s6WB9rgcK-eLiA6#/registration \nPresenter Info\n \nToni Stiefel\, Impact Advisor\, The Fehlig Group\nConnect on LinkedIn \nToni is a leader in sustainability\, community outreach and communications\, having developed and evolved processes\, systems and governance for major international companies in the consumer goods\, telecommunications\, bioscience and infrastructure sectors. As an Impact Advisor with The Fehlig Group\, Toni works with small businesses to align their values with globally-recognized sustainable and responsible business standards as well as with corporate clients seeking to assist their diverse suppliers in meeting sustainability expectations.
URL:https://wbecnydmv.org/event/lunch-with-the-experts-the-business-of-sustainability/
CATEGORIES:Lunch with the Experts,WBEC Metro NY and Greater DMV Events
END:VEVENT
BEGIN:VEVENT
DTSTART;TZID=America/New_York:20230523T120000
DTEND;TZID=America/New_York:20230523T120000
DTSTAMP:20260420T130510
CREATED:20230504T144941Z
LAST-MODIFIED:20230518T205314Z
UID:10000887-1684843200-1684843200@wbecnydmv.org
SUMMARY:Lunch With the Experts: Pricing 101
DESCRIPTION:Lunch with the Experts: Pricing 101\nTuesday\, May 23\, 2023\n12:00pm ET\nJoin WBEC Metro NY and Sylvia Lagerquist\, CPA\, for a Lunch With the Experts: Pricing 101 workshop. In this one-hour session\, expert Sylvia will discuss pricing\, breaking even\, and how to interpret your financials. \nAs this workshop has a maximum capacity of 15 attendees\, please note in the registration if you are certain you can attend\, or if you would like to receive the session recording and materials following the session. \nRegister in advance for this meeting: \nhttps://airtable.com/shrYz5qrmKakFumlt \nPresenter Info\nSylvia Lagerquist\, CPA\nSynergy CPAs
URL:https://wbecnydmv.org/event/lunch-with-the-experts-pricing-101/
CATEGORIES:Lunch with the Experts,WBEC Metro NY Events
END:VEVENT
BEGIN:VEVENT
DTSTART;TZID=America/New_York:20230502T120000
DTEND;TZID=America/New_York:20230502T120000
DTSTAMP:20260420T130510
CREATED:20230420T202226Z
LAST-MODIFIED:20230425T132211Z
UID:10000877-1683028800-1683028800@wbecnydmv.org
SUMMARY:Lunch with the Experts: Marketing to Women Over 40
DESCRIPTION:Lunch with the Experts: Marketing to Women Over 40\nTuesday\, May 2\, 2023\n12:00pm ET\nDo you recognize the value of marketing to women over 40 but struggle to do so in an interesting\, relevant\, and motivating way? You’re not alone! Join Fancy for a webinar highlighting key findings and action steps from our survey of nearly 500 women over 40. Fancy surveyed nearly 500 women over 40\, and asked them what they thought marketers were getting right\, and not so right. Fancy co-founder and co-chief creative officer\, Erica Fite distills the findings into actionable insights brands can use today to increase their relevance with this powerful consumer group. \nRegister in advance for this meeting: https://us02web.zoom.us/meeting/register/tZYqdOmqrz4vEtQ17MjZ05qZeDagy1_VpMgj \nPresenter Info\n \nErica Fite – Co-Founder\, Co-Chief Creative Officer brings an honest and authentic point of view to the work and to the way her agency works. She is a sought after speaker and contributor to industry press\, pulling back the curtain on the all-too-often taboo issues of women and sexual pleasure and health\, women over 40 in advertising\, and women stereotypes in marketing activities and brand development.
URL:https://wbecnydmv.org/event/lunch-with-the-experts-marketing-to-women-over-40/
CATEGORIES:Lunch with the Experts,WBEC Metro NY Events
END:VEVENT
BEGIN:VEVENT
DTSTART;TZID=America/New_York:20230214T120000
DTEND;TZID=America/New_York:20230214T130000
DTSTAMP:20260420T130510
CREATED:20230210T202511Z
LAST-MODIFIED:20230210T202511Z
UID:10000841-1676376000-1676379600@wbecnydmv.org
SUMMARY:Lunch with the Experts: Capital One Cash Flow and Business Basics
DESCRIPTION:Lunch with the Experts: Capital One Cash Flow and Business Basics\nTuesday February 14\, 2023\n12:00pm – 1:00pm ET\nJoin Capital One for their Cash Flow and Business Basics information program. This Lunch With the Experts session\, led by Sean Chrysostom\, Engagement Specialist\, will cover how personal credit impacts your business\, business credit importance and growth\, and the factors of a business credit report. \nRegister for this Meeting \n  \nPresenter Info\n \nSean Chrysostom\, Engagment Specialist\, Capital One \nSean earned his Bachelor of Business Administration Degree in Finance from Howard University in 1987. He has spent the over 30 years in commercial banking\, with an emphasis in consumer and small business lending. Sean has been an advocate for greater financial education within social and faith-based organizations in the metro DC area. Sean is the Financial Access Educator for the Mid-Atlantic region for Capital One. Over the course of his career\, Sean has seen the powerful impact that financial literacy has in elevating individuals and families from poverty to prosperity. He is a passionate advocate for helping individuals learn how to effectively handle money\, credit\, debt and risk. He has worked diligently to help create empowered communities while building financial dignity within individuals. Real financial dignity allows everyone the opportunity to be self-sufficient with the fundamentals to build their own businesses\, buy homes\, increase credit\, and make better investment decisions.
URL:https://wbecnydmv.org/event/lunch-with-the-experts-capital-one-cash-flow-and-business-basics/
CATEGORIES:Lunch with the Experts,WBEC Metro NY Events
END:VEVENT
BEGIN:VEVENT
DTSTART;TZID=America/New_York:20230126T120000
DTEND;TZID=America/New_York:20230126T130000
DTSTAMP:20260420T130510
CREATED:20221018T225305Z
LAST-MODIFIED:20221102T132513Z
UID:10000839-1674734400-1674738000@wbecnydmv.org
SUMMARY:"The Price Is Right – Or Is It?"
DESCRIPTION:“The Price Is Right – Or Is It?”\nDetermining the Best Prices for Your Products and Services\nThursday January 26\, 2023\n12:00pm\n  \n\nSylvia Lagerquist\nPresident\nLagerquist Accounting and Advisory\n  \nDetermining accurate and profitable prices for your products and services is one of the greatest challenges facing small business owners. Price too low and you won’t generate enough revenue to cover costs; price too high and you’ll miss critical opportunities to close new sales.\nThat’s why you need a strategic and intelligent approach to pricing. Through this program\, you will learn how to determine effective prices for your products and services by:\n1. Evaluating your direct and indirect costs\n2. Using formulas to develop a pricing structure\n3. Applying these concepts to increase profitability\nThe goal of this workshop is to empower you to make more strategic pricing decisions to improve profitability\, something that can benefit every small business owner.\n  \nREGISTER\nAfter registering\, you will receive a confirmation email containing information about joining the meeting.
URL:https://wbecnydmv.org/event/the-price-is-right-or-is-it/
CATEGORIES:Lunch with the Experts,WBEC Greater DMV Events
END:VEVENT
END:VCALENDAR