BEGIN:VCALENDAR
VERSION:2.0
PRODID:-//WBEC NY DMV - ECPv6.15.18//NONSGML v1.0//EN
CALSCALE:GREGORIAN
METHOD:PUBLISH
X-ORIGINAL-URL:https://wbecnydmv.org
X-WR-CALDESC:Events for WBEC NY DMV
REFRESH-INTERVAL;VALUE=DURATION:PT1H
X-Robots-Tag:noindex
X-PUBLISHED-TTL:PT1H
BEGIN:VTIMEZONE
TZID:America/New_York
BEGIN:DAYLIGHT
TZOFFSETFROM:-0500
TZOFFSETTO:-0400
TZNAME:EDT
DTSTART:20250309T070000
END:DAYLIGHT
BEGIN:STANDARD
TZOFFSETFROM:-0400
TZOFFSETTO:-0500
TZNAME:EST
DTSTART:20251102T060000
END:STANDARD
BEGIN:DAYLIGHT
TZOFFSETFROM:-0500
TZOFFSETTO:-0400
TZNAME:EDT
DTSTART:20260308T070000
END:DAYLIGHT
BEGIN:STANDARD
TZOFFSETFROM:-0400
TZOFFSETTO:-0500
TZNAME:EST
DTSTART:20261101T060000
END:STANDARD
BEGIN:DAYLIGHT
TZOFFSETFROM:-0500
TZOFFSETTO:-0400
TZNAME:EDT
DTSTART:20270314T070000
END:DAYLIGHT
BEGIN:STANDARD
TZOFFSETFROM:-0400
TZOFFSETTO:-0500
TZNAME:EST
DTSTART:20271107T060000
END:STANDARD
END:VTIMEZONE
BEGIN:VEVENT
DTSTART;TZID=America/New_York:20260707T110000
DTEND;TZID=America/New_York:20260707T120000
DTSTAMP:20260419T194728
CREATED:20260401T025718Z
LAST-MODIFIED:20260401T030331Z
UID:10001309-1783422000-1783425600@wbecnydmv.org
SUMMARY:WeTalks: Staffing to Scale: Building Capacity Without Breaking Your Budget with Stephanie Ranno of FlexProfessionals
DESCRIPTION:As your business grows\, so does the pressure on you as a founder. Many women business owners delay hiring because full-time payroll feels like a big leap\, yet continuing to do everything yourself limits growth and impact. This session\, led by Stephanie Ranno\, provides a practical framework for building capacity strategically. We’ll explore flexible hiring models that allow you to expand support thoughtfully\, strengthen your business\, and scale in a way that feels sustainable. \nThrough the webinar participants will: \n\nLearn practical framework for building capacity strategically.\nExplore flexible hiring models.\n\nParticipants will gain: \n\nStrategies to strengthen their business and sustainably scale.\n\nClick below to register now! \nREGISTER NOW\n \n \nStephanie Ranno brings more than 20 years of experience in staffing and recruiting\, helping organizations of all sizes and in all industries build high-performing teams. She has worked with clients in financial services\, associations & nonprofits\, government consulting\, and architecture\, construction\, and engineering to connect them with exceptional talent. \nIn her role as Director of Growth\, Stephanie partners with FlexProfessionals’ DC and Boston teams to expand the firm’s mid-market presence and bring our services to new metro areas. She focuses on opening new pathways for businesses to access flexible\, top-tier talent in accounting\, finance\, HR\, administration\, operations\, and marketing. Stephanie is committed to showing employers how flexible work models can give organizations a competitive edge while creating meaningful career opportunities for professionals. \nBeyond her client work\, Stephanie is a frequent speaker and writer on topics including workforce trends\, talent acquisition\, neurodiversity\, and inclusion. Inspired by her own family\, she has a special interest in advancing neurodiversity in the workplace and creating a future of meaningful work for all. \nAbout WeTalks\nWomen Enterprise Talks (WeTalks) is a virtual series that amplifies the voices of certified WBEs from across the WBEC NY DMV network. Through delivering a one-hour WeTalks presentation\, WBEs can: \n\nReinforce thought leadership through sharing real business perspectives and expert advice with a broader audience of fellow women CEOs.\nStrengthen credibility through contribution\, not promotion.\nMaintain visibility within the network.\n\nApply here to become a WeTalks speaker!
URL:https://wbecnydmv.org/event/wetalks-staffing-to-scale-building-capacity-without-breaking-your-budget-with-stephanie-ranno-of-flexprofessionals/
CATEGORIES:WBEC Metro NY and Greater DMV Events
END:VEVENT
END:VCALENDAR