BEGIN:VCALENDAR
VERSION:2.0
PRODID:-//WBEC NY DMV - ECPv6.15.18//NONSGML v1.0//EN
CALSCALE:GREGORIAN
METHOD:PUBLISH
X-ORIGINAL-URL:https://wbecnydmv.org
X-WR-CALDESC:Events for WBEC NY DMV
REFRESH-INTERVAL;VALUE=DURATION:PT1H
X-Robots-Tag:noindex
X-PUBLISHED-TTL:PT1H
BEGIN:VTIMEZONE
TZID:America/New_York
BEGIN:DAYLIGHT
TZOFFSETFROM:-0500
TZOFFSETTO:-0400
TZNAME:EDT
DTSTART:20240310T070000
END:DAYLIGHT
BEGIN:STANDARD
TZOFFSETFROM:-0400
TZOFFSETTO:-0500
TZNAME:EST
DTSTART:20241103T060000
END:STANDARD
BEGIN:DAYLIGHT
TZOFFSETFROM:-0500
TZOFFSETTO:-0400
TZNAME:EDT
DTSTART:20250309T070000
END:DAYLIGHT
BEGIN:STANDARD
TZOFFSETFROM:-0400
TZOFFSETTO:-0500
TZNAME:EST
DTSTART:20251102T060000
END:STANDARD
BEGIN:DAYLIGHT
TZOFFSETFROM:-0500
TZOFFSETTO:-0400
TZNAME:EDT
DTSTART:20260308T070000
END:DAYLIGHT
BEGIN:STANDARD
TZOFFSETFROM:-0400
TZOFFSETTO:-0500
TZNAME:EST
DTSTART:20261101T060000
END:STANDARD
END:VTIMEZONE
BEGIN:VEVENT
DTSTART;TZID=America/New_York:20251204T080000
DTEND;TZID=America/New_York:20251204T163000
DTSTAMP:20260420T000101
CREATED:20250207T171514Z
LAST-MODIFIED:20251118T164634Z
UID:10001204-1764835200-1764865800@wbecnydmv.org
SUMMARY:WBEC Metro NY SAGE Advice Day 2
DESCRIPTION:WBEC Metro NY SAGE Advice Day 2\n \n  \nSAGE Advice is a collaborative partnership between Capital One and WBEC Greater DMV and Metro NY\, established to develop and enable small business owners to grow through customized sessions delivered by successful women business owners and Capital One associates.\nThrough six\, two-day in-person and virtual sessions held over six months\, participants will dive deep into their business\, their strategies\, and their goals. \nFor more information about this program\,\nPlease visit our website: wbecnydmv.org/programs/sage-advice
URL:https://wbecnydmv.org/event/wbec-metro-ny-sage-advice-day-2-9/
LOCATION:Virtual
CATEGORIES:WBEC Metro NY Events
END:VEVENT
END:VCALENDAR