BEGIN:VCALENDAR
VERSION:2.0
PRODID:-//WBEC NY DMV - ECPv6.15.18//NONSGML v1.0//EN
CALSCALE:GREGORIAN
METHOD:PUBLISH
X-ORIGINAL-URL:https://wbecnydmv.org
X-WR-CALDESC:Events for WBEC NY DMV
REFRESH-INTERVAL;VALUE=DURATION:PT1H
X-Robots-Tag:noindex
X-PUBLISHED-TTL:PT1H
BEGIN:VTIMEZONE
TZID:America/New_York
BEGIN:DAYLIGHT
TZOFFSETFROM:-0500
TZOFFSETTO:-0400
TZNAME:EDT
DTSTART:20240310T070000
END:DAYLIGHT
BEGIN:STANDARD
TZOFFSETFROM:-0400
TZOFFSETTO:-0500
TZNAME:EST
DTSTART:20241103T060000
END:STANDARD
BEGIN:DAYLIGHT
TZOFFSETFROM:-0500
TZOFFSETTO:-0400
TZNAME:EDT
DTSTART:20250309T070000
END:DAYLIGHT
BEGIN:STANDARD
TZOFFSETFROM:-0400
TZOFFSETTO:-0500
TZNAME:EST
DTSTART:20251102T060000
END:STANDARD
BEGIN:DAYLIGHT
TZOFFSETFROM:-0500
TZOFFSETTO:-0400
TZNAME:EDT
DTSTART:20260308T070000
END:DAYLIGHT
BEGIN:STANDARD
TZOFFSETFROM:-0400
TZOFFSETTO:-0500
TZNAME:EST
DTSTART:20261101T060000
END:STANDARD
END:VTIMEZONE
BEGIN:VEVENT
DTSTART;TZID=America/New_York:20251015T080000
DTEND;TZID=America/New_York:20251015T163000
DTSTAMP:20260420T210550
CREATED:20250207T170802Z
LAST-MODIFIED:20251014T171838Z
UID:10001199-1760515200-1760545800@wbecnydmv.org
SUMMARY:WBEC Metro NY SAGE Advice Day 1
DESCRIPTION:WBEC Metro NY SAGE Advice Day 1\n \n  \nSAGE Advice is a collaborative partnership between Capital One and WBEC Greater DMV and Metro NY\, established to develop and enable small business owners to grow through customized sessions delivered by successful women business owners and Capital One associates.\nThrough six\, two-day in-person and virtual sessions held over six months\, participants will dive deep into their business\, their strategies\, and their goals. \nFor more information about this program\, please visit our website: wbecnydmv.org/programs/sage-advice
URL:https://wbecnydmv.org/event/wbec-metro-ny-sage-advice-day-1-9/
LOCATION:Virtual
CATEGORIES:WBEC Metro NY Events
END:VEVENT
BEGIN:VEVENT
DTSTART;TZID=America/New_York:20251015T100000
DTEND;TZID=America/New_York:20251015T130000
DTSTAMP:20260420T210550
CREATED:20250827T163629Z
LAST-MODIFIED:20251014T171916Z
UID:10001261-1760522400-1760533200@wbecnydmv.org
SUMMARY:One Page Business Plan: Strategic Marketing
DESCRIPTION:GET READY TO BUILD YOUR BUSINESS PLAN! \nIn One Page Business Plan\, participants will dive deep into their business to create a roadmap for growth and profit. Starting with the foundations\, from cultivating a money mindset and getting clear on your why\, all the way to clarifying your current profit picture and strategizing your marketing to increase revenue. \nConsider this program your MBA: Masters in Business Agility\, where you’ll have everything you need to quickly adapt and respond to changes in an ever-changing business environment. \nTo apply for One Page Business Plan: Click here! \nOne Page Business Plan is delivered by Linda A. Hamilton of Linda A. Hamilton CPA\, WBEC Metro NY’s 2024 WBE Star. \n \nLinda Hamilton\, CPA\, CEPA\, MAUS\, CPBA\, SYSTEMologist®\, Speaker\, and Co-President of Institute of Advisors Greater NY Chapter. Linda A Hamilton\, CPA LLC is an award-winning CPA firm in New York City working with business owners and nonprofits for more than 30 years. The firm offers Controller Level accounting services and advises U.S. businesses and international companies doing business in the U.S on tax matters. We work with business owners and professional services advisors to build value & grow their companies in our Grow\, Profit\, Scale mastermind and coaching programs. We offer discovery sessions\, business health checks\, Critical Client Flow®\, & Concierge Level SYSTEMology™ services. We help businesses align goals with both personal and business vision\, finance\, and accounting. Documenting business systems can make or break a business as it grows. \nA frequent and sought-after speaker\, Linda Hamilton is in demand for her expertise in business and tax planning\, financial fluency\, budgeting\, succession planning\, business process improvement\, and using a simple business plan as roadmap to grow. Linda has served on the Partnership & LLC Tax Committee of NYSCCPA & is a member of AICPA\, The Women Presidents Organization\, The Woodard Alliance\, The Exit-Planning Institute\, The Institute of Advisors\, and Advisory Board of Enterprising Women Magazine. The company is o a WBENC certified woman-owned company. The company’s headquarters is in New York City. Linda loves to walk for miles in Manhattan\, read mysteries\, do 3\,000-piece jigsaw puzzles\, and binge-watch TV shows with her husband. As a volunteer preschool teacher on Sunday for 25 years\, Linda learned patience which helps when explaining complex tax and accounting to business owners. Linda splits her time between New York City and Florida.
URL:https://wbecnydmv.org/event/one-page-business-plan-strategic-marketing-2/
LOCATION:Virtual
CATEGORIES:WBEC Metro NY and Greater DMV Events
END:VEVENT
END:VCALENDAR