BEGIN:VCALENDAR
VERSION:2.0
PRODID:-//WBEC NY DMV - ECPv6.15.18//NONSGML v1.0//EN
CALSCALE:GREGORIAN
METHOD:PUBLISH
X-ORIGINAL-URL:https://wbecnydmv.org
X-WR-CALDESC:Events for WBEC NY DMV
REFRESH-INTERVAL;VALUE=DURATION:PT1H
X-Robots-Tag:noindex
X-PUBLISHED-TTL:PT1H
BEGIN:VTIMEZONE
TZID:America/New_York
BEGIN:DAYLIGHT
TZOFFSETFROM:-0500
TZOFFSETTO:-0400
TZNAME:EDT
DTSTART:20240310T070000
END:DAYLIGHT
BEGIN:STANDARD
TZOFFSETFROM:-0400
TZOFFSETTO:-0500
TZNAME:EST
DTSTART:20241103T060000
END:STANDARD
BEGIN:DAYLIGHT
TZOFFSETFROM:-0500
TZOFFSETTO:-0400
TZNAME:EDT
DTSTART:20250309T070000
END:DAYLIGHT
BEGIN:STANDARD
TZOFFSETFROM:-0400
TZOFFSETTO:-0500
TZNAME:EST
DTSTART:20251102T060000
END:STANDARD
BEGIN:DAYLIGHT
TZOFFSETFROM:-0500
TZOFFSETTO:-0400
TZNAME:EDT
DTSTART:20260308T070000
END:DAYLIGHT
BEGIN:STANDARD
TZOFFSETFROM:-0400
TZOFFSETTO:-0500
TZNAME:EST
DTSTART:20261101T060000
END:STANDARD
END:VTIMEZONE
BEGIN:VEVENT
DTSTART;TZID=America/New_York:20250930T120000
DTEND;TZID=America/New_York:20250930T130000
DTSTAMP:20260420T031009
CREATED:20250131T205900Z
LAST-MODIFIED:20250905T165630Z
UID:10001179-1759233600-1759237200@wbecnydmv.org
SUMMARY:Lunch With the Experts: Own your Story\, Own the Room with Farah Bala
DESCRIPTION:Lunch with the Experts\nTuesday\, September 30 2025 \n12pm to 1pm EST | Virtual \n           As women business leaders\, your story is your differentiator—it’s what sets you apart in a crowded marketplace and gives your business its heartbeat. In this session\, we’ll explore how to present yourself with executive presence\, sharpen your communication\, and build authentic connections through storytelling rooted in your WHY. You’ll learn how to craft and deliver your story in a way that resonates with corporates\, investors\, and partners. \nTogether\, we’ll tap into techniques to help you think on your feet\, respond with confidence\, and stay connected to your authentic voice in any high-stakes moment. Most importantly\, we’ll explore what it means to step up as a leader: shifting from solopreneur to entrepreneur\, owning your growth\, and boldly sharing your story as the foundation of your leadership and business success. \nRegister now!\n \nFarah Bala is a Leadership EDIA (Equity\, Diversity\, Inclusion\, Anti-Oppression) Executive Coach\, Consultant and Speaker. Through her certified minority\, woman-owned agency FARSIGHT. Farah’s mission is to support organizations and leaders redefine the concept of leadership by making EDIA a core leadership competency. Her clients include executives in the C-suite\, creatives and entrepreneurs\, and organizations across wide-ranging sectors and industries. She is also a faculty coach at multiple learning & development institutions. \nShe is a recipient of the Diversity Award by the World Zoroastrian Organization\, recognized for her work in raising awareness towards gender\, culture\, racial equity and inclusion globally. Farah has been featured in Forbes and is a contributing member to the Forbes Coaches Council. She is co-creator of Wonder Women\, an invite-only executive women-of-color leadership development community under FARSIGHT
URL:https://wbecnydmv.org/event/lunch-with-the-experts-14/
LOCATION:Virtual
CATEGORIES:Lunch with the Experts,WBEC Metro NY Events
END:VEVENT
END:VCALENDAR