BEGIN:VCALENDAR
VERSION:2.0
PRODID:-//WBEC NY DMV - ECPv6.15.18//NONSGML v1.0//EN
CALSCALE:GREGORIAN
METHOD:PUBLISH
X-ORIGINAL-URL:https://wbecnydmv.org
X-WR-CALDESC:Events for WBEC NY DMV
REFRESH-INTERVAL;VALUE=DURATION:PT1H
X-Robots-Tag:noindex
X-PUBLISHED-TTL:PT1H
BEGIN:VTIMEZONE
TZID:America/New_York
BEGIN:DAYLIGHT
TZOFFSETFROM:-0500
TZOFFSETTO:-0400
TZNAME:EDT
DTSTART:20240310T070000
END:DAYLIGHT
BEGIN:STANDARD
TZOFFSETFROM:-0400
TZOFFSETTO:-0500
TZNAME:EST
DTSTART:20241103T060000
END:STANDARD
BEGIN:DAYLIGHT
TZOFFSETFROM:-0500
TZOFFSETTO:-0400
TZNAME:EDT
DTSTART:20250309T070000
END:DAYLIGHT
BEGIN:STANDARD
TZOFFSETFROM:-0400
TZOFFSETTO:-0500
TZNAME:EST
DTSTART:20251102T060000
END:STANDARD
BEGIN:DAYLIGHT
TZOFFSETFROM:-0500
TZOFFSETTO:-0400
TZNAME:EDT
DTSTART:20260308T070000
END:DAYLIGHT
BEGIN:STANDARD
TZOFFSETFROM:-0400
TZOFFSETTO:-0500
TZNAME:EST
DTSTART:20261101T060000
END:STANDARD
END:VTIMEZONE
BEGIN:VEVENT
DTSTART;TZID=America/New_York:20250612T120000
DTEND;TZID=America/New_York:20250612T130000
DTSTAMP:20260421T025324
CREATED:20250514T180748Z
LAST-MODIFIED:20250529T175249Z
UID:10001239-1749729600-1749733200@wbecnydmv.org
SUMMARY:Continuing The Conversation: Building Synergy at the WBENC Conference
DESCRIPTION:June 12\, 2025\n12pm to 1pm EST \nIf you joined us at our Women MEAN Business Summit\, you’ve already experienced the power of collective action. One of our key takeaways\, “Harnessing Synergy” in partnership with fellow WBEs\, has never been more vital. \nAs we look ahead to the WBENC National Conference\, this one-hour virtual panel session will empower you with the “how and why” of building meaningful\, collaborative connections with other WBEs. Together\, we’ll explore how to leverage each other’s strengths\, share resources\, and foster relationships that drive mutual growth and lasting success. \nThis is more than a session—it’s a call to action for building a stronger\, more connected WBE community. Join us to hear from expert WBEs\, and gain valuable insights that extend beyond the conference. \nSPEAKERS\n \nDarcy Flanders is the Founder and Chief Brand Strategist of BaselineGroupNY\, where she leads with over 35 years of design expertise. Known for transforming client goals into impactful visual solutions\, Darcy blends big-picture thinking with meticulous attention to detail. She has led branding initiatives for major clients like Citi\, HSBC\, and Rutgers Business School\, and is a dedicated supporter of MWBEs\, helping them build strong brands and marketing materials. Her award-winning work has been recognized by the Financial Communications Society\, Graphic Design USA\, and others\, including a “Best of Manhattan” honor for Branding and Digital Design. \n \nTheresa R. Proctor is the CEO of Forward Movement Enterprises\, a firm known for transformative human capital solutions. With over 25 years of leadership experience\, she is an ICF-certified Executive Coach and Learning & Development expert who helps organizations—from Fortune 500 companies to government agencies—achieve strategic excellence. Theresa specializes in leadership\, communication\, and customer experience training\, delivering impactful programs that drive cultural health and business results. Her clients include Johnson & Johnson\, Navy Federal Credit Union\, and Mercedes-Benz USA. Recognized for her results-driven approach\, Theresa empowers leaders to elevate performance\, emotional intelligence\, and decision-making. \nRegister Now!
URL:https://wbecnydmv.org/event/continuing-the-conversation-building-synergy-at-the-wbenc-conference/
CATEGORIES:WBEC Metro NY and Greater DMV Events
END:VEVENT
END:VCALENDAR