BEGIN:VCALENDAR
VERSION:2.0
PRODID:-//WBEC NY DMV - ECPv6.15.18//NONSGML v1.0//EN
CALSCALE:GREGORIAN
METHOD:PUBLISH
X-ORIGINAL-URL:https://wbecnydmv.org
X-WR-CALDESC:Events for WBEC NY DMV
REFRESH-INTERVAL;VALUE=DURATION:PT1H
X-Robots-Tag:noindex
X-PUBLISHED-TTL:PT1H
BEGIN:VTIMEZONE
TZID:America/New_York
BEGIN:DAYLIGHT
TZOFFSETFROM:-0500
TZOFFSETTO:-0400
TZNAME:EDT
DTSTART:20240310T070000
END:DAYLIGHT
BEGIN:STANDARD
TZOFFSETFROM:-0400
TZOFFSETTO:-0500
TZNAME:EST
DTSTART:20241103T060000
END:STANDARD
BEGIN:DAYLIGHT
TZOFFSETFROM:-0500
TZOFFSETTO:-0400
TZNAME:EDT
DTSTART:20250309T070000
END:DAYLIGHT
BEGIN:STANDARD
TZOFFSETFROM:-0400
TZOFFSETTO:-0500
TZNAME:EST
DTSTART:20251102T060000
END:STANDARD
BEGIN:DAYLIGHT
TZOFFSETFROM:-0500
TZOFFSETTO:-0400
TZNAME:EDT
DTSTART:20260308T070000
END:DAYLIGHT
BEGIN:STANDARD
TZOFFSETFROM:-0400
TZOFFSETTO:-0500
TZNAME:EST
DTSTART:20261101T060000
END:STANDARD
END:VTIMEZONE
BEGIN:VEVENT
DTSTART;TZID=America/New_York:20250520T090000
DTEND;TZID=America/New_York:20250520T153000
DTSTAMP:20260421T061642
CREATED:20250407T220531Z
LAST-MODIFIED:20250407T220531Z
UID:10001224-1747731600-1747755000@wbecnydmv.org
SUMMARY:2025 American Water Supplier Summit
DESCRIPTION:The American Water Supplier Diversity Team invites you to join us on May 20\, 2025\, for the BI-Annual Supplier Inclusion Summit. \nJoin us for an impactful day of discussions and networking with American Water leaders\, stakeholders\, prime contractors\, and small and diverse businesses. This event will provide opportunities to engage in transparent conversations about the current and future state of Diversity and Inclusion. Hear from subject matter experts on how we all share a responsibility in ensuring that small and diverse businesses continue to positively impact the country’s economic landscape. \nAdvanced registration is required. For more information please click below. \nRegister Now!
URL:https://wbecnydmv.org/event/2025-american-water-supplier-summit/
CATEGORIES:Partner Event
END:VEVENT
BEGIN:VEVENT
DTSTART;TZID=America/New_York:20250520T120000
DTEND;TZID=America/New_York:20250520T130000
DTSTAMP:20260421T061642
CREATED:20250408T155228Z
LAST-MODIFIED:20250422T141342Z
UID:10001228-1747742400-1747746000@wbecnydmv.org
SUMMARY:Lunch With the Experts: Meet NYPA: Empowering Opportunities for New Yorkers
DESCRIPTION:Tuesday\, May 20th\, 2025 \n12pm to 1pm EST | Virtual Session\n  \nJoin the New York Power Authority (NYPA) and the NYS Canal Corporation on Tuesday\, April 22nd at 12:00 p.m. for “Empowering Opportunities for New Yorkers.” Hosted by WBEC Metro NY\, this entry into the Lunch With the Experts series will provide: \n• Insight into upcoming procurement opportunities\n• Coaching on how to engage with NYPA and Canals procurement professionals\n• Information on clean energy renewable generation projects that will help maintain an adequate and reliable supply of electricity for the State\n• Support for New York State’s renewable energy goals\, including what Woman Business Enterprises (WBEs) need to know to be procurement-ready Attendees will also:\n• Acquire information about new clean energy initiatives through NYPA’s Supplier Diversity Program\n• Learn from experts about specific business issues relevant to WBEs\n• Navigate the procurement process• Network with other WBEs Register now for this informational webinar designed to provide you with the information and access your business needs to unlock opportunities. \nThe New York Power Authority (NYPA) is America’s largest state power organization\, with a mission to lead the transition to a carbon-free\, economically vibrant New York State through customer partnerships with other state and local entities\, innovative energy solutions\, and responsible supply of affordable\, clean\, and reliable electricity. As part of our organization\, NYPA operates\, maintains\, and promotes the NYS Canal system through its subsidiary\, NYS Canal Corporation. New York’s Canal system includes four historic canals: the Erie\, Champlain\, Oswego\, and Cayuga-Seneca. Spanning 524 miles\, the canal waterways link the Hudson River with the Great Lakes\, the Finger Lakes\, and Lake Champlain. Following much of the original towpaths\, the Canal system also includes the 365-mile Canalway Trail\, which runs from Albany to Buffalo and from Albany to Whitehall and is all part of the 750-mile Empire State Trail—the nation’s longest multi-use recreational trail network.\nVisit nypa.gov for more information. \n \nGina Jackson\, Supplier Diversity Program Administrator\, LinkedIn \n                 \n \nKylie Murphy\, Category Manager (Renewables)\, LinkedIn \nRegister Now!
URL:https://wbecnydmv.org/event/lunch-with-the-experts-meet-nypa-empowering-opportunities-for-new-yorkers/
CATEGORIES:Lunch with the Experts,WBEC Metro NY Events
END:VEVENT
BEGIN:VEVENT
DTSTART;TZID=America/New_York:20250520T130000
DTEND;TZID=America/New_York:20250520T150000
DTSTAMP:20260421T061642
CREATED:20250219T213917Z
LAST-MODIFIED:20250430T181011Z
UID:10001207-1747746000-1747753200@wbecnydmv.org
SUMMARY:Sustainability Accelerator Module 1 Workshop 3
DESCRIPTION:Sustainability Accelerator\nModule 1 — Creating Your Sustainability Roadmap\nWorkshop 3 – Implementation \n\n\n\n \n\nMay 20th\, 2025 | 1pm to 3pm EST | Virtual \nSustainability is a business imperative for corporate partners. \nCome join WBEC Metro NY and Greater DMV and program partners\, The Fehlig Group\, for the 2024 Sustainability Accelerator\, an accessible and actionable program to help you understand the basics and application of sustainability. \nConsisting of three modules running over nine months\, it includes four interactive Sessions and six optional drop-in clinics per module to provide expert advice on the unique needs of your business as you embed sustainability into your operation. \nModule One: Creating Your Sustainability Roadmap  \nUnderstand the environmental\, social and economic basics of sustainability\, and the language that speaks to your contribution to corporate partners’ value chains. \nDiscover the value of sustainability from the perspective of a respected stakeholder/customer. \nLearn how to implement measurable sustainability actions and start embedding them in the business (via a guided action plan). \nCreate a plan that articulates your business’ commitments\, actions and impact. \nIn Module 1: Session 3 – Implementation\, you will understand and be ready to implement sustainability and start embedding it in your organization. \nTo get the complete program experience\, it is strongly recommended that you attend all sessions of  Module 1. See more information here: Sustainability Accelerator | WBEC NY & DMV (wbecnydmv.org) \nClick to register!
URL:https://wbecnydmv.org/event/sustainability-accelerator-module-1-workshop-3-2/
LOCATION:Virtual
CATEGORIES:WBEC Metro NY and Greater DMV Events
END:VEVENT
END:VCALENDAR