BEGIN:VCALENDAR
VERSION:2.0
PRODID:-//WBEC NY DMV - ECPv6.15.18//NONSGML v1.0//EN
CALSCALE:GREGORIAN
METHOD:PUBLISH
X-ORIGINAL-URL:https://wbecnydmv.org
X-WR-CALDESC:Events for WBEC NY DMV
REFRESH-INTERVAL;VALUE=DURATION:PT1H
X-Robots-Tag:noindex
X-PUBLISHED-TTL:PT1H
BEGIN:VTIMEZONE
TZID:America/New_York
BEGIN:DAYLIGHT
TZOFFSETFROM:-0500
TZOFFSETTO:-0400
TZNAME:EDT
DTSTART:20230312T070000
END:DAYLIGHT
BEGIN:STANDARD
TZOFFSETFROM:-0400
TZOFFSETTO:-0500
TZNAME:EST
DTSTART:20231105T060000
END:STANDARD
BEGIN:DAYLIGHT
TZOFFSETFROM:-0500
TZOFFSETTO:-0400
TZNAME:EDT
DTSTART:20240310T070000
END:DAYLIGHT
BEGIN:STANDARD
TZOFFSETFROM:-0400
TZOFFSETTO:-0500
TZNAME:EST
DTSTART:20241103T060000
END:STANDARD
BEGIN:DAYLIGHT
TZOFFSETFROM:-0500
TZOFFSETTO:-0400
TZNAME:EDT
DTSTART:20250309T070000
END:DAYLIGHT
BEGIN:STANDARD
TZOFFSETFROM:-0400
TZOFFSETTO:-0500
TZNAME:EST
DTSTART:20251102T060000
END:STANDARD
END:VTIMEZONE
BEGIN:VEVENT
DTSTART;TZID=America/New_York:20241105T120000
DTEND;TZID=America/New_York:20241105T130000
DTSTAMP:20260421T235444
CREATED:20240826T191350Z
LAST-MODIFIED:20240826T191350Z
UID:10001114-1730808000-1730811600@wbecnydmv.org
SUMMARY:Lunch With the Experts: Intro to Cybersecurity
DESCRIPTION:Lunch with the Experts: Intro to Cybersecurity\nNovember 5th\, 2024 | 12pm to 1pm ET | Virtual Session\n \nPlease join WBEC Metro NY for a Lunch With the Experts led by Cybersecurity Expert Angela Dingle Founder and CEO of Ex Nihilo. This presentation will cover the current landscape of cybersecurity threats\, highlighting the most pressing challenges that enterprises face today. \nAttendees will:\n– Gain insight into the foundations of Cybersecurity\, cyber hygiene\, and introductory best practices for protecting their organizations.\n– Have the opportunity to pose questions to foster a deeper understanding of the cybersecurity essentials.\n– Connect with fellow business owners committed to creating a secure environment for their enterprises \nDon’t miss out on this opportunity to arm yourself with the knowledge needed to protect your business’s future and cultivate a resilient cybersecurity foundation. \n \nAngela Dingle \nAs President and CEO of Women Impacting Public Policy (WIPP)\, Angela Dingle leads a national nonpartisan organization advocating on behalf of women entrepreneurs\, strengthening their impact on our nation’s public policy\, creating economic opportunities\, and forging alliances with other business organizations. Serving as the voice for the over 14 million women owned companies in the U.S.\, WIPP works with lawmakers to impact and influence policy that provides economic equity\, procurement inclusion and access to the global marketplace. \nPrior to serving in this role\, Angela founded Ex Nihilo Management\, an award-winning technology and management consultancy that provides governance\, risk management and cybersecurity (GRC) to the public\, private and non-profit sector. Her commitment to client success earned her a reputation as a trusted advisor and strategic partner. Angela is a sought-after speaker and thought leader\, sharing her insights and expertise at conferences and events focused on women in business and government contracting. She is the author of Discovering Your Girl Powers: 10 Strategies to Build Confidence\, Charisma and Credibility and Unexpected Leader: 11 Tools for Transformational Leadership. She has written articles and publications that provide valuable leadership guidance. Angela holds a MS in Management Information Systems from Bowie State University\, a BS in Computer Science from DeVry University\, a Certified Myers Briggs Type Indicator (MBTI) Practitioner\, and a Certified Management Consultant (CMC).  Angela is a member of Delta Sigma Theta Sorority\, Inc. \nClick to register!
URL:https://wbecnydmv.org/event/lunch-with-the-experts-intro-to-cybersecurity/
CATEGORIES:Lunch with the Experts,WBEC Metro NY Events
END:VEVENT
END:VCALENDAR