BEGIN:VCALENDAR
VERSION:2.0
PRODID:-//WBEC NY DMV - ECPv6.15.18//NONSGML v1.0//EN
CALSCALE:GREGORIAN
METHOD:PUBLISH
X-ORIGINAL-URL:https://wbecnydmv.org
X-WR-CALDESC:Events for WBEC NY DMV
REFRESH-INTERVAL;VALUE=DURATION:PT1H
X-Robots-Tag:noindex
X-PUBLISHED-TTL:PT1H
BEGIN:VTIMEZONE
TZID:America/New_York
BEGIN:DAYLIGHT
TZOFFSETFROM:-0500
TZOFFSETTO:-0400
TZNAME:EDT
DTSTART:20230312T070000
END:DAYLIGHT
BEGIN:STANDARD
TZOFFSETFROM:-0400
TZOFFSETTO:-0500
TZNAME:EST
DTSTART:20231105T060000
END:STANDARD
BEGIN:DAYLIGHT
TZOFFSETFROM:-0500
TZOFFSETTO:-0400
TZNAME:EDT
DTSTART:20240310T070000
END:DAYLIGHT
BEGIN:STANDARD
TZOFFSETFROM:-0400
TZOFFSETTO:-0500
TZNAME:EST
DTSTART:20241103T060000
END:STANDARD
BEGIN:DAYLIGHT
TZOFFSETFROM:-0500
TZOFFSETTO:-0400
TZNAME:EDT
DTSTART:20250309T070000
END:DAYLIGHT
BEGIN:STANDARD
TZOFFSETFROM:-0400
TZOFFSETTO:-0500
TZNAME:EST
DTSTART:20251102T060000
END:STANDARD
END:VTIMEZONE
BEGIN:VEVENT
DTSTART;TZID=America/New_York:20241004T100000
DTEND;TZID=America/New_York:20241004T103000
DTSTAMP:20260422T012059
CREATED:20240514T163406Z
LAST-MODIFIED:20240514T163406Z
UID:10001085-1728036000-1728037800@wbecnydmv.org
SUMMARY:One Page Business Plan: Office Hours
DESCRIPTION:One Page Business Plan: Office Hours\nGET READY TO BUILD YOUR BUSINESS PLAN! \nIn One Page Business Plan\, participants will dive deep into their business to create a roadmap for growth and profit. Starting with the foundations\, from cultivating a money mindset and getting clear on your why\, all the way to clarifying your current profit picture and strategizing your marketing to increase revenue. \nConsider this program your MBA: Masters in Business Agility\, where you’ll have everything you need to quickly adapt and respond to changes in an ever-changing business environment. \nApplications for One Page Business Plan open in early fall. Join the waitlist to be the first to know when applications open! \nOne Page Business Plan is delivered by Linda A. Hamilton of Linda A. Hamilton CPA\, and sponsored by Corporate Partners Flagstar Bank\, MetLife\, and Altria. \nMore information coming soon!
URL:https://wbecnydmv.org/event/one-page-business-plan-office-hours/
CATEGORIES:WBEC Metro NY and Greater DMV Events
END:VEVENT
BEGIN:VEVENT
DTSTART;TZID=America/New_York:20241004T150000
DTEND;TZID=America/New_York:20241004T160000
DTSTAMP:20260422T012059
CREATED:20240917T161813Z
LAST-MODIFIED:20240917T161917Z
UID:10001130-1728054000-1728057600@wbecnydmv.org
SUMMARY:AARP: Intro to Estate Planning Resources & Tools
DESCRIPTION:AARP: Intro to Estate Planning Resources & Tools\n \nAARP is committed to building a diverse and inclusive supply chain that reflects the communities we serve. Join AARP Supplier Diversity and the Older Adults Technology Services (OATS) for a series of educational webinars. \nFriday October 4th\,  3 – 4 PM ET: Intro to Estate Planning Resources & Tool. \nLearn the first steps in how to craft a basic estate plan that aligns with your wishes\, covering crucial aspects such as health directives and financial arrangements. \nClick to register!
URL:https://wbecnydmv.org/event/aarp-intro-to-estate-planning-resources-tools/
CATEGORIES:Partner Event
END:VEVENT
END:VCALENDAR