BEGIN:VCALENDAR
VERSION:2.0
PRODID:-//WBEC NY DMV - ECPv6.15.18//NONSGML v1.0//EN
CALSCALE:GREGORIAN
METHOD:PUBLISH
X-WR-CALNAME:WBEC NY DMV
X-ORIGINAL-URL:https://wbecnydmv.org
X-WR-CALDESC:Events for WBEC NY DMV
REFRESH-INTERVAL;VALUE=DURATION:PT1H
X-Robots-Tag:noindex
X-PUBLISHED-TTL:PT1H
BEGIN:VTIMEZONE
TZID:America/New_York
BEGIN:DAYLIGHT
TZOFFSETFROM:-0500
TZOFFSETTO:-0400
TZNAME:EDT
DTSTART:20230312T070000
END:DAYLIGHT
BEGIN:STANDARD
TZOFFSETFROM:-0400
TZOFFSETTO:-0500
TZNAME:EST
DTSTART:20231105T060000
END:STANDARD
BEGIN:DAYLIGHT
TZOFFSETFROM:-0500
TZOFFSETTO:-0400
TZNAME:EDT
DTSTART:20240310T070000
END:DAYLIGHT
BEGIN:STANDARD
TZOFFSETFROM:-0400
TZOFFSETTO:-0500
TZNAME:EST
DTSTART:20241103T060000
END:STANDARD
BEGIN:DAYLIGHT
TZOFFSETFROM:-0500
TZOFFSETTO:-0400
TZNAME:EDT
DTSTART:20250309T070000
END:DAYLIGHT
BEGIN:STANDARD
TZOFFSETFROM:-0400
TZOFFSETTO:-0500
TZNAME:EST
DTSTART:20251102T060000
END:STANDARD
END:VTIMEZONE
BEGIN:VEVENT
DTSTART;TZID=America/New_York:20240910T100000
DTEND;TZID=America/New_York:20240910T140000
DTSTAMP:20260422T053911
CREATED:20240514T142704Z
LAST-MODIFIED:20250430T180141Z
UID:10001077-1725962400-1725976800@wbecnydmv.org
SUMMARY:Convergence 2024: A Supplier Diversity Expo & Job Fair
DESCRIPTION:
URL:https://wbecnydmv.org/event/convergence-2024-a-supplier-diversity-expo-job-fair/
LOCATION:Greater Richmond Convention Center\, 403 N 3rd St\, Richmond\, VA\, 23219
CATEGORIES:Partner Event
END:VEVENT
BEGIN:VEVENT
DTSTART;TZID=America/New_York:20240910T120000
DTEND;TZID=America/New_York:20240910T130000
DTSTAMP:20260422T053911
CREATED:20240605T195346Z
LAST-MODIFIED:20240605T195346Z
UID:10001092-1725969600-1725973200@wbecnydmv.org
SUMMARY:Lunch With the Experts: Developing Your Capabilities Statement
DESCRIPTION:Lunch with the Experts: Developing Your Capabilities Statement\nSeptember 10th\, 2024 | 12pm to 1pm ET | Virtual Session\n \nAs we enter Quarter 4\, now is the time to participate in a hands-on session on crafting a stellar capabilities statement that speaks for your unique business strengths. Join Darcy Flanders from Baseline Group and Dawn Wells from Northwell Health for a workshop on how to design a capabilities statement that leaves a lasting impression on clients and collaborators. Through this Lunch With the Experts\, participants will gain the skills to develop a compelling digital bio that showcases your leadership and accomplishments. \n\nGain knowledge about corporate supplier diversity programs\nUnderstand how to navigate sourcing/procurement processes.\nLearn from experts about specific business issues relevant to WBEs\nWBEs are equipped with knowledge to connect with procurement professionals\nWBEs network with other WBEs\n\n \nDawn Wells\nAssistant Vice President\, Supply Chain\, Northwell Health \nDawn Wells is supply chain professional with a public health heart.  She currently serves as Assistant Vice President of Supply Chain at Northwell Health\, New York’s largest healthcare provider\, serving NYC\, Long Island\, and Westchester.  In this role she leads supply chain operations for the Health Systems’ Ambulatory Care Network comprised of more than 830 physician practices and outpatient facilities.  In addition to these responsibilities\, Dawn takes an active role in championing and facilitating programs that impact all levels of the organization.  She has been a consistent champion of diversity; representing supply chain as a member of the diversity and health equity council and corporate social responsibility committee. In 2019\, she chartered the health systems supplier diversity council that is charged with creating a cross functional action plan\, ensuring that there is a system wide commitment to maintaining the diversity of the Health System’s suppliers\, putting in place standardized processes for measuring goals and success\, and partnering with external agencies to educate and deliver information to diverse suppliers within the communities served. \nDawn joined Northwell Health in 2003 as a member of the project implementation team that established framework for integrating finance\, supply chain\, and human resources under a shared-services umbrella. Over the years she has defined and redefined her position and responsibilities in response to the organization’s rapid growth. Dawn currently serves on the board of the NYNJ Minority Supplier Development Council.  She holds a B.S. in Business and a Masters of Public Health from Adelphi University. \n \nDarcy Flanders \nFounder / Chief Brand Strategist Baseline \nAs founder and chief brand strategist of BaselineGroupNY\, Darcy is the visionary. Her strength lies in the ability to interpret clients’ goals and translate then into visually impactful and targeted printed and digital solutions. Her passion for design is contagious and her emphasis on teamwork leads to great collaborative solutions. Drawing on 35+ years of expertise\, you can count on Darcy to lead an information-oriented\, responsive and time-sensitive creative process that considers the big picture and instinctively understands the importance of the smallest detail and the strictest schedule. Darcy has envisioned and managed corporate branding initiatives for clients such as: Galliard Capital Management\, Citi Alternative Investments\, Citi Private Bank\, HSBC Private Bank and Rutgers Business School\, Wrigley\, and PSEG LI. \nDarcy is also passionate about helping her fellow MWBEs develop brands\, websites and marketing materials and has worked with: JURISolutions Legal (JSL)\, McKissack & McKissack\, Mrs. Paper\, Savoca Enterprises\, Winston Strategic Partners\, Pina Solutions\, Lob Planning and A\,& S Rebar – to name a few. Her work has received numerous awards from the Financial Communications Society\, Society of Technical Communication\, the Association of the Graphic Arts\, Graphic Design USA\, Step Inside Design and most recently Best of 2020 Manhattan for Branding and Digital Design. \nClick to register!
URL:https://wbecnydmv.org/event/lunch-with-the-experts-developing-your-capabilities-statement-2/
CATEGORIES:Lunch with the Experts,WBEC Metro NY Events
END:VEVENT
BEGIN:VEVENT
DTSTART;TZID=America/New_York:20240910T130000
DTEND;TZID=America/New_York:20240910T150000
DTSTAMP:20260422T053911
CREATED:20240208T195418Z
LAST-MODIFIED:20240213T181448Z
UID:10001028-1725973200-1725980400@wbecnydmv.org
SUMMARY:Sustainability Accelerator Module 2 Workshop 4
DESCRIPTION:Sustainability Accelerator\nModule 2 — Checking Your Sustainability Compass\nWorkshop 4 – Module and Workbooks Review \n\n \n\nSeptember 10th\, 2024 | 1pm to 3pm EST | Virtual \n  \nSustainability is a business imperative for corporate partners. \nCome join WBEC Metro NY and Greater DMV and program partners\, The Fehlig Group\, for the 2024 Sustainability Accelerator\, an accessible and actionable program to help you understand the basics and application of sustainability. \nConsisting of three modules running over nine months\, it includes four interactive workshops and six optional drop-in clinics per module to provide expert advice on the unique needs of your business as you embed sustainability into your operation. \nMODULE 2: CHECKING YOUR SUSTAINABILITY COMPASS  \n\nShowcase the material issues where you have the greatest impact\, engage your stakeholders and align with global frameworks.\nIdentify the foundational policies\, practices and systems to have or put in place for sustainable best practice.\nGain the knowledge to create effective policies in critical areas of ethics and transparency\, environmental stewardship and diversity\, equity and inclusion.\nLearn valuable ways of thinking and tools to effectively organize information and measure sustainable performance.\n\nIn Module 2: Workshop 4\, you will continue to move forward on your sustainability journey. Put your values into practice and start measuring your impact. Recognize winning roadmaps from your fellow participants. \n\nRegister Here! \nSee more information here: Sustainability Accelerator | WBEC NY & DMV (wbecnydmv.org)
URL:https://wbecnydmv.org/event/sustainability-accelerator-module-2-workshop-4/
CATEGORIES:WBEC Metro NY and Greater DMV Events
END:VEVENT
END:VCALENDAR