BEGIN:VCALENDAR
VERSION:2.0
PRODID:-//WBEC NY DMV - ECPv6.15.18//NONSGML v1.0//EN
CALSCALE:GREGORIAN
METHOD:PUBLISH
X-ORIGINAL-URL:https://wbecnydmv.org
X-WR-CALDESC:Events for WBEC NY DMV
REFRESH-INTERVAL;VALUE=DURATION:PT1H
X-Robots-Tag:noindex
X-PUBLISHED-TTL:PT1H
BEGIN:VTIMEZONE
TZID:America/New_York
BEGIN:DAYLIGHT
TZOFFSETFROM:-0500
TZOFFSETTO:-0400
TZNAME:EDT
DTSTART:20230312T070000
END:DAYLIGHT
BEGIN:STANDARD
TZOFFSETFROM:-0400
TZOFFSETTO:-0500
TZNAME:EST
DTSTART:20231105T060000
END:STANDARD
BEGIN:DAYLIGHT
TZOFFSETFROM:-0500
TZOFFSETTO:-0400
TZNAME:EDT
DTSTART:20240310T070000
END:DAYLIGHT
BEGIN:STANDARD
TZOFFSETFROM:-0400
TZOFFSETTO:-0500
TZNAME:EST
DTSTART:20241103T060000
END:STANDARD
BEGIN:DAYLIGHT
TZOFFSETFROM:-0500
TZOFFSETTO:-0400
TZNAME:EDT
DTSTART:20250309T070000
END:DAYLIGHT
BEGIN:STANDARD
TZOFFSETFROM:-0400
TZOFFSETTO:-0500
TZNAME:EST
DTSTART:20251102T060000
END:STANDARD
END:VTIMEZONE
BEGIN:VEVENT
DTSTART;TZID=America/New_York:20240827T120000
DTEND;TZID=America/New_York:20240827T130000
DTSTAMP:20260422T071129
CREATED:20240610T204846Z
LAST-MODIFIED:20240610T204846Z
UID:10001098-1724760000-1724763600@wbecnydmv.org
SUMMARY:Lunch with the Experts: Understanding Insurance\, Protecting your Assets While Competing with Big Business with AARP
DESCRIPTION:  \nLunch with the Experts: Understanding Insurance\, Protecting your Assets While Competing with Big Business with AARP\nTuesday\, August 27th\, 2024\n12:00pm–1:00pm ET \n \nAs an entrepreneur\, you already possess the drive and passion needed to be a risk-taker and innovator. However\, navigating the essential aspects of running a business requires a strategic approach. Join us in this session as Lisa Hilton\, CCSA\, MLIS\, CHP\, REAS and Director Insurance Management\, AARP explore the crucial elements of identifying risks and integrating insurance solutions to bolster your entrepreneurial pursuits. Discover how proactive risk management can safeguard your ventures and propel your business towards sustainable growth and success. \n \nLisa Hilton\, CCSA\, MLIS\, CHP\, REAS\nDirector Insurance Management\, AARP \nLisa Hilton is the Director of Risk & Insurance Management for AARP.  Her career spans over 25 years in the areas of enterprise risk management\, captive creation and management and fraud investigation.  She is responsible for AARP’s insurance portfolio\, captive program\, ergonomics and maintains risk management responsibilities for 50 state offices; plus\, the Virgin Islands and Puerto Rico.  She holds a Bachelor’s degree in Business Administration and an Associate’s degree in Administration of Justice.  She is a certified Certified Cyber Security Architect (CCSA)\, Management Liability Insurance Specialist (MLIS)\, Certified HIPAA Professional (CHP) and Remote Ergonomic Assessment Specialist (REAS). \n\nClick to register!
URL:https://wbecnydmv.org/event/lunch-with-the-experts-understanding-insurance-protecting-your-assets-while-competing-with-big-business-with-aarp/
CATEGORIES:Lunch with the Experts,WBEC Greater DMV Events
END:VEVENT
END:VCALENDAR