BEGIN:VCALENDAR
VERSION:2.0
PRODID:-//WBEC NY DMV - ECPv6.15.18//NONSGML v1.0//EN
CALSCALE:GREGORIAN
METHOD:PUBLISH
X-ORIGINAL-URL:https://wbecnydmv.org
X-WR-CALDESC:Events for WBEC NY DMV
REFRESH-INTERVAL;VALUE=DURATION:PT1H
X-Robots-Tag:noindex
X-PUBLISHED-TTL:PT1H
BEGIN:VTIMEZONE
TZID:America/New_York
BEGIN:DAYLIGHT
TZOFFSETFROM:-0500
TZOFFSETTO:-0400
TZNAME:EDT
DTSTART:20230312T070000
END:DAYLIGHT
BEGIN:STANDARD
TZOFFSETFROM:-0400
TZOFFSETTO:-0500
TZNAME:EST
DTSTART:20231105T060000
END:STANDARD
BEGIN:DAYLIGHT
TZOFFSETFROM:-0500
TZOFFSETTO:-0400
TZNAME:EDT
DTSTART:20240310T070000
END:DAYLIGHT
BEGIN:STANDARD
TZOFFSETFROM:-0400
TZOFFSETTO:-0500
TZNAME:EST
DTSTART:20241103T060000
END:STANDARD
BEGIN:DAYLIGHT
TZOFFSETFROM:-0500
TZOFFSETTO:-0400
TZNAME:EDT
DTSTART:20250309T070000
END:DAYLIGHT
BEGIN:STANDARD
TZOFFSETFROM:-0400
TZOFFSETTO:-0500
TZNAME:EST
DTSTART:20251102T060000
END:STANDARD
END:VTIMEZONE
BEGIN:VEVENT
DTSTART;TZID=America/New_York:20240814T103000
DTEND;TZID=America/New_York:20240814T103000
DTSTAMP:20260422T071128
CREATED:20240314T152016Z
LAST-MODIFIED:20240805T154725Z
UID:10001056-1723631400-1723631400@wbecnydmv.org
SUMMARY:2024 WBEC Metro NY Live Regional Pitch Competition
DESCRIPTION:  \n2024 WBEC Metro NY Live Regional Pitch Competition\n \nAugust 14th\, 2024\, 10:30am EST\nHosted By: Stephanie Scott Bradshaw CEO and Communicator-in-Chief of First and Last PR \n \n  \nJoin us to cheer on your fellow WBEs as they pitch in the 1st round of the 2024 WBENC Pitch Competition! During this virtual program\, 10 WBE finalists from WBEC Metro NY will pitch their businesses to local corporate judges for a chance to compete in the WBENC semi-finals. \nHere are our Top 10 WBEC Metro NY Pitch Finalists: \nLuminoustudios\, Inc.\, Sania Jhankar\, https://luminoustudios.com/\nUnmentionables LLC DBA Panic Panties\, Maria-Nicole Marino\, www.panicpanties.com\n87th Street Creative\, Sherene Strausberg\, http://87thstreetcreative.com\nSheilisa McNeal – Fria Jewelry\, Sheilisa McNeal\, www.myfria.com\niWoman\, Inc.\, Cathleen Trigg-Jones\, iwoman.tv\nLevelle Inc DBA Levelle Nutrition\, Linda Alvarez\, www.levellenutrition.com\nWet Cement Inc.\, Jennifer Willey\, https://www.Wet-Cement.com\nFront Burner Publishing Inc. DBA Dam Good English Muffins\, Olivia Weale\, https://www.damgoodenglishmuffins.com/\nWEST X EAST CO / WEST X EAST\, Tania Kottoor\, https://westxeast.com/\nSWAIR Inc\, DBA SWAIR\, Carrie Sporer\, https://www.swairhair.com/ \nhttps://wbecnydmv.org/programs/wbenc-pitch-competition/ \n\nClick to register!\n 
URL:https://wbecnydmv.org/event/2024-wbec-metro-ny-live-regional-pitch-competition/
CATEGORIES:WBEC Metro NY Events
END:VEVENT
BEGIN:VEVENT
DTSTART;TZID=America/New_York:20240814T143000
DTEND;TZID=America/New_York:20240814T143000
DTSTAMP:20260422T071128
CREATED:20240314T152715Z
LAST-MODIFIED:20240805T154644Z
UID:10001057-1723645800-1723645800@wbecnydmv.org
SUMMARY:2024 WBEC Greater DMV Live Regional Pitch Competition
DESCRIPTION:2024 WBEC Greater DMV Live Regional Pitch Competition\n \nAugust 14th\, 2024\, 2:30pm EST\nHosted By: Theresa R. Proctor CEO of Forward Movement Enterprises \n \n  \nJoin us to cheer on your fellow WBEs as they pitch in the 1st round of the 2024 WBENC Pitch Competition! During this virtual program\, 10 WBE finalists from WBEC Greater DMV will pitch their businesses to local corporate judges for a chance to compete in the WBENC semi-finals. \nHere are our Top 10 Pitch Finalists: \nSpeak to Society\,  Quinn Conyers\, QuinnConyers.com\nQueirra Fenderson\, LLC d/b/a The Ambition Studio\,  Queirra Fenderson\,  www.theambitionstudio.com\nNBBG LLC dba 2Betties\, Bridget Greaney\, https://2betties.com/\nMsPsGFree Inc – Food Service\, Lisa Marsh\, https://www.mspsglutenfree.com\nInfinity Empowerment Services\, Beverly Grandison\, https://infinityempowermentsvc.com\nIn Full Bloom Health and Life Coaching\, Dr. Marcea Whitaker\, www.drmarcea.com\nHomemade in DC\, Mackenzie Loy\, https://homemadeindc.com/\nGood News Financial & Investment Advisors LLC\, Dr Jovan Jackson\, www.goodnewsfinancialservices.com\nFIT2order\, Stacy Fritz\, www.fit2order.com\nBT Beverage & Food\, llc.\, Ruth Berhane-Williams\, www.drinkeritea.com \nhttps://wbecnydmv.org/programs/wbenc-pitch-competition/ \nClick to register!\n 
URL:https://wbecnydmv.org/event/2024-wbec-greater-dmv-live-regional-pitch-competition/
CATEGORIES:WBEC Greater DMV Events
END:VEVENT
END:VCALENDAR