BEGIN:VCALENDAR
VERSION:2.0
PRODID:-//WBEC NY DMV - ECPv6.15.18//NONSGML v1.0//EN
CALSCALE:GREGORIAN
METHOD:PUBLISH
X-ORIGINAL-URL:https://wbecnydmv.org
X-WR-CALDESC:Events for WBEC NY DMV
REFRESH-INTERVAL;VALUE=DURATION:PT1H
X-Robots-Tag:noindex
X-PUBLISHED-TTL:PT1H
BEGIN:VTIMEZONE
TZID:America/New_York
BEGIN:DAYLIGHT
TZOFFSETFROM:-0500
TZOFFSETTO:-0400
TZNAME:EDT
DTSTART:20230312T070000
END:DAYLIGHT
BEGIN:STANDARD
TZOFFSETFROM:-0400
TZOFFSETTO:-0500
TZNAME:EST
DTSTART:20231105T060000
END:STANDARD
BEGIN:DAYLIGHT
TZOFFSETFROM:-0500
TZOFFSETTO:-0400
TZNAME:EDT
DTSTART:20240310T070000
END:DAYLIGHT
BEGIN:STANDARD
TZOFFSETFROM:-0400
TZOFFSETTO:-0500
TZNAME:EST
DTSTART:20241103T060000
END:STANDARD
BEGIN:DAYLIGHT
TZOFFSETFROM:-0500
TZOFFSETTO:-0400
TZNAME:EDT
DTSTART:20250309T070000
END:DAYLIGHT
BEGIN:STANDARD
TZOFFSETFROM:-0400
TZOFFSETTO:-0500
TZNAME:EST
DTSTART:20251102T060000
END:STANDARD
END:VTIMEZONE
BEGIN:VEVENT
DTSTART;TZID=America/New_York:20240614T150000
DTEND;TZID=America/New_York:20240614T160000
DTSTAMP:20260422T182819
CREATED:20240611T200535Z
LAST-MODIFIED:20240611T200616Z
UID:10001101-1718377200-1718380800@wbecnydmv.org
SUMMARY:AARP: Digital Tools to Boost Your Business
DESCRIPTION:AARP: Digital Tools to Boost Your Business\n \nFriday June 14th\,  3 – 4 PM ET \nDigital Tools to Boost Your Business. Discover the online tools that will set you on the path to success! \nAre you interested in becoming an entrepreneur? This lecture gives an overview of some important digital tools to help you get your online business up and running. Learn about e-commerce sites\, how social media can help promote your business\, and how you can use video chat platforms for services. We will also cover how to get paid using digital payment services. \nClick to register!
URL:https://wbecnydmv.org/event/aarp-digital-tools-to-boost-your-business/
CATEGORIES:Partner Event
END:VEVENT
END:VCALENDAR