BEGIN:VCALENDAR
VERSION:2.0
PRODID:-//WBEC NY DMV - ECPv6.15.18//NONSGML v1.0//EN
CALSCALE:GREGORIAN
METHOD:PUBLISH
X-ORIGINAL-URL:https://wbecnydmv.org
X-WR-CALDESC:Events for WBEC NY DMV
REFRESH-INTERVAL;VALUE=DURATION:PT1H
X-Robots-Tag:noindex
X-PUBLISHED-TTL:PT1H
BEGIN:VTIMEZONE
TZID:America/New_York
BEGIN:DAYLIGHT
TZOFFSETFROM:-0500
TZOFFSETTO:-0400
TZNAME:EDT
DTSTART:20230312T070000
END:DAYLIGHT
BEGIN:STANDARD
TZOFFSETFROM:-0400
TZOFFSETTO:-0500
TZNAME:EST
DTSTART:20231105T060000
END:STANDARD
BEGIN:DAYLIGHT
TZOFFSETFROM:-0500
TZOFFSETTO:-0400
TZNAME:EDT
DTSTART:20240310T070000
END:DAYLIGHT
BEGIN:STANDARD
TZOFFSETFROM:-0400
TZOFFSETTO:-0500
TZNAME:EST
DTSTART:20241103T060000
END:STANDARD
BEGIN:DAYLIGHT
TZOFFSETFROM:-0500
TZOFFSETTO:-0400
TZNAME:EDT
DTSTART:20250309T070000
END:DAYLIGHT
BEGIN:STANDARD
TZOFFSETFROM:-0400
TZOFFSETTO:-0500
TZNAME:EST
DTSTART:20251102T060000
END:STANDARD
END:VTIMEZONE
BEGIN:VEVENT
DTSTART;TZID=America/New_York:20240425T090000
DTEND;TZID=America/New_York:20240425T120000
DTSTAMP:20260423T000012
CREATED:20240228T180220Z
LAST-MODIFIED:20240301T171612Z
UID:10001043-1714035600-1714046400@wbecnydmv.org
SUMMARY:Vendor Connection Summit
DESCRIPTION:Vendor Connection Summit\n \n The Montgomery County Office of Procurement is hosting a “Vendor Connection Summit” outreach event. Meet with more than 50 prime contractors\, government agencies and local resources at this expo-style event.  \nApril 25\, 2024 from 9am – 12pm\nSilver Spring Civic Building\nOne Veterans Place\nSilver Spring\, MD 20910 \nClick here for more information. \n 
URL:https://wbecnydmv.org/event/vendor-connection-summit/
CATEGORIES:Partner Event
END:VEVENT
BEGIN:VEVENT
DTSTART;TZID=America/New_York:20240425T130000
DTEND;TZID=America/New_York:20240425T140000
DTSTAMP:20260423T000012
CREATED:20240108T165003Z
LAST-MODIFIED:20240111T192910Z
UID:10000961-1714050000-1714053600@wbecnydmv.org
SUMMARY:WBEC Metro NY And Greater DMV: I'm Certified\, Now What?
DESCRIPTION:   \n“I’m Certified\, Now What?”\nMaximizing Your WBENC Certification\nApril 25th\, 2024 | 1pm to 2pm EST | Virtual Session\n   \nWBENC Certification can be an amazing tool to help open doors and uncover business opportunities to take you from where you are to where you want to be. To fully unlock the extensive benefits of the WBENC network\, we highly encourage you to take advantage of the opportunities and resources available to you – both locally and nationally. Attend this session to learn more about the core components of our network and the steps you can take today to make the most out of your certification. Participation is recommended for all newly certified and recertified WBEs\, as well as WBEs who wants to stay up to date on what’s happening in the network.\nReserve your spot today!\n   \nRegister here:\nhttps://us02web.zoom.us/meeting/register/tZIodOytrzIoGdTSsXX77DzfPTvDKS9Xkiif \nAfter registering\, you will receive a confirmation email containing information about joining the meeting.
URL:https://wbecnydmv.org/event/wbec-metro-ny-and-greater-dmv-im-certified-now-what-6/
CATEGORIES:WBEC Metro NY and Greater DMV Events
END:VEVENT
END:VCALENDAR