BEGIN:VCALENDAR
VERSION:2.0
PRODID:-//WBEC NY DMV - ECPv6.15.18//NONSGML v1.0//EN
CALSCALE:GREGORIAN
METHOD:PUBLISH
X-ORIGINAL-URL:https://wbecnydmv.org
X-WR-CALDESC:Events for WBEC NY DMV
REFRESH-INTERVAL;VALUE=DURATION:PT1H
X-Robots-Tag:noindex
X-PUBLISHED-TTL:PT1H
BEGIN:VTIMEZONE
TZID:America/New_York
BEGIN:DAYLIGHT
TZOFFSETFROM:-0500
TZOFFSETTO:-0400
TZNAME:EDT
DTSTART:20230312T070000
END:DAYLIGHT
BEGIN:STANDARD
TZOFFSETFROM:-0400
TZOFFSETTO:-0500
TZNAME:EST
DTSTART:20231105T060000
END:STANDARD
BEGIN:DAYLIGHT
TZOFFSETFROM:-0500
TZOFFSETTO:-0400
TZNAME:EDT
DTSTART:20240310T070000
END:DAYLIGHT
BEGIN:STANDARD
TZOFFSETFROM:-0400
TZOFFSETTO:-0500
TZNAME:EST
DTSTART:20241103T060000
END:STANDARD
BEGIN:DAYLIGHT
TZOFFSETFROM:-0500
TZOFFSETTO:-0400
TZNAME:EDT
DTSTART:20250309T070000
END:DAYLIGHT
BEGIN:STANDARD
TZOFFSETFROM:-0400
TZOFFSETTO:-0500
TZNAME:EST
DTSTART:20251102T060000
END:STANDARD
END:VTIMEZONE
BEGIN:VEVENT
DTSTART;TZID=America/New_York:20240326T120000
DTEND;TZID=America/New_York:20240326T130000
DTSTAMP:20260422T223451
CREATED:20231221T171351Z
LAST-MODIFIED:20231221T171351Z
UID:10000954-1711454400-1711458000@wbecnydmv.org
SUMMARY:Lunch With the Experts: Introduction to Employment Law in D.C.\, Maryland\, and Virginia
DESCRIPTION:Lunch with the Experts: Introduction to Employment Law in D.C.\, Maryland\, and Virginia\nMarch 26th\, 2024 | 12pm to 1pm ET | Virtual Session\n  \nHow are you as an employer working to ensure you are in compliance with DMV employment laws? Employment law is a broad area ranging from discrimination and harassment to wage and hour laws. During this session\, we will cover some of the many topics that fall under employment law and some of the requirements in the DMV that employers must follow.\n  \n \nJoseph Greener\nAssociate\nJoseph Greener helps clients stay current and compliant with an ever-changing legal landscape by providing workplace training and drafting employee handbooks\, policies\, and employment agreements. He is a frequent presenter and trainer on sexual harassment\, EEO\, and IE&D. In his experience as an employment litigator\, Joe defends clients in administrative proceedings and federal court on matters involving Title VII\, ADA\, ADEA\, FMLA\, and USERRA. He also consults with clients on inclusion\, equity and diversity matters. Joe also was a law clerk for the U.S. District Court for the Eastern District of Virginia where he worked on decisions on discovery motions as well as reports and recommendations on dispositive motions. While attending law school\, he worked in both the Department of Justice’s Civil Division’s Office of Vaccine Litigation and the U.S. Court of Federal Claims Office of Special Masters. Joe served as the marketing editor of the Wake Forest Journal of Business and Intellectual Property.  \n  \n  \nRegister in advance for this meeting: \nhttps://us02web.zoom.us/meeting/register/tZcuc-6grDsuGdL9oU0BR-SNoAle57HUQsq-
URL:https://wbecnydmv.org/event/lunch-with-the-experts-introduction-to-employment-law-in-d-c-maryland-and-virginia/
CATEGORIES:Lunch with the Experts,WBEC Greater DMV Events,WBEC Metro NY Events
END:VEVENT
END:VCALENDAR