BEGIN:VCALENDAR
VERSION:2.0
PRODID:-//WBEC NY DMV - ECPv6.15.18//NONSGML v1.0//EN
CALSCALE:GREGORIAN
METHOD:PUBLISH
X-WR-CALNAME:WBEC NY DMV
X-ORIGINAL-URL:https://wbecnydmv.org
X-WR-CALDESC:Events for WBEC NY DMV
REFRESH-INTERVAL;VALUE=DURATION:PT1H
X-Robots-Tag:noindex
X-PUBLISHED-TTL:PT1H
BEGIN:VTIMEZONE
TZID:America/New_York
BEGIN:DAYLIGHT
TZOFFSETFROM:-0500
TZOFFSETTO:-0400
TZNAME:EDT
DTSTART:20230312T070000
END:DAYLIGHT
BEGIN:STANDARD
TZOFFSETFROM:-0400
TZOFFSETTO:-0500
TZNAME:EST
DTSTART:20231105T060000
END:STANDARD
BEGIN:DAYLIGHT
TZOFFSETFROM:-0500
TZOFFSETTO:-0400
TZNAME:EDT
DTSTART:20240310T070000
END:DAYLIGHT
BEGIN:STANDARD
TZOFFSETFROM:-0400
TZOFFSETTO:-0500
TZNAME:EST
DTSTART:20241103T060000
END:STANDARD
BEGIN:DAYLIGHT
TZOFFSETFROM:-0500
TZOFFSETTO:-0400
TZNAME:EDT
DTSTART:20250309T070000
END:DAYLIGHT
BEGIN:STANDARD
TZOFFSETFROM:-0400
TZOFFSETTO:-0500
TZNAME:EST
DTSTART:20251102T060000
END:STANDARD
END:VTIMEZONE
BEGIN:VEVENT
DTSTART;TZID=America/New_York:20240312T083000
DTEND;TZID=America/New_York:20240312T113000
DTSTAMP:20260422T235801
CREATED:20240220T204426Z
LAST-MODIFIED:20240220T213915Z
UID:10001039-1710232200-1710243000@wbecnydmv.org
SUMMARY:NJEDA: Show Me The Resources
DESCRIPTION:  \nNJEDA: Show Me The Resources\n \n  \nThe New Jersey Economic Development Authority (NJEDA) will host an in-person resource fair for business owners to learn about NJEDA programs and products on Tuesday\, March 12th from 8:30 am- 11:30 am at the Conference Center at Mercer County Community College\, 1200 Old Trenton Rd\, West Windsor Township\, NJ 08550. \nFeatured NJEDA programs and products include small business programs\, information on ways for businesses to engage in the state’s growing film industry\, clean energy opportunities\, and more. The New Jersey Small Business Development Center (NJSBDC) among others will also share resources that are available to business owners. \n Click here for more information.
URL:https://wbecnydmv.org/event/njeda-show-me-the-resources/
CATEGORIES:Partner Event
END:VEVENT
BEGIN:VEVENT
DTSTART;TZID=America/New_York:20240312T100000
DTEND;TZID=America/New_York:20240312T153000
DTSTAMP:20260422T235801
CREATED:20240213T155021Z
LAST-MODIFIED:20240213T164811Z
UID:10001037-1710237600-1710257400@wbecnydmv.org
SUMMARY:4th ANNUAL WOMEN’S SMALL BUSINESS TRANSPORTATION SUMMIT
DESCRIPTION:4th ANNUAL WOMEN’S SMALL BUSINESS TRANSPORTATION SUMMIT\n \n  \nThe US Department of Transportation’s Office of Small and Disadvantaged Business Utilization (OSDBU) would like to invite you to participate in the 4th ANNUAL WOMEN’S SMALL BUSINESS TRANSPORTATION SUMMIT. \nIn observance of Women’s History Month\, we invite you to join a virtual Woman-Owned Small Business and Matchmaking event on Tuesday\, March 12\, 2024\, from 10:00 AM until 3:30 PM. \nThe purpose of this virtual event is to celebrate women entrepreneurs and provide an opportunity for them to learn about technical assistance resources\, capacity building\, access to capital\, and upcoming DOT initiatives\, including Bipartisan Infrastructure Law (BIL) opportunities. Attendees will learn more about how to contract with the Department of Transportation and how we plan to increase WOSB utilization. We are expecting over 300 small businesses\, prime contractors\, and transportation stakeholders in attendance. \nThe first half of the day will include three panel sessions and the second half event will be dedicated to one-on-one business matchmaking via our Connections MarketPlace (CMP). \nClick here to register!
URL:https://wbecnydmv.org/event/4th-annual-womens-small-business-transportation-summit/
CATEGORIES:Partner Event
END:VEVENT
BEGIN:VEVENT
DTSTART;TZID=America/New_York:20240312T140000
DTEND;TZID=America/New_York:20240312T150000
DTSTAMP:20260422T235801
CREATED:20240208T184915Z
LAST-MODIFIED:20240223T160809Z
UID:10001020-1710252000-1710255600@wbecnydmv.org
SUMMARY:Maximize Your WBENC National Conference Experience
DESCRIPTION:Maximize Your WBENC National Conference Experience\n \n \nMarch 12th\, 2024 | 2pm to 3pm EST | Virtual \nWBEC Metro NY and Greater DMV is thrilled to invite you to Maximize Your WBENC National Conference Experience on March 12\, 2024\, at 2:00pm ET. \nAttend this one-hour virtual session to learn from our corporate members and seasoned WBE’s as they share their insights on how to prepare\, what to expect\, and what to do to leverage opportunities and make the most of your participation at the WBENC National Conference in Denver! \nOur esteemed panelists: \nSandra Eberhard\, President and CEO\, WBEC Metro NY and Greater DMV \nGeraldine Keogh\, 2024 WBENC Conference Host Committee Member (WBEC Metro NY)\, Owner and Founder\, Biens Chocolate \nLiz Whitehead\, 2023 WBENC Star (WBEC Greater DMV) and CEO and Founder\, 12PointFive \nJaime Hollander\, Owner & Managing Director\, RRDA \nSundari Pai \, Senior Manager – Global Supplier Diversity\, Bristol Myers Squibb \nDarlene Fuller\, Senior Director of Supplier Diversity\, Sodexo \nTrung Tieu\, Supplier Diversity Program Manager\, Wells Fargo \n  \n\n\nRegister Here!
URL:https://wbecnydmv.org/event/maximize-your-wbenc-national-conference-experience/
CATEGORIES:WBEC Metro NY and Greater DMV Events
END:VEVENT
END:VCALENDAR