BEGIN:VCALENDAR
VERSION:2.0
PRODID:-//WBEC NY DMV - ECPv6.15.18//NONSGML v1.0//EN
CALSCALE:GREGORIAN
METHOD:PUBLISH
X-ORIGINAL-URL:https://wbecnydmv.org
X-WR-CALDESC:Events for WBEC NY DMV
REFRESH-INTERVAL;VALUE=DURATION:PT1H
X-Robots-Tag:noindex
X-PUBLISHED-TTL:PT1H
BEGIN:VTIMEZONE
TZID:America/New_York
BEGIN:DAYLIGHT
TZOFFSETFROM:-0500
TZOFFSETTO:-0400
TZNAME:EDT
DTSTART:20220313T070000
END:DAYLIGHT
BEGIN:STANDARD
TZOFFSETFROM:-0400
TZOFFSETTO:-0500
TZNAME:EST
DTSTART:20221106T060000
END:STANDARD
BEGIN:DAYLIGHT
TZOFFSETFROM:-0500
TZOFFSETTO:-0400
TZNAME:EDT
DTSTART:20230312T070000
END:DAYLIGHT
BEGIN:STANDARD
TZOFFSETFROM:-0400
TZOFFSETTO:-0500
TZNAME:EST
DTSTART:20231105T060000
END:STANDARD
BEGIN:DAYLIGHT
TZOFFSETFROM:-0500
TZOFFSETTO:-0400
TZNAME:EDT
DTSTART:20240310T070000
END:DAYLIGHT
BEGIN:STANDARD
TZOFFSETFROM:-0400
TZOFFSETTO:-0500
TZNAME:EST
DTSTART:20241103T060000
END:STANDARD
END:VTIMEZONE
BEGIN:VEVENT
DTSTART;TZID=America/New_York:20231214T100000
DTEND;TZID=America/New_York:20231214T140000
DTSTAMP:20260425T100409
CREATED:20231005T160638Z
LAST-MODIFIED:20231005T160638Z
UID:10000934-1702548000-1702562400@wbecnydmv.org
SUMMARY:Supplier Diversity Industry Day: Information Technology
DESCRIPTION:Supplier Diversity Industry Day\nInformation Technology\nDate: December 14\, 2023\nTime: 10 a.m. – 2 p.m.\nLocation: 123 Main Street\, Jaguar Rm.\, White Plains\, NY\n \n   \nThe New York Power Authority (NYPA) and New York State Canal Corporation invite minority\, women\, service-disabled veteran-owned\, small/local business leaders\, and their representatives to attend Supplier Diversity Industry Day focused on Information Technology sector including commodities and services to power the transformative utility sector and reimagine the historic canal system\n   \n\nThis event will also create opportunities for attendees to:\n• participate in one-on-one networking sessions with NYPA/Canals procurement decision-makers and key contractors on major projects\n• gain information about NYPA’s Supplier Diversity Program to grow your business\n• schedule one-on-one networking sessions with NYPA/Canals procurement decision-makers and key contractors on mega projects\nFor 40 years\, our Supplier Diversity program has helped companies to grow and compete on NYPA\, State and local contract opportunities.\n   \nClick here for more information.
URL:https://wbecnydmv.org/event/supplier-diversity-industry-day-information-technology/
CATEGORIES:Partner Event,WBEC Metro NY Events
END:VEVENT
BEGIN:VEVENT
DTSTART;TZID=America/New_York:20231214T130000
DTEND;TZID=America/New_York:20231214T140000
DTSTAMP:20260425T100409
CREATED:20231013T153443Z
LAST-MODIFIED:20231013T153443Z
UID:10000946-1702558800-1702562400@wbecnydmv.org
SUMMARY:How to Get WBENC Certified
DESCRIPTION:  \nHow to Get WBENC Certified\nDecember 14th\, 2023\n1pm EST \n  \nIf you’re a 51% women-owned or operated company\, you’re just a few steps away from becoming a WBENC-Certified women’s business enterprise (WBE)!\n  \nDon’t let concerns about the process deter you! Tens of thousands of WBENC-Certified WBEs shout from the rooftops that the process is incredibly worth unlocking all of the benefits. And don’t you want a certification that PROVES you are open for business and truly 51% women owned\, managed and operated? We bet you do!\nJoin us for Part Two of our How and Why to Get WBENC Certified webinar series to learn about the certification application process and documentation needed to get WBENC certified. \n  \nRegister in Advance for this meeting:\nhttps://us02web.zoom.us/meeting/register/tZ0rde2orDosE9STClIrfLovYTqZkzu9iH_G\nThe Women’s Business Enterprise National Council’s (WBENC) mission is to fuel economic growth globally by identifying\, certifying\, and facilitating the development of women-owned businesses. They work to accomplish this by focusing on their CORE platform — Certification\, Opportunities\, Resources\, and Engagement.
URL:https://wbecnydmv.org/event/how-to-get-wbenc-certified-5/
CATEGORIES:WBEC Metro NY and Greater DMV Events
END:VEVENT
END:VCALENDAR