BEGIN:VCALENDAR
VERSION:2.0
PRODID:-//WBEC NY DMV - ECPv6.15.18//NONSGML v1.0//EN
CALSCALE:GREGORIAN
METHOD:PUBLISH
X-WR-CALNAME:WBEC NY DMV
X-ORIGINAL-URL:https://wbecnydmv.org
X-WR-CALDESC:Events for WBEC NY DMV
REFRESH-INTERVAL;VALUE=DURATION:PT1H
X-Robots-Tag:noindex
X-PUBLISHED-TTL:PT1H
BEGIN:VTIMEZONE
TZID:America/New_York
BEGIN:DAYLIGHT
TZOFFSETFROM:-0500
TZOFFSETTO:-0400
TZNAME:EDT
DTSTART:20220313T070000
END:DAYLIGHT
BEGIN:STANDARD
TZOFFSETFROM:-0400
TZOFFSETTO:-0500
TZNAME:EST
DTSTART:20221106T060000
END:STANDARD
BEGIN:DAYLIGHT
TZOFFSETFROM:-0500
TZOFFSETTO:-0400
TZNAME:EDT
DTSTART:20230312T070000
END:DAYLIGHT
BEGIN:STANDARD
TZOFFSETFROM:-0400
TZOFFSETTO:-0500
TZNAME:EST
DTSTART:20231105T060000
END:STANDARD
BEGIN:DAYLIGHT
TZOFFSETFROM:-0500
TZOFFSETTO:-0400
TZNAME:EDT
DTSTART:20240310T070000
END:DAYLIGHT
BEGIN:STANDARD
TZOFFSETFROM:-0400
TZOFFSETTO:-0500
TZNAME:EST
DTSTART:20241103T060000
END:STANDARD
END:VTIMEZONE
BEGIN:VEVENT
DTSTART;TZID=America/New_York:20230815T120000
DTEND;TZID=America/New_York:20230815T130000
DTSTAMP:20260425T100252
CREATED:20230801T162217Z
LAST-MODIFIED:20230801T194606Z
UID:10000920-1692100800-1692104400@wbecnydmv.org
SUMMARY:Lunch With the Experts: Mastering Your Pitch\, Captivate and Convince
DESCRIPTION:  \nLunch with the Experts: Mastering Your Pitch\, Captivate and Convince\n \nTuesday\, August 15th\, 2023\n12:00pm–1:00pm ET \n  \nExpand minority entrepreneur access to capital and business expertise through direct to consumer offerings and strategic partnerships. \n  \nPresenter Info\n  \n \nFelicia Brown\nSenior Advisor\, AARP  \nFelicia Brown is a Senior Advisor at AARP.  She has over 25 years of experience developing programs\, managing projects and strategic planning.  In her primary role as lead for AARP’s Entrepreneurship Initiative she provides strategic direction for national partnerships and national programming with focus on women\, communities of color and veterans.   Among her recent accomplishments are\, the creator of AARP’s Small Business Newsletter\, Meet the Founder interview series (highlighting the stories of business founders) the AARP How She Did It Podcast\, talent for the AARP Work and Jobs video series and led the creation of the Small Business Development Resource Center for the 50+ (www.smallbizrc.org).  Previously led AARP’s Financial Freedom initiative and many initiatives the strengthened members and community  \nMs. Brown is a community service advocate. She’s a current member of the Women’s Business Development Center of Richmond at Virginia Commonwealth University Advisory Committee and serves as a volunteer for Suited for Change helping women transform their lives as they re-enter the workforce.  And she’s a former member of the NCA&T National Alumni Board.  She is a recipient of the DC Alumni Association Hall of Fame (2014)\, received the Small Business Advocate Award from the Planning Suite and the Small Business Pitch Competition Judge Appreciation Award from AARP Georgia.  \nShe is an active member of the Washington\, DC Alumni Association and the NCA&T Aggie Athletic Foundation (AAF) where she has served in many leadership roles\, that include Secretary\, First and Second Vice President and Fundraising. She also served as the former Washington\, DC Alumni Association Board of Director\, Chair where she led a major property renovation. Felicia\, a Life Member of Alpha Kappa Alpha Sorority\, Inc\, is an active member of the Rho Mu Omega Chapter\, located in Washington DC.  There she led as the Family Strengthening Committee Chair\, led major fundraisers and served as a Board Member for the DC Pearls III Foundation.  \nFelicia Brown resides in Cheverly\, MD. She enjoys serving her community\, being with family and friends\, and loves to travel.  \n  \nRegister in advance for this meeting: \nhttps://us02web.zoom.us/meeting/register/tZcpceiqrTsiHdfzILd-Dtc5X6CTTfVFgvPK \n\n 
URL:https://wbecnydmv.org/event/lunch-with-the-experts-aarp-mastering-your-pitch-captivate-and-convince/
CATEGORIES:Lunch with the Experts,WBEC Greater DMV Events
END:VEVENT
END:VCALENDAR