BEGIN:VCALENDAR
VERSION:2.0
PRODID:-//WBEC NY DMV - ECPv6.15.18//NONSGML v1.0//EN
CALSCALE:GREGORIAN
METHOD:PUBLISH
X-ORIGINAL-URL:https://wbecnydmv.org/es
X-WR-CALDESC:Eventos para WBEC NY DMV
REFRESH-INTERVAL;VALUE=DURATION:PT1H
X-Robots-Tag:noindex
X-PUBLISHED-TTL:PT1H
BEGIN:VTIMEZONE
TZID:America/New_York
BEGIN:DAYLIGHT
TZOFFSETFROM:-0500
TZOFFSETTO:-0400
TZNAME:EDT
DTSTART:20250309T070000
END:DAYLIGHT
BEGIN:STANDARD
TZOFFSETFROM:-0400
TZOFFSETTO:-0500
TZNAME:EST
DTSTART:20251102T060000
END:STANDARD
BEGIN:DAYLIGHT
TZOFFSETFROM:-0500
TZOFFSETTO:-0400
TZNAME:EDT
DTSTART:20260308T070000
END:DAYLIGHT
BEGIN:STANDARD
TZOFFSETFROM:-0400
TZOFFSETTO:-0500
TZNAME:EST
DTSTART:20261101T060000
END:STANDARD
BEGIN:DAYLIGHT
TZOFFSETFROM:-0500
TZOFFSETTO:-0400
TZNAME:EDT
DTSTART:20270314T070000
END:DAYLIGHT
BEGIN:STANDARD
TZOFFSETFROM:-0400
TZOFFSETTO:-0500
TZNAME:EST
DTSTART:20271107T060000
END:STANDARD
END:VTIMEZONE
BEGIN:VEVENT
DTSTART;TZID=America/New_York:20260511T090000
DTEND;TZID=America/New_York:20260515T140000
DTSTAMP:20260419T182808
CREATED:20260304T151950Z
LAST-MODIFIED:20260330T155728Z
UID:10001290-1778490000-1778853600@wbecnydmv.org
SUMMARY:Week of WBEC
DESCRIPTION:Week of WBEC (WOW) is a brand-new week-long celebration of our thriving network of women owned businesses.  \nThroughout the week\, you can expect opportunities to gather virtually and in-person\, as well as exciting digital activations across our social channels.  \nYou will come away energized\, plugged into new resources\, and ready to take on the rest of 2026.  \nWOW will debut May 11 through May 15. Additional details coming soon.
URL:https://wbecnydmv.org/es/event/week-of-wbec/
END:VEVENT
BEGIN:VEVENT
DTSTART;TZID=America/New_York:20260513T110000
DTEND;TZID=America/New_York:20260513T120000
DTSTAMP:20260419T182808
CREATED:20260414T150636Z
LAST-MODIFIED:20260414T154753Z
UID:10001312-1778670000-1778673600@wbecnydmv.org
SUMMARY:WETalks: You Can't Scale Depleted: The Flexible Strength Blueprint for Women Who Lead with Stacy Fritz\, CEO of FIT2order
DESCRIPTION:You’re running a business\, managing a team\, and trying to hold it all together. But here’s what nobody tells you…your body is doing the same job. And if it goes down\, everything goes with it. In this WeTalks session\, Stacy Fritz\, founder of FIT2order\, will introduce the Flexible Strength Blueprint\, a simple\, stackable framework designed to live inside your workday\, not compete with it. Health isn’t something you get to when things slow down. It’s part of your strategy. \nIn this workshop\, you’ll learn: \n1. Wellness only works when it lives where you live\n2. How to inspire others to take better care of themselves\n3. How to integrate healthy habit into your sedentary work-day \nAnd you’ll walk away with: \n1. Walk away with tools that weave together into experiences that are practical\, immediate\, and genuinely surprising\n2. A new perspective when it comes to balancing health and work\n3. Good health is a business strategy \nRegister today! \nClick Here to Register\n \n \nStacy Fritz doesn’t just talk about sustainable performance. She runs it. Literally. This past February\, she crossed the finish line of her 11th marathon\, proof that you don’t have to choose between building something big and taking care of the body doing the building. \nFor more than 30 years\, Stacy has built her life’s work around the belief that movement\, neuroscience\, and human performance are inseparable. As founder and CEO of FIT2order\, a WBENC-certified corporate wellness company\, she works with businesses whose employees spend most of their day in a chair. Her approach is simple and science-backed: wellness only works when it lives where you live. At your desk. Between meetings. In the margins of a busy day. \nTo do that work well\, she’s gone deep. Stacy holds certifications in fitness\, corrective exercise\, behavior coaching\, yoga (E-RYT 500)\, breathwork\, and brain-based movement\, tools she weaves together into experiences that are practical\, immediate\, and genuinely surprising. She’s also the inventor of the vidaBALL®\, a patented breathing tool born from something deeply personal. \nA two-time WBENC Pitch Semi-Finalist\, 2024 WBEC DMV Pitch Winner\, and 2026 WBE Star\, Stacy is a Heroic Public Speaking graduate who will take the TEDx stage in Apex\, North Carolina in April 2026. \nShe won’t just inspire you to take better care of yourself. She’ll show you how\, starting today\, right where you are.
URL:https://wbecnydmv.org/es/event/wetalks-you-cant-scale-depleted-the-flexible-strength-blueprint-for-women-who-lead-with-stacy-fritz-ceo-of-fit2order/
CATEGORIES:WBEC Metro NY and Greater DMV Events
END:VEVENT
END:VCALENDAR