BEGIN:VCALENDAR
VERSION:2.0
PRODID:-//WBEC NY DMV - ECPv6.15.18//NONSGML v1.0//EN
CALSCALE:GREGORIAN
METHOD:PUBLISH
X-WR-CALNAME:WBEC NY DMV
X-ORIGINAL-URL:https://wbecnydmv.org/es
X-WR-CALDESC:Eventos para WBEC NY DMV
REFRESH-INTERVAL;VALUE=DURATION:PT1H
X-Robots-Tag:noindex
X-PUBLISHED-TTL:PT1H
BEGIN:VTIMEZONE
TZID:America/New_York
BEGIN:DAYLIGHT
TZOFFSETFROM:-0500
TZOFFSETTO:-0400
TZNAME:EDT
DTSTART:20240310T070000
END:DAYLIGHT
BEGIN:STANDARD
TZOFFSETFROM:-0400
TZOFFSETTO:-0500
TZNAME:EST
DTSTART:20241103T060000
END:STANDARD
BEGIN:DAYLIGHT
TZOFFSETFROM:-0500
TZOFFSETTO:-0400
TZNAME:EDT
DTSTART:20250309T070000
END:DAYLIGHT
BEGIN:STANDARD
TZOFFSETFROM:-0400
TZOFFSETTO:-0500
TZNAME:EST
DTSTART:20251102T060000
END:STANDARD
BEGIN:DAYLIGHT
TZOFFSETFROM:-0500
TZOFFSETTO:-0400
TZNAME:EDT
DTSTART:20260308T070000
END:DAYLIGHT
BEGIN:STANDARD
TZOFFSETFROM:-0400
TZOFFSETTO:-0500
TZNAME:EST
DTSTART:20261101T060000
END:STANDARD
END:VTIMEZONE
BEGIN:VEVENT
DTSTART;TZID=America/New_York:20250812T120000
DTEND;TZID=America/New_York:20250812T130000
DTSTAMP:20260421T012539
CREATED:20250131T205543Z
LAST-MODIFIED:20250725T145649Z
UID:10001178-1755000000-1755003600@wbecnydmv.org
SUMMARY:Lunch With the Experts: MGM Empire City Corporate Connection
DESCRIPTION:MGM Empire City Casino Corporate Connection\nTuesday\, August 12th 2025 \n12pm to 1pm EST | Virtual Session\n                 \nPresenters: \n \nTobias Thornwell is the Director of Global Business Impact at MGM Resorts International. He leads supplier inclusion strategies across regional properties\, ensuring alignment with corporate and local diversity goals. With over 12 years in procurement and supply chain management\, Tobias is a recognized advocate for business diversity and was honored with WBEC Greater DMV’s Outstanding Women’s Business Advocate Award in 2023. \n \nMohamed Hafizur is the Purchasing Manager at Empire City Casino\, MGM Yonkers\, where he oversees procurement\, vendor sourcing\, and supplier diversity. With over 40 years in hospitality and 23 years in purchasing\, he brings deep industry expertise. He holds degrees in Accounting and Economics and a C.P.D. certification from Cornell University. \n  \nJoin us for an engaging Corporate Connections session focused on supplier diversity and procurement. Learn about MGM’s Global Business Impact Program\, vendor onboarding\, procurement opportunities\, and their supplier database. This session is designed to empower WBEs with insights and connections to navigate corporate sourcing processes. \n      REGISTER HERE\n                         Don’t miss this empowering opportunity to learn\, grow\, and connect. \n  \n 
URL:https://wbecnydmv.org/es/event/lunch-with-the-experts-13/
LOCATION:Virtual
CATEGORIES:Lunch with the Experts,WBEC Metro NY Events
END:VEVENT
END:VCALENDAR