BEGIN:VCALENDAR
VERSION:2.0
PRODID:-//WBEC NY DMV - ECPv6.15.18//NONSGML v1.0//EN
CALSCALE:GREGORIAN
METHOD:PUBLISH
X-WR-CALNAME:WBEC NY DMV
X-ORIGINAL-URL:https://wbecnydmv.org/es
X-WR-CALDESC:Eventos para WBEC NY DMV
REFRESH-INTERVAL;VALUE=DURATION:PT1H
X-Robots-Tag:noindex
X-PUBLISHED-TTL:PT1H
BEGIN:VTIMEZONE
TZID:America/New_York
BEGIN:DAYLIGHT
TZOFFSETFROM:-0500
TZOFFSETTO:-0400
TZNAME:EDT
DTSTART:20240310T070000
END:DAYLIGHT
BEGIN:STANDARD
TZOFFSETFROM:-0400
TZOFFSETTO:-0500
TZNAME:EST
DTSTART:20241103T060000
END:STANDARD
BEGIN:DAYLIGHT
TZOFFSETFROM:-0500
TZOFFSETTO:-0400
TZNAME:EDT
DTSTART:20250309T070000
END:DAYLIGHT
BEGIN:STANDARD
TZOFFSETFROM:-0400
TZOFFSETTO:-0500
TZNAME:EST
DTSTART:20251102T060000
END:STANDARD
BEGIN:DAYLIGHT
TZOFFSETFROM:-0500
TZOFFSETTO:-0400
TZNAME:EDT
DTSTART:20260308T070000
END:DAYLIGHT
BEGIN:STANDARD
TZOFFSETFROM:-0400
TZOFFSETTO:-0500
TZNAME:EST
DTSTART:20261101T060000
END:STANDARD
END:VTIMEZONE
BEGIN:VEVENT
DTSTART;TZID=America/New_York:20250708T120000
DTEND;TZID=America/New_York:20250708T130000
DTSTAMP:20260421T025312
CREATED:20250131T205231Z
LAST-MODIFIED:20250131T205231Z
UID:10001177-1751976000-1751979600@wbecnydmv.org
SUMMARY:Lunch With the Experts
DESCRIPTION:Lunch with the Experts\nTuesday\, July 8th 2025 \n12pm to 1pm EST | Virtual Session\n                 \nLooking to gain valuable insights into how corporations collaborate with women entrepreneurs? Take a break from your busy schedule and join us for the Lunch with Experts (LWE) program! This twice-a-month session is designed specifically for Women Business Enterprises (WBEs) to pause their everyday business responsibilities and focus on growth. \nDuring engaging\, one-hour interactive presentations led by corporate members and industry experts\, participants will explore strategies for success\, sharpen their business skills\, and stay ahead in their industries. These sessions also provide an excellent opportunity to expand your network—connecting not only with corporate professionals but with fellow WBEs. \nMake sure to mark your calendar and save the date!  \n      More details to come soon.  \n                         Don’t miss this empowering opportunity to learn\, grow\, and connect. \n  \n 
URL:https://wbecnydmv.org/es/event/lunch-with-the-experts-12/
CATEGORIES:Lunch with the Experts,WBEC Metro NY Events
END:VEVENT
BEGIN:VEVENT
DTSTART;TZID=America/New_York:20250708T130000
DTEND;TZID=America/New_York:20250708T150000
DTSTAMP:20260421T025312
CREATED:20250219T215341Z
LAST-MODIFIED:20250430T180930Z
UID:10001209-1751979600-1751986800@wbecnydmv.org
SUMMARY:Sustainability Accelerator Module 2 Workshop 1
DESCRIPTION:Sustainability Accelerator\nModule 2 — Checking Your Sustainability Compass\nWorkshop 1 – Reinforce Materiality\, Stakeholder Identification Engagement and Global Frameworks \n \n \n \n \nJuly 8th\, 2025 | 1pm to 3pm EST | Virtual \nSustainability is a business imperative for corporate partners. \nCome join WBEC Metro NY and Greater DMV and program partners\, The Fehlig Group\, for the 2024 Sustainability Accelerator\, an accessible and actionable program to help you understand the basics and application of sustainability. \nConsisting of three modules running over nine months\, it includes four interactive Sessions and six optional drop-in clinics per module to provide expert advice on the unique needs of your business as you embed sustainability into your operation. \nMODULE 2: CHECKING YOUR SUSTAINABILITY COMPASS  \nShowcase the material issues where you have the greatest impact\, engage your stakeholders and align with global frameworks. \nIdentify the foundational policies\, practices and systems to have or put in place for sustainable best practice. \nGain the knowledge to create effective policies in critical areas of ethics and transparency\, environmental stewardship and diversity\, equity and inclusion. \nLearn valuable ways of thinking and tools to effectively organize information and measure sustainable performance \nIn Module 2: Session 1\, we will reinforce the language\, tools and resources learned in Module 1 and dive deeper into how understanding stakeholders can help WBEs develop and grow their business. \nTo get the complete program experience\, it is strongly recommended that you attend all sessions of Module 2. See more information here: Sustainability Accelerator | WBEC NY & DMV (wbecnydmv.org) \nClick to register!
URL:https://wbecnydmv.org/es/event/sustainability-accelerator-module-2-workshop-1-2/
LOCATION:Virtual
CATEGORIES:WBEC Metro NY and Greater DMV Events
END:VEVENT
END:VCALENDAR