BEGIN:VCALENDAR
VERSION:2.0
PRODID:-//WBEC NY DMV - ECPv6.15.18//NONSGML v1.0//EN
CALSCALE:GREGORIAN
METHOD:PUBLISH
X-ORIGINAL-URL:https://wbecnydmv.org/es
X-WR-CALDESC:Eventos para WBEC NY DMV
REFRESH-INTERVAL;VALUE=DURATION:PT1H
X-Robots-Tag:noindex
X-PUBLISHED-TTL:PT1H
BEGIN:VTIMEZONE
TZID:America/New_York
BEGIN:DAYLIGHT
TZOFFSETFROM:-0500
TZOFFSETTO:-0400
TZNAME:EDT
DTSTART:20230312T070000
END:DAYLIGHT
BEGIN:STANDARD
TZOFFSETFROM:-0400
TZOFFSETTO:-0500
TZNAME:EST
DTSTART:20231105T060000
END:STANDARD
BEGIN:DAYLIGHT
TZOFFSETFROM:-0500
TZOFFSETTO:-0400
TZNAME:EDT
DTSTART:20240310T070000
END:DAYLIGHT
BEGIN:STANDARD
TZOFFSETFROM:-0400
TZOFFSETTO:-0500
TZNAME:EST
DTSTART:20241103T060000
END:STANDARD
BEGIN:DAYLIGHT
TZOFFSETFROM:-0500
TZOFFSETTO:-0400
TZNAME:EDT
DTSTART:20250309T070000
END:DAYLIGHT
BEGIN:STANDARD
TZOFFSETFROM:-0400
TZOFFSETTO:-0500
TZNAME:EST
DTSTART:20251102T060000
END:STANDARD
END:VTIMEZONE
BEGIN:VEVENT
DTSTART;TZID=America/New_York:20240625T120000
DTEND;TZID=America/New_York:20240625T130000
DTSTAMP:20260422T182850
CREATED:20240312T173858Z
LAST-MODIFIED:20240315T134239Z
UID:10001051-1719316800-1719320400@wbecnydmv.org
SUMMARY:Lunch with the Experts: GSA Multiple Award Schedule – Is it Right for Your Company?
DESCRIPTION:  \nLunch with the Experts: GSA Multiple Award Schedule – Is it Right for Your Company?\nTuesday\, June 25th\, 2024\n12:00pm–1:00pm ET \n \nEver since you registered in the Schedule for Award Management (SAM) database to be able to do work with the federal government\, you’ve been receiving telemarketing by people who insist that you need a GSA Schedule – the so-called magic bullet to selling to the federal government. Is it really that valuable? Am I even eligible to bid? \nA GSA Schedule can be an important tool for selling to government buyers\, but not every business can benefit from it. Understanding what is involved in getting a GSA Schedule and what’s required to keep it long term is essential before making a proper Bid/No Bid decision. \nThis webinar is designed to achieve the following results: \n• Give you insight into the workings of the General Services Administration (GSA) Multiple Award Schedule (MAS) program;\n• Assess if you qualify for a GSA schedule given the proposal requirements;\n• Help you understand the basis of award for pricing and the future implications of the Price Reduction Clause;\n• Teach you from a compliance perspective what will be necessary to keep the contract and generate revenue if you decide to pursue;\n• Help you decide\, ultimately\, if the program is a good fit for your company and when the timing is right for pursuit.   \n \n  \nCourtney Fairchild is the co-founder and President/CEO of Global Services.  Ms. Fairchild has been with the company since it was founded in 1997 and headed up the Global Services GSA Schedule Programs division from its inception. Over the past twenty-five years she and her team have successfully prepared\, negotiated\, and managed 3000+ Schedule contracts for Global Services’ clients.  Ms. Fairchild is an authority on all GSA Schedules within the Multiple Award Schedule program and has spoken on related topics across the country. Ms. Fairchild has worked with companies ranging from multinational/multibillion-dollar publicly traded corporations to micro businesses consisting of only a few employees. \n\nClick to register!
URL:https://wbecnydmv.org/es/event/gsa-multiple-award-schedule-is-it-right-for-your-company/
CATEGORIES:Lunch with the Experts,WBEC Greater DMV Events
END:VEVENT
END:VCALENDAR